BEGIN:VCALENDAR
VERSION:2.0
PRODID:-//Nysmith School - ECPv6.9.0//NONSGML v1.0//EN
CALSCALE:GREGORIAN
METHOD:PUBLISH
X-ORIGINAL-URL:https://www.nysmith.com
X-WR-CALDESC:Events for Nysmith School
REFRESH-INTERVAL;VALUE=DURATION:PT1H
X-Robots-Tag:noindex
X-PUBLISHED-TTL:PT1H
BEGIN:VTIMEZONE
TZID:America/New_York
BEGIN:DAYLIGHT
TZOFFSETFROM:-0500
TZOFFSETTO:-0400
TZNAME:EDT
DTSTART:20240310T070000
END:DAYLIGHT
BEGIN:STANDARD
TZOFFSETFROM:-0400
TZOFFSETTO:-0500
TZNAME:EST
DTSTART:20241103T060000
END:STANDARD
END:VTIMEZONE
BEGIN:VEVENT
DTSTART;VALUE=DATE:20240608
DTEND;VALUE=DATE:20240609
DTSTAMP:20260421T205134
CREATED:20240521T175347Z
LAST-MODIFIED:20240608T150238Z
UID:41024-1717804800-1717891199@www.nysmith.com
SUMMARY:Coffee and Cars
DESCRIPTION:
URL:https://www.nysmith.com/event/coffee-and-cars-2/
LOCATION:Nysmith School\, 13625 EDS Dr\, Herndon\, VA 20171\, USA
END:VEVENT
BEGIN:VEVENT
DTSTART;VALUE=DATE:20240608
DTEND;VALUE=DATE:20240609
DTSTAMP:20260421T205134
CREATED:20240521T175347Z
LAST-MODIFIED:20240608T150237Z
UID:41025-1717804800-1717891199@www.nysmith.com
SUMMARY:5th gr Meet Up 5pm
DESCRIPTION:
URL:https://www.nysmith.com/event/5th-gr-meet-up-5pm/
LOCATION:Nysmith School\, 13625 EDS Dr\, Herndon\, VA 20171\, USA
CATEGORIES:5th Grade
END:VEVENT
BEGIN:VEVENT
DTSTART;VALUE=DATE:20240605
DTEND;VALUE=DATE:20240606
DTSTAMP:20260421T205134
CREATED:20240521T175346Z
LAST-MODIFIED:20240603T145004Z
UID:41022-1717545600-1717631999@www.nysmith.com
SUMMARY:Graduate Performance Night 7pm
DESCRIPTION:
URL:https://www.nysmith.com/event/graduate-performance-night-7pm-2/
LOCATION:Nysmith School\, 13625 EDS Dr\, Herndon\, VA 20171\, USA
CATEGORIES:8th Grade
END:VEVENT
BEGIN:VEVENT
DTSTART;VALUE=DATE:20240605
DTEND;VALUE=DATE:20240606
DTSTAMP:20260421T205134
CREATED:20240521T175346Z
LAST-MODIFIED:20240605T150423Z
UID:41023-1717545600-1717631999@www.nysmith.com
SUMMARY:Graduation Rehearsal/Pictures 9:30-12:00
DESCRIPTION:
URL:https://www.nysmith.com/event/graduation-rehearsal-pictures-930-1200/
LOCATION:Nysmith School\, 13625 EDS Dr\, Herndon\, VA 20171\, USA
CATEGORIES:8th Grade
END:VEVENT
BEGIN:VEVENT
DTSTART;VALUE=DATE:20240605
DTEND;VALUE=DATE:20240606
DTSTAMP:20260421T205134
CREATED:20240510T121747Z
LAST-MODIFIED:20240605T150423Z
UID:40996-1717545600-1717631999@www.nysmith.com
SUMMARY:PreKindergarten Field Trip
DESCRIPTION:
URL:https://www.nysmith.com/event/prekindergarten-field-trip-2/
LOCATION:Nysmith School\, 13625 EDS Dr\, Herndon\, VA 20171\, USA
CATEGORIES:Pre-Kindergarten
END:VEVENT
BEGIN:VEVENT
DTSTART;VALUE=DATE:20240604
DTEND;VALUE=DATE:20240605
DTSTAMP:20260421T205134
CREATED:20240506T184310Z
LAST-MODIFIED:20240604T144817Z
UID:40986-1717459200-1717545599@www.nysmith.com
SUMMARY:1B and 1C Field Trip
DESCRIPTION:
URL:https://www.nysmith.com/event/1b-and-1c-field-trip/
LOCATION:Nysmith School\, 13625 EDS Dr\, Herndon\, VA 20171\, USA
CATEGORIES:1st grade
END:VEVENT
BEGIN:VEVENT
DTSTART;VALUE=DATE:20240603
DTEND;VALUE=DATE:20240604
DTSTAMP:20260421T205134
CREATED:20240506T184309Z
LAST-MODIFIED:20240603T145003Z
UID:40985-1717372800-1717459199@www.nysmith.com
SUMMARY:1A and 1D Field Trip
DESCRIPTION:
URL:https://www.nysmith.com/event/1a-and-1d-field-trip/
LOCATION:Nysmith School\, 13625 EDS Dr\, Herndon\, VA 20171\, USA
CATEGORIES:1st grade
END:VEVENT
BEGIN:VEVENT
DTSTART;VALUE=DATE:20240528
DTEND;VALUE=DATE:20240529
DTSTAMP:20260421T205134
CREATED:20240515T123504Z
LAST-MODIFIED:20240528T183311Z
UID:41003-1716854400-1716940799@www.nysmith.com
SUMMARY:Dance & Musical Theater Showcase (Oran's clubs) 4-5pm
DESCRIPTION:
URL:https://www.nysmith.com/event/dance-musical-theater-showcase-orans-clubs-4-5pm/
LOCATION:Nysmith School\, 13625 EDS Dr\, Herndon\, VA 20171\, USA
END:VEVENT
BEGIN:VEVENT
DTSTART;VALUE=DATE:20240522
DTEND;VALUE=DATE:20240523
DTSTAMP:20260421T205134
CREATED:20240506T184306Z
LAST-MODIFIED:20240522T180232Z
UID:40984-1716336000-1716422399@www.nysmith.com
SUMMARY:PreK Field Trip
DESCRIPTION:
URL:https://www.nysmith.com/event/prek-field-trip-3/
LOCATION:Nysmith School\, 13625 EDS Dr\, Herndon\, VA 20171\, USA
CATEGORIES:Pre-Kindergarten
END:VEVENT
BEGIN:VEVENT
DTSTART;VALUE=DATE:20240517
DTEND;VALUE=DATE:20240518
DTSTAMP:20260421T205134
CREATED:20230906T222954Z
LAST-MODIFIED:20240517T124801Z
UID:39497-1715904000-1715990399@www.nysmith.com
SUMMARY:PTO Helping Hands 8-10:30
DESCRIPTION:
URL:https://www.nysmith.com/event/pto-helping-hands-8-1030-6/
LOCATION:Nysmith School\, 13625 EDS Dr\, Herndon\, VA 20171\, USA
END:VEVENT
BEGIN:VEVENT
DTSTART;TZID=America/New_York:20240424T143000
DTEND;TZID=America/New_York:20240424T150000
DTSTAMP:20260421T205134
CREATED:20240424T183230Z
LAST-MODIFIED:20240424T183230Z
UID:40970-1713969000-1713970800@www.nysmith.com
SUMMARY:Coffee and Cars
DESCRIPTION:
URL:https://www.nysmith.com/event/coffee-and-cars/
LOCATION:Nysmith School\, 13625 EDS Dr\, Herndon\, VA 20171\, USA
END:VEVENT
END:VCALENDAR