BEGIN:VCALENDAR
VERSION:2.0
PRODID:-//Nysmith School - ECPv6.9.0//NONSGML v1.0//EN
CALSCALE:GREGORIAN
METHOD:PUBLISH
X-WR-CALNAME:Nysmith School
X-ORIGINAL-URL:https://www.nysmith.com
X-WR-CALDESC:Events for Nysmith School
REFRESH-INTERVAL;VALUE=DURATION:PT1H
X-Robots-Tag:noindex
X-PUBLISHED-TTL:PT1H
BEGIN:VTIMEZONE
TZID:America/New_York
BEGIN:DAYLIGHT
TZOFFSETFROM:-0500
TZOFFSETTO:-0400
TZNAME:EDT
DTSTART:20240310T070000
END:DAYLIGHT
BEGIN:STANDARD
TZOFFSETFROM:-0400
TZOFFSETTO:-0500
TZNAME:EST
DTSTART:20241103T060000
END:STANDARD
END:VTIMEZONE
BEGIN:VEVENT
DTSTART;VALUE=DATE:20241023
DTEND;VALUE=DATE:20241024
DTSTAMP:20260425T235107
CREATED:20240924T180335Z
LAST-MODIFIED:20241023T163249Z
UID:41696-1729641600-1729727999@www.nysmith.com
SUMMARY:Fall Book Fair
DESCRIPTION:
URL:https://www.nysmith.com/event/fall-book-fair-15/
LOCATION:13625 EDS Dr\, Herndon\, VA\, United States
GEO:38.92518;-77.39284
END:VEVENT
BEGIN:VEVENT
DTSTART;VALUE=DATE:20241023
DTEND;VALUE=DATE:20241024
DTSTAMP:20260425T235107
CREATED:20240912T153027Z
LAST-MODIFIED:20241023T163249Z
UID:41599-1729641600-1729727999@www.nysmith.com
SUMMARY:K-8 Morning Fun Run 7:30am
DESCRIPTION:
URL:https://www.nysmith.com/event/k-8-morning-fun-run-730am-3/
LOCATION:13625 EDS Dr\, Herndon\, VA\, United States
GEO:38.92518;-77.39284
END:VEVENT
BEGIN:VEVENT
DTSTART;VALUE=DATE:20241022
DTEND;VALUE=DATE:20241023
DTSTAMP:20260425T235107
CREATED:20240927T173546Z
LAST-MODIFIED:20241022T163258Z
UID:41749-1729555200-1729641599@www.nysmith.com
SUMMARY:Sock-tober Sock Collection
DESCRIPTION:
URL:https://www.nysmith.com/event/sock-tober-sock-collection-15/
LOCATION:13625 EDS Dr\, Herndon\, VA\, United States
GEO:38.92518;-77.39284
END:VEVENT
BEGIN:VEVENT
DTSTART;VALUE=DATE:20241022
DTEND;VALUE=DATE:20241023
DTSTAMP:20260425T235107
CREATED:20240924T180330Z
LAST-MODIFIED:20241022T163256Z
UID:41692-1729555200-1729641599@www.nysmith.com
SUMMARY:Fall Book Fair
DESCRIPTION:
URL:https://www.nysmith.com/event/fall-book-fair-11/
LOCATION:13625 EDS Dr\, Herndon\, VA\, United States
GEO:38.92518;-77.39284
END:VEVENT
BEGIN:VEVENT
DTSTART;VALUE=DATE:20241022
DTEND;VALUE=DATE:20241023
DTSTAMP:20260425T235107
CREATED:20240916T161629Z
LAST-MODIFIED:20241022T163258Z
UID:41636-1729555200-1729641599@www.nysmith.com
SUMMARY:Kindergarten Field Trip
DESCRIPTION:
URL:https://www.nysmith.com/event/kindergarten-field-trip-12/
LOCATION:13625 EDS Dr\, Herndon\, VA\, United States
CATEGORIES:Kindergarten
GEO:38.92518;-77.39284
END:VEVENT
BEGIN:VEVENT
DTSTART;VALUE=DATE:20241021
DTEND;VALUE=DATE:20241022
DTSTAMP:20260425T235107
CREATED:20240927T173545Z
LAST-MODIFIED:20241021T163321Z
UID:41748-1729468800-1729555199@www.nysmith.com
SUMMARY:Sock-tober Sock Collection
DESCRIPTION:
URL:https://www.nysmith.com/event/sock-tober-sock-collection-14/
LOCATION:13625 EDS Dr\, Herndon\, VA\, United States
GEO:38.92518;-77.39284
END:VEVENT
BEGIN:VEVENT
DTSTART;VALUE=DATE:20241021
DTEND;VALUE=DATE:20241022
DTSTAMP:20260425T235107
CREATED:20240924T180332Z
LAST-MODIFIED:20241021T163321Z
UID:41693-1729468800-1729555199@www.nysmith.com
SUMMARY:Fall Book Fair
DESCRIPTION:
URL:https://www.nysmith.com/event/fall-book-fair-12/
LOCATION:13625 EDS Dr\, Herndon\, VA\, United States
GEO:38.92518;-77.39284
END:VEVENT
BEGIN:VEVENT
DTSTART;VALUE=DATE:20241019
DTEND;VALUE=DATE:20241020
DTSTAMP:20260425T235107
CREATED:20240927T173545Z
LAST-MODIFIED:20241019T163232Z
UID:41747-1729296000-1729382399@www.nysmith.com
SUMMARY:1st gr Meet Up 11:30am - 1:30pm
DESCRIPTION:
URL:https://www.nysmith.com/event/1st-gr-meet-up-1130am-130pm/
LOCATION:13625 EDS Dr\, Herndon\, VA\, United States
CATEGORIES:1st grade
GEO:38.92518;-77.39284
END:VEVENT
BEGIN:VEVENT
DTSTART;VALUE=DATE:20241018
DTEND;VALUE=DATE:20241019
DTSTAMP:20260425T235107
CREATED:20240927T173545Z
LAST-MODIFIED:20241018T163226Z
UID:41746-1729209600-1729295999@www.nysmith.com
SUMMARY:Sock-tober Sock Collection
DESCRIPTION:
URL:https://www.nysmith.com/event/sock-tober-sock-collection-13/
LOCATION:13625 EDS Dr\, Herndon\, VA\, United States
GEO:38.92518;-77.39284
END:VEVENT
BEGIN:VEVENT
DTSTART;VALUE=DATE:20241018
DTEND;VALUE=DATE:20241019
DTSTAMP:20260425T235107
CREATED:20240916T152149Z
LAST-MODIFIED:20241018T163226Z
UID:41633-1729209600-1729295999@www.nysmith.com
SUMMARY:2nd gr Field Trip
DESCRIPTION:
URL:https://www.nysmith.com/event/2nd-gr-field-trip-3/
LOCATION:13625 EDS Dr\, Herndon\, VA\, United States
CATEGORIES:2nd Grade
GEO:38.92518;-77.39284
END:VEVENT
BEGIN:VEVENT
DTSTART;VALUE=DATE:20241017
DTEND;VALUE=DATE:20241018
DTSTAMP:20260425T235107
CREATED:20240927T173544Z
LAST-MODIFIED:20241017T163250Z
UID:41743-1729123200-1729209599@www.nysmith.com
SUMMARY:Sock-tober Sock Collection
DESCRIPTION:
URL:https://www.nysmith.com/event/sock-tober-sock-collection-10/
LOCATION:13625 EDS Dr\, Herndon\, VA\, United States
GEO:38.92518;-77.39284
END:VEVENT
BEGIN:VEVENT
DTSTART;VALUE=DATE:20241016
DTEND;VALUE=DATE:20241017
DTSTAMP:20260425T235107
CREATED:20240927T173544Z
LAST-MODIFIED:20241016T161754Z
UID:41744-1729036800-1729123199@www.nysmith.com
SUMMARY:Sock-tober Sock Collection
DESCRIPTION:
URL:https://www.nysmith.com/event/sock-tober-sock-collection-11/
LOCATION:13625 EDS Dr\, Herndon\, VA\, United States
GEO:38.92518;-77.39284
END:VEVENT
BEGIN:VEVENT
DTSTART;VALUE=DATE:20241016
DTEND;VALUE=DATE:20241017
DTSTAMP:20260425T235107
CREATED:20240912T191154Z
LAST-MODIFIED:20241016T161754Z
UID:41619-1729036800-1729123199@www.nysmith.com
SUMMARY:Special Olympics
DESCRIPTION:
URL:https://www.nysmith.com/event/special-olympics-3/
LOCATION:13625 EDS Dr\, Herndon\, VA\, United States
CATEGORIES:1st grade,2nd Grade,3rd Grade,4th Grade,5th Grade,6th Grade,7th Grade,8th Grade,Beginners,Kindergarten,Pre-Kindergarten
GEO:38.92518;-77.39284
END:VEVENT
BEGIN:VEVENT
DTSTART;VALUE=DATE:20241015
DTEND;VALUE=DATE:20241016
DTSTAMP:20260425T235107
CREATED:20241015T161731Z
LAST-MODIFIED:20241015T161731Z
UID:41827-1728950400-1729036799@www.nysmith.com
SUMMARY:PTO Meeting 8:30
DESCRIPTION:
URL:https://www.nysmith.com/event/pto-meeting-830-2/
LOCATION:13625 EDS Dr\, Herndon\, VA\, United States
GEO:38.92518;-77.39284
END:VEVENT
BEGIN:VEVENT
DTSTART;VALUE=DATE:20241015
DTEND;VALUE=DATE:20241016
DTSTAMP:20260425T235107
CREATED:20240927T173544Z
LAST-MODIFIED:20241015T161733Z
UID:41745-1728950400-1729036799@www.nysmith.com
SUMMARY:Sock-tober Sock Collection
DESCRIPTION:
URL:https://www.nysmith.com/event/sock-tober-sock-collection-12/
LOCATION:13625 EDS Dr\, Herndon\, VA\, United States
GEO:38.92518;-77.39284
END:VEVENT
BEGIN:VEVENT
DTSTART;VALUE=DATE:20241014
DTEND;VALUE=DATE:20241015
DTSTAMP:20260425T235107
CREATED:20240927T173543Z
LAST-MODIFIED:20241014T183246Z
UID:41742-1728864000-1728950399@www.nysmith.com
SUMMARY:Sock-tober Sock Collection
DESCRIPTION:
URL:https://www.nysmith.com/event/sock-tober-sock-collection-9/
LOCATION:13625 EDS Dr\, Herndon\, VA\, United States
GEO:38.92518;-77.39284
END:VEVENT
BEGIN:VEVENT
DTSTART;VALUE=DATE:20241011
DTEND;VALUE=DATE:20241012
DTSTAMP:20260425T235107
CREATED:20240927T173543Z
LAST-MODIFIED:20241011T183308Z
UID:41740-1728604800-1728691199@www.nysmith.com
SUMMARY:Sock-tober Sock Collection
DESCRIPTION:
URL:https://www.nysmith.com/event/sock-tober-sock-collection-7/
LOCATION:13625 EDS Dr\, Herndon\, VA\, United States
GEO:38.92518;-77.39284
END:VEVENT
BEGIN:VEVENT
DTSTART;VALUE=DATE:20241011
DTEND;VALUE=DATE:20241012
DTSTAMP:20260425T235107
CREATED:20240925T181733Z
LAST-MODIFIED:20241011T183308Z
UID:41717-1728604800-1728691199@www.nysmith.com
SUMMARY:Rock the Red Theme Day
DESCRIPTION:
URL:https://www.nysmith.com/event/rock-the-red-theme-day/
LOCATION:13625 EDS Dr\, Herndon\, VA\, United States
GEO:38.92518;-77.39284
END:VEVENT
BEGIN:VEVENT
DTSTART;VALUE=DATE:20241010
DTEND;VALUE=DATE:20241011
DTSTAMP:20260425T235107
CREATED:20240927T173543Z
LAST-MODIFIED:20241010T183230Z
UID:41741-1728518400-1728604799@www.nysmith.com
SUMMARY:Sock-tober Sock Collection
DESCRIPTION:
URL:https://www.nysmith.com/event/sock-tober-sock-collection-8/
LOCATION:13625 EDS Dr\, Herndon\, VA\, United States
GEO:38.92518;-77.39284
END:VEVENT
BEGIN:VEVENT
DTSTART;VALUE=DATE:20241009
DTEND;VALUE=DATE:20241010
DTSTAMP:20260425T235107
CREATED:20240927T173540Z
LAST-MODIFIED:20241009T183229Z
UID:41737-1728432000-1728518399@www.nysmith.com
SUMMARY:Sock-tober Sock Collection
DESCRIPTION:
URL:https://www.nysmith.com/event/sock-tober-sock-collection-4/
LOCATION:13625 EDS Dr\, Herndon\, VA\, United States
GEO:38.92518;-77.39284
END:VEVENT
BEGIN:VEVENT
DTSTART;VALUE=DATE:20241009
DTEND;VALUE=DATE:20241010
DTSTAMP:20260425T235107
CREATED:20240912T153025Z
LAST-MODIFIED:20241009T183229Z
UID:41598-1728432000-1728518399@www.nysmith.com
SUMMARY:K-8 Morning Fun Run 7:30am
DESCRIPTION:
URL:https://www.nysmith.com/event/k-8-morning-fun-run-730am-2/
LOCATION:13625 EDS Dr\, Herndon\, VA\, United States
CATEGORIES:1st grade,2nd Grade,3rd Grade,4th Grade,5th Grade,6th Grade,7th Grade,8th Grade,Kindergarten
GEO:38.92518;-77.39284
END:VEVENT
BEGIN:VEVENT
DTSTART;VALUE=DATE:20241008
DTEND;VALUE=DATE:20241009
DTSTAMP:20260425T235107
CREATED:20240927T173542Z
LAST-MODIFIED:20241008T183237Z
UID:41738-1728345600-1728431999@www.nysmith.com
SUMMARY:Sock-tober Sock Collection
DESCRIPTION:
URL:https://www.nysmith.com/event/sock-tober-sock-collection-5/
LOCATION:13625 EDS Dr\, Herndon\, VA\, United States
GEO:38.92518;-77.39284
END:VEVENT
BEGIN:VEVENT
DTSTART;VALUE=DATE:20241008
DTEND;VALUE=DATE:20241009
DTSTAMP:20260425T235107
CREATED:20240924T180325Z
LAST-MODIFIED:20241008T183236Z
UID:41691-1728345600-1728431999@www.nysmith.com
SUMMARY:8th gr Field Trip
DESCRIPTION:
URL:https://www.nysmith.com/event/8th-gr-field-trip-2/
LOCATION:13625 EDS Dr\, Herndon\, VA\, United States
CATEGORIES:8th Grade
GEO:38.92518;-77.39284
END:VEVENT
BEGIN:VEVENT
DTSTART;VALUE=DATE:20241008
DTEND;VALUE=DATE:20241009
DTSTAMP:20260425T235107
CREATED:20240907T140302Z
LAST-MODIFIED:20241008T183236Z
UID:41576-1728345600-1728431999@www.nysmith.com
SUMMARY:Coffee with Ken 8:30am
DESCRIPTION:
URL:https://www.nysmith.com/event/coffee-with-ken-830am/
LOCATION:13625 EDS Dr\, Herndon\, VA\, United States
GEO:38.92518;-77.39284
END:VEVENT
BEGIN:VEVENT
DTSTART;VALUE=DATE:20241007
DTEND;VALUE=DATE:20241008
DTSTAMP:20260425T235107
CREATED:20240927T173542Z
LAST-MODIFIED:20241007T182626Z
UID:41739-1728259200-1728345599@www.nysmith.com
SUMMARY:Sock-tober Sock Collection
DESCRIPTION:
URL:https://www.nysmith.com/event/sock-tober-sock-collection-6/
LOCATION:13625 EDS Dr\, Herndon\, VA\, United States
GEO:38.92518;-77.39284
END:VEVENT
BEGIN:VEVENT
DTSTART;VALUE=DATE:20241006
DTEND;VALUE=DATE:20241007
DTSTAMP:20260425T235107
CREATED:20240924T123304Z
LAST-MODIFIED:20241006T151735Z
UID:41688-1728172800-1728259199@www.nysmith.com
SUMMARY:PreK Meet Up 1-3pm
DESCRIPTION:
URL:https://www.nysmith.com/event/prek-meet-up-1-3pm/
LOCATION:13625 EDS Dr\, Herndon\, VA\, United States
CATEGORIES:Pre-Kindergarten
GEO:38.92518;-77.39284
END:VEVENT
BEGIN:VEVENT
DTSTART;VALUE=DATE:20241004
DTEND;VALUE=DATE:20241005
DTSTAMP:20260425T235107
CREATED:20240927T173533Z
LAST-MODIFIED:20241004T150355Z
UID:41734-1728000000-1728086399@www.nysmith.com
SUMMARY:Sock-tober Sock Collection
DESCRIPTION:
URL:https://www.nysmith.com/event/sock-tober-sock-collection/
LOCATION:13625 EDS Dr\, Herndon\, VA\, United States
GEO:38.92518;-77.39284
END:VEVENT
BEGIN:VEVENT
DTSTART;VALUE=DATE:20241004
DTEND;VALUE=DATE:20241005
DTSTAMP:20260425T235107
CREATED:20240905T135519Z
LAST-MODIFIED:20241004T150355Z
UID:41561-1728000000-1728086399@www.nysmith.com
SUMMARY:Upper School 4th-8th Fall Pictures
DESCRIPTION:
URL:https://www.nysmith.com/event/upper-school-4th-8th-fall-pictures/
LOCATION:13625 EDS Dr\, Herndon\, VA\, United States
CATEGORIES:4th Grade,5th Grade,6th Grade,7th Grade,8th Grade
GEO:38.92518;-77.39284
END:VEVENT
BEGIN:VEVENT
DTSTART;VALUE=DATE:20241003
DTEND;VALUE=DATE:20241004
DTSTAMP:20260425T235107
CREATED:20240927T173535Z
LAST-MODIFIED:20241003T150515Z
UID:41735-1727913600-1727999999@www.nysmith.com
SUMMARY:Sock-tober Sock Collection
DESCRIPTION:
URL:https://www.nysmith.com/event/sock-tober-sock-collection-2/
LOCATION:13625 EDS Dr\, Herndon\, VA\, United States
GEO:38.92518;-77.39284
END:VEVENT
BEGIN:VEVENT
DTSTART;VALUE=DATE:20241003
DTEND;VALUE=DATE:20241004
DTSTAMP:20260425T235107
CREATED:20240916T144359Z
LAST-MODIFIED:20241003T150514Z
UID:41629-1727913600-1727999999@www.nysmith.com
SUMMARY:7th gr Field Trip
DESCRIPTION:
URL:https://www.nysmith.com/event/7th-gr-field-trip-3/
LOCATION:13625 EDS Dr\, Herndon\, VA\, United States
CATEGORIES:7th Grade
GEO:38.92518;-77.39284
END:VEVENT
BEGIN:VEVENT
DTSTART;VALUE=DATE:20241003
DTEND;VALUE=DATE:20241004
DTSTAMP:20260425T235107
CREATED:20240905T135519Z
LAST-MODIFIED:20241003T150514Z
UID:41560-1727913600-1727999999@www.nysmith.com
SUMMARY:Lower School Beg-3rd Fall Pictures
DESCRIPTION:
URL:https://www.nysmith.com/event/lower-school-beg-3rd-fall-pictures/
LOCATION:13625 EDS Dr\, Herndon\, VA\, United States
CATEGORIES:1st grade,2nd Grade,3rd Grade,Beginners,Kindergarten,Pre-Kindergarten
GEO:38.92518;-77.39284
END:VEVENT
BEGIN:VEVENT
DTSTART;VALUE=DATE:20241002
DTEND;VALUE=DATE:20241003
DTSTAMP:20260425T235107
CREATED:20240927T173538Z
LAST-MODIFIED:20241002T174725Z
UID:41736-1727827200-1727913599@www.nysmith.com
SUMMARY:Sock-tober Sock Collection
DESCRIPTION:
URL:https://www.nysmith.com/event/sock-tober-sock-collection-3/
LOCATION:13625 EDS Dr\, Herndon\, VA\, United States
GEO:38.92518;-77.39284
END:VEVENT
BEGIN:VEVENT
DTSTART;VALUE=DATE:20241001
DTEND;VALUE=DATE:20241002
DTSTAMP:20260425T235107
CREATED:20240912T191149Z
LAST-MODIFIED:20241001T174731Z
UID:41618-1727740800-1727827199@www.nysmith.com
SUMMARY:High School Fair
DESCRIPTION:
URL:https://www.nysmith.com/event/high-school-fair/
LOCATION:13625 EDS Dr\, Herndon\, VA\, United States
CATEGORIES:6th Grade,7th Grade,8th Grade
GEO:38.92518;-77.39284
END:VEVENT
BEGIN:VEVENT
DTSTART;VALUE=DATE:20240927
DTEND;VALUE=DATE:20240928
DTSTAMP:20260425T235107
CREATED:20240829T180123Z
LAST-MODIFIED:20240927T173533Z
UID:41510-1727395200-1727481599@www.nysmith.com
SUMMARY:SCA Dance Grades 6th 7th 8th 7-9pm
DESCRIPTION:
URL:https://www.nysmith.com/event/sca-dance-grades-6th-7th-8th-7-9pm/
LOCATION:13625 EDS Dr\, Herndon\, VA\, United States
CATEGORIES:6th Grade,7th Grade,8th Grade
GEO:38.92518;-77.39284
END:VEVENT
BEGIN:VEVENT
DTSTART;VALUE=DATE:20240926
DTEND;VALUE=DATE:20240927
DTSTAMP:20260425T235107
CREATED:20240919T161720Z
LAST-MODIFIED:20240926T181725Z
UID:41673-1727308800-1727395199@www.nysmith.com
SUMMARY:Parent Education 8:30am
DESCRIPTION:
URL:https://www.nysmith.com/event/parent-education-830am/
LOCATION:13625 EDS Dr\, Herndon\, VA\, United States
GEO:38.92518;-77.39284
END:VEVENT
BEGIN:VEVENT
DTSTART;VALUE=DATE:20240926
DTEND;VALUE=DATE:20240927
DTSTAMP:20260425T235107
CREATED:20240829T180123Z
LAST-MODIFIED:20240926T181725Z
UID:41509-1727308800-1727395199@www.nysmith.com
SUMMARY:Back to School Night 4th-8th 6:30-7:30
DESCRIPTION:
URL:https://www.nysmith.com/event/back-to-school-night-4th-8th-630-730/
LOCATION:13625 EDS Dr\, Herndon\, VA\, United States
CATEGORIES:4th Grade,5th Grade,6th Grade,7th Grade,8th Grade
GEO:38.92518;-77.39284
END:VEVENT
BEGIN:VEVENT
DTSTART;VALUE=DATE:20240925
DTEND;VALUE=DATE:20240926
DTSTAMP:20260425T235107
CREATED:20240829T180120Z
LAST-MODIFIED:20240925T181729Z
UID:41506-1727222400-1727308799@www.nysmith.com
SUMMARY:Dad Squad 8:30am
DESCRIPTION:
URL:https://www.nysmith.com/event/dad-squad-830am/
LOCATION:13625 EDS Dr\, Herndon\, VA\, United States
GEO:38.92518;-77.39284
END:VEVENT
BEGIN:VEVENT
DTSTART;VALUE=DATE:20240923
DTEND;VALUE=DATE:20240924
DTSTAMP:20260425T235107
CREATED:20240912T153022Z
LAST-MODIFIED:20240923T143558Z
UID:41597-1727049600-1727135999@www.nysmith.com
SUMMARY:K-8 Morning Fun Run 7:30am
DESCRIPTION:
URL:https://www.nysmith.com/event/k-8-morning-fun-run-730am/
LOCATION:13625 EDS Dr\, Herndon\, VA\, United States
CATEGORIES:1st grade,2nd Grade,3rd Grade,4th Grade,5th Grade,6th Grade,7th Grade,8th Grade,Kindergarten
GEO:38.92518;-77.39284
END:VEVENT
BEGIN:VEVENT
DTSTART;VALUE=DATE:20240923
DTEND;VALUE=DATE:20240924
DTSTAMP:20260425T235107
CREATED:20240905T135514Z
LAST-MODIFIED:20240923T143558Z
UID:41558-1727049600-1727135999@www.nysmith.com
SUMMARY:8th gr Parent Q&A 8:30-10
DESCRIPTION:
URL:https://www.nysmith.com/event/8th-gr-parent-qa-830-10/
LOCATION:13625 EDS Dr\, Herndon\, VA\, United States
GEO:38.92518;-77.39284
END:VEVENT
BEGIN:VEVENT
DTSTART;VALUE=DATE:20240921
DTEND;VALUE=DATE:20240922
DTSTAMP:20260425T235107
CREATED:20240814T191043Z
LAST-MODIFIED:20240921T161758Z
UID:41436-1726876800-1726963199@www.nysmith.com
SUMMARY:Saturday Social 1-3pm
DESCRIPTION:
URL:https://www.nysmith.com/event/saturday-social/
LOCATION:13625 EDS Dr\, Herndon\, VA\, United States
GEO:38.92518;-77.39284
END:VEVENT
BEGIN:VEVENT
DTSTART;VALUE=DATE:20240919
DTEND;VALUE=DATE:20240920
DTSTAMP:20260425T235107
CREATED:20240912T141802Z
LAST-MODIFIED:20240919T161719Z
UID:41594-1726704000-1726790399@www.nysmith.com
SUMMARY:Talk Like a Pirate Theme Day!
DESCRIPTION:
URL:https://www.nysmith.com/event/talk-like-a-pirate-theme-day/
LOCATION:13625 EDS Dr\, Herndon\, VA\, United States
GEO:38.92518;-77.39284
END:VEVENT
BEGIN:VEVENT
DTSTART;VALUE=DATE:20240919
DTEND;VALUE=DATE:20240920
DTSTAMP:20260425T235107
CREATED:20240829T180123Z
LAST-MODIFIED:20240919T161718Z
UID:41508-1726704000-1726790399@www.nysmith.com
SUMMARY:Back to School Night K-3rd 6:30-7:30
DESCRIPTION:
URL:https://www.nysmith.com/event/back-to-school-night-k-3rd-630-730/
LOCATION:13625 EDS Dr\, Herndon\, VA\, United States
CATEGORIES:1st grade,2nd Grade,3rd Grade,Kindergarten
GEO:38.92518;-77.39284
END:VEVENT
BEGIN:VEVENT
DTSTART;VALUE=DATE:20240917
DTEND;VALUE=DATE:20240918
DTSTAMP:20260425T235107
CREATED:20240829T180122Z
LAST-MODIFIED:20240917T161808Z
UID:41507-1726531200-1726617599@www.nysmith.com
SUMMARY:PTO Meeting 8:30am
DESCRIPTION:
URL:https://www.nysmith.com/event/pto-meeting-830am-8/
LOCATION:13625 EDS Dr\, Herndon\, VA\, United States
GEO:38.92518;-77.39284
END:VEVENT
BEGIN:VEVENT
DTSTART;VALUE=DATE:20240912
DTEND;VALUE=DATE:20240913
DTSTAMP:20260425T235107
CREATED:20240903T171941Z
LAST-MODIFIED:20240912T191147Z
UID:41533-1726099200-1726185599@www.nysmith.com
SUMMARY:Helping Hands
DESCRIPTION:
URL:https://www.nysmith.com/event/helping-hands/
LOCATION:13625 EDS Dr\, Herndon\, VA\, United States
GEO:38.92518;-77.39284
END:VEVENT
BEGIN:VEVENT
DTSTART;VALUE=DATE:20240906
DTEND;VALUE=DATE:20240907
DTSTAMP:20260425T235107
CREATED:20240904T193231Z
LAST-MODIFIED:20240906T140301Z
UID:41555-1725580800-1725667199@www.nysmith.com
SUMMARY:School Spirit Theme Day
DESCRIPTION:
URL:https://www.nysmith.com/event/school-spirit-theme-day/
LOCATION:13625 EDS Dr\, Herndon\, VA\, United States
GEO:38.92518;-77.39284
END:VEVENT
BEGIN:VEVENT
DTSTART;VALUE=DATE:20240906
DTEND;VALUE=DATE:20240907
DTSTAMP:20260425T235107
CREATED:20240814T191039Z
LAST-MODIFIED:20240906T140301Z
UID:41434-1725580800-1725667199@www.nysmith.com
SUMMARY:Movie Night
DESCRIPTION:
URL:https://www.nysmith.com/event/movie-night-5/
LOCATION:13625 EDS Dr\, Herndon\, VA\, United States
GEO:38.92518;-77.39284
END:VEVENT
BEGIN:VEVENT
DTSTART;VALUE=DATE:20240905
DTEND;VALUE=DATE:20240906
DTSTAMP:20260425T235107
CREATED:20240829T180117Z
LAST-MODIFIED:20240905T135510Z
UID:41505-1725494400-1725580799@www.nysmith.com
SUMMARY:Back to School Night PreSchool 6:30-7:30
DESCRIPTION:
URL:https://www.nysmith.com/event/back-to-school-night-preschool-630-730/
LOCATION:13625 EDS Dr\, Herndon\, VA\, United States
CATEGORIES:Beginners,Pre-Kindergarten
GEO:38.92518;-77.39284
END:VEVENT
BEGIN:VEVENT
DTSTART;VALUE=DATE:20240827
DTEND;VALUE=DATE:20240828
DTSTAMP:20260425T235107
CREATED:20240821T194728Z
LAST-MODIFIED:20240827T201738Z
UID:41475-1724716800-1724803199@www.nysmith.com
SUMMARY:Meet the Teacher - Orientation
DESCRIPTION:
URL:https://www.nysmith.com/event/meet-the-teacher-orientation/
LOCATION:13625 EDS Dr\, Herndon\, VA\, United States
GEO:38.92518;-77.39284
END:VEVENT
END:VCALENDAR