BEGIN:VCALENDAR
VERSION:2.0
PRODID:-//Nysmith School - ECPv6.9.0//NONSGML v1.0//EN
CALSCALE:GREGORIAN
METHOD:PUBLISH
X-WR-CALNAME:Nysmith School
X-ORIGINAL-URL:https://www.nysmith.com
X-WR-CALDESC:Events for Nysmith School
REFRESH-INTERVAL;VALUE=DURATION:PT1H
X-Robots-Tag:noindex
X-PUBLISHED-TTL:PT1H
BEGIN:VTIMEZONE
TZID:America/New_York
BEGIN:DAYLIGHT
TZOFFSETFROM:-0500
TZOFFSETTO:-0400
TZNAME:EDT
DTSTART:20230312T070000
END:DAYLIGHT
BEGIN:STANDARD
TZOFFSETFROM:-0400
TZOFFSETTO:-0500
TZNAME:EST
DTSTART:20231105T060000
END:STANDARD
END:VTIMEZONE
BEGIN:VEVENT
DTSTART;VALUE=DATE:20231003
DTEND;VALUE=DATE:20231004
DTSTAMP:20260423T181351
CREATED:20230905T151758Z
LAST-MODIFIED:20231003T175140Z
UID:39423-1696291200-1696377599@www.nysmith.com
SUMMARY:Beg-3rd Fall Picture Day
DESCRIPTION:
URL:https://www.nysmith.com/event/beg-3rd-fall-picture-day/
LOCATION:VA
CATEGORIES:1st grade,2nd Grade,3rd Grade,Beginners,Kindergarten,Pre-Kindergarten
END:VEVENT
BEGIN:VEVENT
DTSTART;VALUE=DATE:20231005
DTEND;VALUE=DATE:20231006
DTSTAMP:20260423T181351
CREATED:20230918T172752Z
LAST-MODIFIED:20231005T180254Z
UID:39648-1696464000-1696550399@www.nysmith.com
SUMMARY:Spirit Day - Pink/White
DESCRIPTION:
URL:https://www.nysmith.com/event/spirit-day-pink-white/
LOCATION:VA
CATEGORIES:1st grade,2nd Grade,3rd Grade,4th Grade,5th Grade,6th Grade,7th Grade,8th Grade,Beginners,Kindergarten,Pre-Kindergarten
END:VEVENT
BEGIN:VEVENT
DTSTART;VALUE=DATE:20231009
DTEND;VALUE=DATE:20231010
DTSTAMP:20260423T181351
CREATED:20230814T155017Z
LAST-MODIFIED:20231009T181745Z
UID:38851-1696809600-1696895999@www.nysmith.com
SUMMARY:Indigenous Peoples' Day - No School
DESCRIPTION:
URL:https://www.nysmith.com/event/indigenous-peoples-day-no-school-2/
LOCATION:VA
CATEGORIES:1st grade,2nd Grade,3rd Grade,4th Grade,5th Grade,6th Grade,7th Grade,8th Grade,Beginners,Kindergarten,Pre-Kindergarten
END:VEVENT
BEGIN:VEVENT
DTSTART;VALUE=DATE:20231011
DTEND;VALUE=DATE:20231012
DTSTAMP:20260423T181351
CREATED:20230906T222941Z
LAST-MODIFIED:20231011T203235Z
UID:39492-1696982400-1697068799@www.nysmith.com
SUMMARY:Special Olympics - Make the Point
DESCRIPTION:
URL:https://www.nysmith.com/event/special-olympics-make-the-point/
LOCATION:VA
CATEGORIES:1st grade,2nd Grade,3rd Grade,4th Grade,5th Grade,6th Grade,7th Grade,8th Grade,Beginners,Kindergarten,Pre-Kindergarten
END:VEVENT
BEGIN:VEVENT
DTSTART;VALUE=DATE:20231016
DTEND;VALUE=DATE:20231017
DTSTAMP:20260423T181351
CREATED:20230906T135343Z
LAST-MODIFIED:20231016T190011Z
UID:39482-1697414400-1697500799@www.nysmith.com
SUMMARY:Fall Book Fair
DESCRIPTION:
URL:https://www.nysmith.com/event/fall-book-fair-9/
LOCATION:VA
CATEGORIES:1st grade,2nd Grade,3rd Grade,4th Grade,5th Grade,6th Grade,7th Grade,8th Grade,Beginners,Kindergarten,Pre-Kindergarten
END:VEVENT
BEGIN:VEVENT
DTSTART;VALUE=DATE:20231017
DTEND;VALUE=DATE:20231018
DTSTAMP:20260423T181351
CREATED:20230906T135343Z
LAST-MODIFIED:20231017T190229Z
UID:39481-1697500800-1697587199@www.nysmith.com
SUMMARY:Fall Book Fair
DESCRIPTION:
URL:https://www.nysmith.com/event/fall-book-fair-8/
LOCATION:VA
CATEGORIES:1st grade,2nd Grade,3rd Grade,4th Grade,5th Grade,6th Grade,7th Grade,8th Grade,Beginners,Kindergarten,Pre-Kindergarten
END:VEVENT
BEGIN:VEVENT
DTSTART;VALUE=DATE:20231018
DTEND;VALUE=DATE:20231019
DTSTAMP:20260423T181351
CREATED:20230906T135343Z
LAST-MODIFIED:20231018T191738Z
UID:39480-1697587200-1697673599@www.nysmith.com
SUMMARY:Fall Book Fair
DESCRIPTION:
URL:https://www.nysmith.com/event/fall-book-fair-7/
LOCATION:VA
CATEGORIES:1st grade,2nd Grade,3rd Grade,4th Grade,5th Grade,6th Grade,7th Grade,8th Grade,Beginners,Kindergarten,Pre-Kindergarten
END:VEVENT
BEGIN:VEVENT
DTSTART;VALUE=DATE:20231019
DTEND;VALUE=DATE:20231020
DTSTAMP:20260423T181351
CREATED:20230906T135343Z
LAST-MODIFIED:20231019T191850Z
UID:39479-1697673600-1697759999@www.nysmith.com
SUMMARY:Fall Book Fair
DESCRIPTION:
URL:https://www.nysmith.com/event/fall-book-fair-6/
LOCATION:VA
CATEGORIES:1st grade,2nd Grade,3rd Grade,4th Grade,5th Grade,6th Grade,7th Grade,8th Grade,Beginners,Kindergarten,Pre-Kindergarten
END:VEVENT
BEGIN:VEVENT
DTSTART;VALUE=DATE:20231019
DTEND;VALUE=DATE:20231020
DTSTAMP:20260423T181351
CREATED:20230915T151533Z
LAST-MODIFIED:20231019T191850Z
UID:39567-1697673600-1697759999@www.nysmith.com
SUMMARY:3rd grade Field Trip
DESCRIPTION:
URL:https://www.nysmith.com/event/3rd-grade-field-trip-2/
LOCATION:VA
CATEGORIES:3rd Grade
END:VEVENT
BEGIN:VEVENT
DTSTART;VALUE=DATE:20231019
DTEND;VALUE=DATE:20231020
DTSTAMP:20260423T181351
CREATED:20230919T133735Z
LAST-MODIFIED:20231019T191850Z
UID:39669-1697673600-1697759999@www.nysmith.com
SUMMARY:Pajama Bingo Night 6pm
DESCRIPTION:
URL:https://www.nysmith.com/event/pajama-bingo-night-6pm/
LOCATION:VA
CATEGORIES:1st grade,2nd Grade,3rd Grade,4th Grade,5th Grade,6th Grade,7th Grade,8th Grade,Beginners,Kindergarten,Pre-Kindergarten
END:VEVENT
BEGIN:VEVENT
DTSTART;VALUE=DATE:20231020
DTEND;VALUE=DATE:20231021
DTSTAMP:20260423T181351
CREATED:20230906T135344Z
LAST-MODIFIED:20231020T191856Z
UID:39483-1697760000-1697846399@www.nysmith.com
SUMMARY:Fall Book Fair
DESCRIPTION:
URL:https://www.nysmith.com/event/fall-book-fair-10/
LOCATION:VA
CATEGORIES:1st grade,2nd Grade,3rd Grade,4th Grade,5th Grade,6th Grade,7th Grade,8th Grade,Beginners,Kindergarten,Pre-Kindergarten
END:VEVENT
BEGIN:VEVENT
DTSTART;VALUE=DATE:20231027
DTEND;VALUE=DATE:20231028
DTSTAMP:20260423T181351
CREATED:20230919T193911Z
LAST-MODIFIED:20231027T193229Z
UID:39729-1698364800-1698451199@www.nysmith.com
SUMMARY:Halloween Parties K-8 1:45-2:45
DESCRIPTION:
URL:https://www.nysmith.com/event/halloween-parties-k-8-145-245/
LOCATION:VA
CATEGORIES:1st grade,2nd Grade,3rd Grade,4th Grade,5th Grade,6th Grade,7th Grade,8th Grade,Kindergarten
END:VEVENT
END:VCALENDAR