BEGIN:VCALENDAR
VERSION:2.0
PRODID:-//Nysmith School - ECPv6.9.0//NONSGML v1.0//EN
CALSCALE:GREGORIAN
METHOD:PUBLISH
X-WR-CALNAME:Nysmith School
X-ORIGINAL-URL:https://www.nysmith.com
X-WR-CALDESC:Events for Nysmith School
REFRESH-INTERVAL;VALUE=DURATION:PT1H
X-Robots-Tag:noindex
X-PUBLISHED-TTL:PT1H
BEGIN:VTIMEZONE
TZID:America/New_York
BEGIN:DAYLIGHT
TZOFFSETFROM:-0500
TZOFFSETTO:-0400
TZNAME:EDT
DTSTART:20240310T070000
END:DAYLIGHT
BEGIN:STANDARD
TZOFFSETFROM:-0400
TZOFFSETTO:-0500
TZNAME:EST
DTSTART:20241103T060000
END:STANDARD
END:VTIMEZONE
BEGIN:VEVENT
DTSTART;VALUE=DATE:20240501
DTEND;VALUE=DATE:20240502
DTSTAMP:20260422T235451
CREATED:20230905T151811Z
LAST-MODIFIED:20240501T190247Z
UID:39430-1714521600-1714607999@www.nysmith.com
SUMMARY:4th-8th Spring Picture Day
DESCRIPTION:
URL:https://www.nysmith.com/event/4th-8th-spring-picture-day/
LOCATION:VA
CATEGORIES:4th Grade,5th Grade,6th Grade,7th Grade,8th Grade
END:VEVENT
BEGIN:VEVENT
DTSTART;VALUE=DATE:20240513
DTEND;VALUE=DATE:20240514
DTSTAMP:20260422T235451
CREATED:20240305T181009Z
LAST-MODIFIED:20240513T123343Z
UID:40736-1715558400-1715644799@www.nysmith.com
SUMMARY:6B & 6C Field Trip
DESCRIPTION:
URL:https://www.nysmith.com/event/6b-6c-field-trip/
LOCATION:VA
CATEGORIES:6th Grade
END:VEVENT
BEGIN:VEVENT
DTSTART;VALUE=DATE:20240514
DTEND;VALUE=DATE:20240515
DTSTAMP:20260422T235451
CREATED:20240305T210948Z
LAST-MODIFIED:20240514T123325Z
UID:40807-1715644800-1715731199@www.nysmith.com
SUMMARY:6A & 6D Field Trip
DESCRIPTION:
URL:https://www.nysmith.com/event/6a-6d-field-trip/
LOCATION:VA
CATEGORIES:6th Grade
END:VEVENT
BEGIN:VEVENT
DTSTART;VALUE=DATE:20240522
DTEND;VALUE=DATE:20240523
DTSTAMP:20260422T235451
CREATED:20230919T203017Z
LAST-MODIFIED:20240522T180231Z
UID:39766-1716336000-1716422399@www.nysmith.com
SUMMARY:Field Day 4th-8th
DESCRIPTION:
URL:https://www.nysmith.com/event/field-day-4th-8th-2/
LOCATION:VA
CATEGORIES:4th Grade,5th Grade,6th Grade,7th Grade,8th Grade
END:VEVENT
BEGIN:VEVENT
DTSTART;VALUE=DATE:20240527
DTEND;VALUE=DATE:20240528
DTSTAMP:20260422T235451
CREATED:20230814T155045Z
LAST-MODIFIED:20240527T183245Z
UID:38881-1716768000-1716854399@www.nysmith.com
SUMMARY:Memorial Day - No School
DESCRIPTION:
URL:https://www.nysmith.com/event/memorial-day-no-school-2/
LOCATION:VA
CATEGORIES:1st grade,2nd Grade,3rd Grade,4th Grade,5th Grade,6th Grade,7th Grade,8th Grade,Beginners,Kindergarten,Pre-Kindergarten
END:VEVENT
BEGIN:VEVENT
DTSTART;VALUE=DATE:20240529
DTEND;VALUE=DATE:20240530
DTSTAMP:20260422T235451
CREATED:20240322T184440Z
LAST-MODIFIED:20240529T144619Z
UID:40904-1716940800-1717027199@www.nysmith.com
SUMMARY:6th gr Music Performance 8:45
DESCRIPTION:
URL:https://www.nysmith.com/event/6th-gr-music-performance-845/
LOCATION:VA
CATEGORIES:6th Grade
END:VEVENT
BEGIN:VEVENT
DTSTART;VALUE=DATE:20240530
DTEND;VALUE=DATE:20240531
DTSTAMP:20260422T235451
CREATED:20231128T145210Z
LAST-MODIFIED:20240530T144755Z
UID:40373-1717027200-1717113599@www.nysmith.com
SUMMARY:Math Finals (4th-8th)
DESCRIPTION:
URL:https://www.nysmith.com/event/math-finals-4th-8th/
LOCATION:VA
CATEGORIES:4th Grade,5th Grade,6th Grade,7th Grade,8th Grade
END:VEVENT
BEGIN:VEVENT
DTSTART;VALUE=DATE:20240531
DTEND;VALUE=DATE:20240601
DTSTAMP:20260422T235451
CREATED:20231128T145211Z
LAST-MODIFIED:20240531T144754Z
UID:40374-1717113600-1717199999@www.nysmith.com
SUMMARY:Math Finals (4th-8th)
DESCRIPTION:
URL:https://www.nysmith.com/event/math-finals-4th-8th-2/
LOCATION:VA
CATEGORIES:4th Grade,5th Grade,6th Grade,7th Grade,8th Grade
END:VEVENT
END:VCALENDAR