BEGIN:VCALENDAR
VERSION:2.0
PRODID:-//Nysmith School - ECPv6.9.0//NONSGML v1.0//EN
CALSCALE:GREGORIAN
METHOD:PUBLISH
X-ORIGINAL-URL:https://www.nysmith.com
X-WR-CALDESC:Events for Nysmith School
REFRESH-INTERVAL;VALUE=DURATION:PT1H
X-Robots-Tag:noindex
X-PUBLISHED-TTL:PT1H
BEGIN:VTIMEZONE
TZID:America/New_York
BEGIN:DAYLIGHT
TZOFFSETFROM:-0500
TZOFFSETTO:-0400
TZNAME:EDT
DTSTART:20240310T070000
END:DAYLIGHT
BEGIN:STANDARD
TZOFFSETFROM:-0400
TZOFFSETTO:-0500
TZNAME:EST
DTSTART:20241103T060000
END:STANDARD
END:VTIMEZONE
BEGIN:VEVENT
DTSTART;VALUE=DATE:20240401
DTEND;VALUE=DATE:20240402
DTSTAMP:20260423T013327
CREATED:20230814T155044Z
LAST-MODIFIED:20240401T184819Z
UID:38879-1711929600-1712015999@www.nysmith.com
SUMMARY:Spring Break - No School
DESCRIPTION:
URL:https://www.nysmith.com/event/spring-break-no-school-6/
LOCATION:VA
CATEGORIES:1st grade,2nd Grade,3rd Grade,4th Grade,5th Grade,6th Grade,7th Grade,8th Grade,Beginners,Kindergarten,Pre-Kindergarten
END:VEVENT
BEGIN:VEVENT
DTSTART;VALUE=DATE:20240405
DTEND;VALUE=DATE:20240406
DTSTAMP:20260423T013327
CREATED:20240212T175837Z
LAST-MODIFIED:20240405T183310Z
UID:40636-1712275200-1712361599@www.nysmith.com
SUMMARY:6th and 7th grade Field Trip
DESCRIPTION:
URL:https://www.nysmith.com/event/6th-and-7th-grade-field-trip/
LOCATION:VA
CATEGORIES:6th Grade,7th Grade
END:VEVENT
BEGIN:VEVENT
DTSTART;VALUE=DATE:20240412
DTEND;VALUE=DATE:20240413
DTSTAMP:20260423T013327
CREATED:20231116T135210Z
LAST-MODIFIED:20240412T130358Z
UID:40346-1712880000-1712966399@www.nysmith.com
SUMMARY:SCA Dance (Grades 6\, 7\, 8) 7-9pm
DESCRIPTION:
URL:https://www.nysmith.com/event/sca-dance-grades-6-7-8-7-9pm-5/
LOCATION:VA
CATEGORIES:6th Grade,7th Grade,8th Grade
END:VEVENT
BEGIN:VEVENT
DTSTART;VALUE=DATE:20240415
DTEND;VALUE=DATE:20240416
DTSTAMP:20260423T013327
CREATED:20231013T134907Z
LAST-MODIFIED:20240415T130258Z
UID:39939-1713139200-1713225599@www.nysmith.com
SUMMARY:6th grade Overnight Field Trip
DESCRIPTION:
URL:https://www.nysmith.com/event/6th-grade-overnight-field-trip/
LOCATION:VA
CATEGORIES:6th Grade
END:VEVENT
BEGIN:VEVENT
DTSTART;VALUE=DATE:20240416
DTEND;VALUE=DATE:20240417
DTSTAMP:20260423T013327
CREATED:20231013T134912Z
LAST-MODIFIED:20240416T190208Z
UID:39940-1713225600-1713311999@www.nysmith.com
SUMMARY:6th grade Overnight Field Trip
DESCRIPTION:
URL:https://www.nysmith.com/event/6th-grade-overnight-field-trip-2/
LOCATION:VA
CATEGORIES:6th Grade
END:VEVENT
BEGIN:VEVENT
DTSTART;VALUE=DATE:20240417
DTEND;VALUE=DATE:20240418
DTSTAMP:20260423T013327
CREATED:20231201T150252Z
LAST-MODIFIED:20240417T190319Z
UID:40381-1713312000-1713398399@www.nysmith.com
SUMMARY:6th grade Overnight Field Trip
DESCRIPTION:
URL:https://www.nysmith.com/event/6th-grade-overnight-field-trip-3/
LOCATION:VA
CATEGORIES:6th Grade
END:VEVENT
BEGIN:VEVENT
DTSTART;VALUE=DATE:20240422
DTEND;VALUE=DATE:20240423
DTSTAMP:20260423T013327
CREATED:20240321T174549Z
LAST-MODIFIED:20240422T183306Z
UID:40891-1713744000-1713830399@www.nysmith.com
SUMMARY:Musical Theater Club Rehearsal 3-5pm
DESCRIPTION:
URL:https://www.nysmith.com/event/musical-theater-club-rehearsal-3-5pm-2/
LOCATION:VA
CATEGORIES:4th Grade,5th Grade,6th Grade
END:VEVENT
BEGIN:VEVENT
DTSTART;VALUE=DATE:20240423
DTEND;VALUE=DATE:20240424
DTSTAMP:20260423T013327
CREATED:20240321T174549Z
LAST-MODIFIED:20240423T183226Z
UID:40890-1713830400-1713916799@www.nysmith.com
SUMMARY:Musical Theater Club Rehearsal 3-5pm
DESCRIPTION:
URL:https://www.nysmith.com/event/musical-theater-club-rehearsal-3-5pm/
LOCATION:VA
CATEGORIES:4th Grade,5th Grade,6th Grade
END:VEVENT
BEGIN:VEVENT
DTSTART;VALUE=DATE:20240424
DTEND;VALUE=DATE:20240425
DTSTAMP:20260423T013327
CREATED:20240321T174550Z
LAST-MODIFIED:20240424T183231Z
UID:40892-1713916800-1714003199@www.nysmith.com
SUMMARY:Musical Theater Club Rehearsal 2-5pm
DESCRIPTION:
URL:https://www.nysmith.com/event/musical-theater-club-rehearsal-3-5pm-3/
LOCATION:VA
CATEGORIES:4th Grade,5th Grade,6th Grade
END:VEVENT
BEGIN:VEVENT
DTSTART;VALUE=DATE:20240425
DTEND;VALUE=DATE:20240426
DTSTAMP:20260423T013327
CREATED:20240321T173918Z
LAST-MODIFIED:20240425T183436Z
UID:40887-1714003200-1714089599@www.nysmith.com
SUMMARY:Musical Theater Club Performance 8:45
DESCRIPTION:
URL:https://www.nysmith.com/event/musical-theater-club-performance-845/
LOCATION:VA
CATEGORIES:4th Grade,5th Grade,6th Grade
END:VEVENT
BEGIN:VEVENT
DTSTART;VALUE=DATE:20240426
DTEND;VALUE=DATE:20240427
DTSTAMP:20260423T013327
CREATED:20230814T155045Z
LAST-MODIFIED:20240426T184747Z
UID:38880-1714089600-1714175999@www.nysmith.com
SUMMARY:Teacher Work Day - Childcare Available
DESCRIPTION:
URL:https://www.nysmith.com/event/teacher-work-day-childcare-available-4/
LOCATION:VA
CATEGORIES:1st grade,2nd Grade,3rd Grade,4th Grade,5th Grade,6th Grade,7th Grade,8th Grade,Beginners,Kindergarten,Pre-Kindergarten
END:VEVENT
END:VCALENDAR