BEGIN:VCALENDAR
VERSION:2.0
PRODID:-//Nysmith School - ECPv6.9.0//NONSGML v1.0//EN
CALSCALE:GREGORIAN
METHOD:PUBLISH
X-WR-CALNAME:Nysmith School
X-ORIGINAL-URL:https://www.nysmith.com
X-WR-CALDESC:Events for Nysmith School
REFRESH-INTERVAL;VALUE=DURATION:PT1H
X-Robots-Tag:noindex
X-PUBLISHED-TTL:PT1H
BEGIN:VTIMEZONE
TZID:America/New_York
BEGIN:DAYLIGHT
TZOFFSETFROM:-0500
TZOFFSETTO:-0400
TZNAME:EDT
DTSTART:20230312T070000
END:DAYLIGHT
BEGIN:STANDARD
TZOFFSETFROM:-0400
TZOFFSETTO:-0500
TZNAME:EST
DTSTART:20231105T060000
END:STANDARD
BEGIN:DAYLIGHT
TZOFFSETFROM:-0500
TZOFFSETTO:-0400
TZNAME:EDT
DTSTART:20240310T070000
END:DAYLIGHT
BEGIN:STANDARD
TZOFFSETFROM:-0400
TZOFFSETTO:-0500
TZNAME:EST
DTSTART:20241103T060000
END:STANDARD
BEGIN:DAYLIGHT
TZOFFSETFROM:-0500
TZOFFSETTO:-0400
TZNAME:EDT
DTSTART:20250309T070000
END:DAYLIGHT
BEGIN:STANDARD
TZOFFSETFROM:-0400
TZOFFSETTO:-0500
TZNAME:EST
DTSTART:20251102T060000
END:STANDARD
END:VTIMEZONE
BEGIN:VEVENT
DTSTART;VALUE=DATE:20231226
DTEND;VALUE=DATE:20231227
DTSTAMP:20260423T192831
CREATED:20230814T155033Z
LAST-MODIFIED:20231226T153242Z
UID:38867-1703548800-1703635199@www.nysmith.com
SUMMARY:Winter Break - No School
DESCRIPTION:
URL:https://www.nysmith.com/event/winter-break-no-school-9/
LOCATION:VA
CATEGORIES:1st grade,2nd Grade,3rd Grade,4th Grade,5th Grade,6th Grade,7th Grade,8th Grade,Beginners,Kindergarten,Pre-Kindergarten
END:VEVENT
BEGIN:VEVENT
DTSTART;VALUE=DATE:20231227
DTEND;VALUE=DATE:20231228
DTSTAMP:20260423T192831
CREATED:20230814T155031Z
LAST-MODIFIED:20231227T154723Z
UID:38866-1703635200-1703721599@www.nysmith.com
SUMMARY:Winter Break - No School
DESCRIPTION:
URL:https://www.nysmith.com/event/winter-break-no-school-8/
LOCATION:VA
CATEGORIES:1st grade,2nd Grade,3rd Grade,4th Grade,5th Grade,6th Grade,7th Grade,8th Grade,Beginners,Kindergarten,Pre-Kindergarten
END:VEVENT
BEGIN:VEVENT
DTSTART;VALUE=DATE:20231228
DTEND;VALUE=DATE:20231229
DTSTAMP:20260423T192831
CREATED:20230814T155031Z
LAST-MODIFIED:20231228T154729Z
UID:38865-1703721600-1703807999@www.nysmith.com
SUMMARY:Winter Break - No School
DESCRIPTION:
URL:https://www.nysmith.com/event/winter-break-no-school-7/
LOCATION:VA
CATEGORIES:1st grade,2nd Grade,3rd Grade,4th Grade,5th Grade,6th Grade,7th Grade,8th Grade,Beginners,Kindergarten,Pre-Kindergarten
END:VEVENT
BEGIN:VEVENT
DTSTART;VALUE=DATE:20231229
DTEND;VALUE=DATE:20231230
DTSTAMP:20260423T192831
CREATED:20230814T155033Z
LAST-MODIFIED:20231229T154733Z
UID:38868-1703808000-1703894399@www.nysmith.com
SUMMARY:Winter Break - No School
DESCRIPTION:
URL:https://www.nysmith.com/event/winter-break-no-school-10/
LOCATION:VA
CATEGORIES:1st grade,2nd Grade,3rd Grade,4th Grade,5th Grade,6th Grade,7th Grade,8th Grade,Beginners,Kindergarten,Pre-Kindergarten
END:VEVENT
BEGIN:VEVENT
DTSTART;VALUE=DATE:20240101
DTEND;VALUE=DATE:20240102
DTSTAMP:20260423T192831
CREATED:20230814T155034Z
LAST-MODIFIED:20240101T154753Z
UID:38869-1704067200-1704153599@www.nysmith.com
SUMMARY:Winter Break - No School
DESCRIPTION:
URL:https://www.nysmith.com/event/winter-break-no-school-11/
LOCATION:VA
CATEGORIES:1st grade,2nd Grade,3rd Grade,4th Grade,5th Grade,6th Grade,7th Grade,8th Grade,Beginners,Kindergarten,Pre-Kindergarten
END:VEVENT
BEGIN:VEVENT
DTSTART;VALUE=DATE:20240112
DTEND;VALUE=DATE:20240113
DTSTAMP:20260423T192831
CREATED:20240103T154720Z
LAST-MODIFIED:20240112T141823Z
UID:40458-1705017600-1705103999@www.nysmith.com
SUMMARY:Flannel Friday!
DESCRIPTION:
URL:https://www.nysmith.com/event/flannel-friday/
LOCATION:VA
CATEGORIES:1st grade,2nd Grade,3rd Grade,4th Grade,5th Grade,6th Grade,7th Grade,8th Grade,Beginners,Kindergarten,Pre-Kindergarten
END:VEVENT
BEGIN:VEVENT
DTSTART;VALUE=DATE:20240115
DTEND;VALUE=DATE:20240116
DTSTAMP:20260423T192831
CREATED:20230814T155036Z
LAST-MODIFIED:20240115T141759Z
UID:38870-1705276800-1705363199@www.nysmith.com
SUMMARY:Martin Luther King Jr Day - No School
DESCRIPTION:
URL:https://www.nysmith.com/event/martin-luther-king-jr-day-no-school-2/
LOCATION:VA
CATEGORIES:1st grade,2nd Grade,3rd Grade,4th Grade,5th Grade,6th Grade,7th Grade,8th Grade,Beginners,Kindergarten,Pre-Kindergarten
END:VEVENT
BEGIN:VEVENT
DTSTART;VALUE=DATE:20240119
DTEND;VALUE=DATE:20240120
DTSTAMP:20260423T192831
CREATED:20230814T155037Z
LAST-MODIFIED:20240119T200315Z
UID:38871-1705622400-1705708799@www.nysmith.com
SUMMARY:Teacher Work Day - Childcare Available
DESCRIPTION:
URL:https://www.nysmith.com/event/teacher-work-day-childcare-available-2/
LOCATION:VA
CATEGORIES:1st grade,2nd Grade,3rd Grade,4th Grade,5th Grade,6th Grade,7th Grade,8th Grade,Beginners,Kindergarten,Pre-Kindergarten
END:VEVENT
BEGIN:VEVENT
DTSTART;VALUE=DATE:20240209
DTEND;VALUE=DATE:20240210
DTSTAMP:20260423T192831
CREATED:20230919T201232Z
LAST-MODIFIED:20240209T131800Z
UID:39750-1707436800-1707523199@www.nysmith.com
SUMMARY:Valentines Parties K-8 1:45-2:45
DESCRIPTION:
URL:https://www.nysmith.com/event/valentines-parties-k-8-145-245/
LOCATION:VA
CATEGORIES:1st grade,2nd Grade,3rd Grade,4th Grade,5th Grade,6th Grade,7th Grade,8th Grade,Kindergarten
END:VEVENT
BEGIN:VEVENT
DTSTART;VALUE=DATE:20240219
DTEND;VALUE=DATE:20240220
DTSTAMP:20260423T192831
CREATED:20230814T155037Z
LAST-MODIFIED:20240219T181757Z
UID:38872-1708300800-1708387199@www.nysmith.com
SUMMARY:Presidents' Day - No School
DESCRIPTION:
URL:https://www.nysmith.com/event/presidents-day-no-school-2/
LOCATION:VA
CATEGORIES:1st grade,2nd Grade,3rd Grade,4th Grade,5th Grade,6th Grade,7th Grade,8th Grade,Beginners,Kindergarten,Pre-Kindergarten
END:VEVENT
BEGIN:VEVENT
DTSTART;VALUE=DATE:20240312
DTEND;VALUE=DATE:20240313
DTSTAMP:20260423T192831
CREATED:20230905T151807Z
LAST-MODIFIED:20240312T144726Z
UID:39426-1710201600-1710287999@www.nysmith.com
SUMMARY:International Bazaar
DESCRIPTION:
URL:https://www.nysmith.com/event/international-bazaar-5/
LOCATION:VA
CATEGORIES:1st grade,2nd Grade,3rd Grade,4th Grade,5th Grade,6th Grade,7th Grade,8th Grade,Beginners,Kindergarten,Pre-Kindergarten
END:VEVENT
BEGIN:VEVENT
DTSTART;VALUE=DATE:20240313
DTEND;VALUE=DATE:20240314
DTSTAMP:20260423T192831
CREATED:20230905T151808Z
LAST-MODIFIED:20240313T144746Z
UID:39427-1710288000-1710374399@www.nysmith.com
SUMMARY:International Bazaar
DESCRIPTION:
URL:https://www.nysmith.com/event/international-bazaar-6/
LOCATION:VA
CATEGORIES:1st grade,2nd Grade,3rd Grade,4th Grade,5th Grade,6th Grade,7th Grade,8th Grade,Beginners,Kindergarten,Pre-Kindergarten
END:VEVENT
BEGIN:VEVENT
DTSTART;VALUE=DATE:20240314
DTEND;VALUE=DATE:20240315
DTSTAMP:20260423T192831
CREATED:20230905T151808Z
LAST-MODIFIED:20240314T144759Z
UID:39428-1710374400-1710460799@www.nysmith.com
SUMMARY:International Bazaar
DESCRIPTION:
URL:https://www.nysmith.com/event/international-bazaar-7/
LOCATION:VA
CATEGORIES:1st grade,2nd Grade,3rd Grade,4th Grade,5th Grade,6th Grade,7th Grade,8th Grade,Beginners,Kindergarten,Pre-Kindergarten
END:VEVENT
BEGIN:VEVENT
DTSTART;VALUE=DATE:20240315
DTEND;VALUE=DATE:20240316
DTSTAMP:20260423T192831
CREATED:20230814T155039Z
LAST-MODIFIED:20240315T144725Z
UID:38873-1710460800-1710547199@www.nysmith.com
SUMMARY:Teacher Work Day - Childcare Available
DESCRIPTION:
URL:https://www.nysmith.com/event/teacher-work-day-childcare-available-3/
LOCATION:VA
CATEGORIES:1st grade,2nd Grade,3rd Grade,4th Grade,5th Grade,6th Grade,7th Grade,8th Grade,Beginners,Kindergarten,Pre-Kindergarten
END:VEVENT
BEGIN:VEVENT
DTSTART;VALUE=DATE:20240325
DTEND;VALUE=DATE:20240326
DTSTAMP:20260423T192831
CREATED:20230814T155042Z
LAST-MODIFIED:20240325T184737Z
UID:38876-1711324800-1711411199@www.nysmith.com
SUMMARY:Spring Break - No School
DESCRIPTION:
URL:https://www.nysmith.com/event/spring-break-no-school-3/
LOCATION:VA
CATEGORIES:1st grade,2nd Grade,3rd Grade,4th Grade,5th Grade,6th Grade,7th Grade,8th Grade,Beginners,Kindergarten,Pre-Kindergarten
END:VEVENT
BEGIN:VEVENT
DTSTART;VALUE=DATE:20240326
DTEND;VALUE=DATE:20240327
DTSTAMP:20260423T192831
CREATED:20230814T155040Z
LAST-MODIFIED:20240326T184734Z
UID:38875-1711411200-1711497599@www.nysmith.com
SUMMARY:Spring Break - No School
DESCRIPTION:
URL:https://www.nysmith.com/event/spring-break-no-school-2/
LOCATION:VA
CATEGORIES:1st grade,2nd Grade,3rd Grade,4th Grade,5th Grade,6th Grade,7th Grade,8th Grade,Beginners,Kindergarten,Pre-Kindergarten
END:VEVENT
BEGIN:VEVENT
DTSTART;VALUE=DATE:20240327
DTEND;VALUE=DATE:20240328
DTSTAMP:20260423T192831
CREATED:20230814T155039Z
LAST-MODIFIED:20240327T184726Z
UID:38874-1711497600-1711583999@www.nysmith.com
SUMMARY:Spring Break - No School
DESCRIPTION:
URL:https://www.nysmith.com/event/spring-break-no-school/
LOCATION:VA
CATEGORIES:1st grade,2nd Grade,3rd Grade,4th Grade,5th Grade,6th Grade,7th Grade,8th Grade,Beginners,Kindergarten,Pre-Kindergarten
END:VEVENT
BEGIN:VEVENT
DTSTART;VALUE=DATE:20240328
DTEND;VALUE=DATE:20240329
DTSTAMP:20260423T192831
CREATED:20230814T155042Z
LAST-MODIFIED:20240328T184806Z
UID:38877-1711584000-1711670399@www.nysmith.com
SUMMARY:Spring Break - No School
DESCRIPTION:
URL:https://www.nysmith.com/event/spring-break-no-school-4/
LOCATION:VA
CATEGORIES:1st grade,2nd Grade,3rd Grade,4th Grade,5th Grade,6th Grade,7th Grade,8th Grade,Beginners,Kindergarten,Pre-Kindergarten
END:VEVENT
BEGIN:VEVENT
DTSTART;VALUE=DATE:20240329
DTEND;VALUE=DATE:20240330
DTSTAMP:20260423T192831
CREATED:20230814T155042Z
LAST-MODIFIED:20240329T184803Z
UID:38878-1711670400-1711756799@www.nysmith.com
SUMMARY:Spring Break - No School
DESCRIPTION:
URL:https://www.nysmith.com/event/spring-break-no-school-5/
LOCATION:VA
CATEGORIES:1st grade,2nd Grade,3rd Grade,4th Grade,5th Grade,6th Grade,7th Grade,8th Grade,Beginners,Kindergarten,Pre-Kindergarten
END:VEVENT
BEGIN:VEVENT
DTSTART;VALUE=DATE:20240401
DTEND;VALUE=DATE:20240402
DTSTAMP:20260423T192831
CREATED:20230814T155044Z
LAST-MODIFIED:20240401T184819Z
UID:38879-1711929600-1712015999@www.nysmith.com
SUMMARY:Spring Break - No School
DESCRIPTION:
URL:https://www.nysmith.com/event/spring-break-no-school-6/
LOCATION:VA
CATEGORIES:1st grade,2nd Grade,3rd Grade,4th Grade,5th Grade,6th Grade,7th Grade,8th Grade,Beginners,Kindergarten,Pre-Kindergarten
END:VEVENT
BEGIN:VEVENT
DTSTART;VALUE=DATE:20240425
DTEND;VALUE=DATE:20240426
DTSTAMP:20260423T192831
CREATED:20231214T151121Z
LAST-MODIFIED:20240425T183436Z
UID:40416-1714003200-1714089599@www.nysmith.com
SUMMARY:Kindergarten Field Trip
DESCRIPTION:
URL:https://www.nysmith.com/event/kindergarten-field-trip-9/
LOCATION:VA
CATEGORIES:Kindergarten
END:VEVENT
BEGIN:VEVENT
DTSTART;VALUE=DATE:20240426
DTEND;VALUE=DATE:20240427
DTSTAMP:20260423T192831
CREATED:20230814T155045Z
LAST-MODIFIED:20240426T184747Z
UID:38880-1714089600-1714175999@www.nysmith.com
SUMMARY:Teacher Work Day - Childcare Available
DESCRIPTION:
URL:https://www.nysmith.com/event/teacher-work-day-childcare-available-4/
LOCATION:VA
CATEGORIES:1st grade,2nd Grade,3rd Grade,4th Grade,5th Grade,6th Grade,7th Grade,8th Grade,Beginners,Kindergarten,Pre-Kindergarten
END:VEVENT
BEGIN:VEVENT
DTSTART;VALUE=DATE:20240429
DTEND;VALUE=DATE:20240430
DTSTAMP:20260423T192831
CREATED:20231214T151121Z
LAST-MODIFIED:20240429T190428Z
UID:40417-1714348800-1714435199@www.nysmith.com
SUMMARY:Kindergarten Field Trip
DESCRIPTION:
URL:https://www.nysmith.com/event/kindergarten-field-trip-10/
LOCATION:VA
CATEGORIES:Kindergarten
END:VEVENT
BEGIN:VEVENT
DTSTART;VALUE=DATE:20240430
DTEND;VALUE=DATE:20240501
DTSTAMP:20260423T192831
CREATED:20230905T151810Z
LAST-MODIFIED:20240430T190237Z
UID:39429-1714435200-1714521599@www.nysmith.com
SUMMARY:Beg-3rd Spring Picture Day
DESCRIPTION:
URL:https://www.nysmith.com/event/beg-3rd-spring-picture-day/
LOCATION:VA
CATEGORIES:1st grade,2nd Grade,3rd Grade,Beginners,Kindergarten,Pre-Kindergarten
END:VEVENT
BEGIN:VEVENT
DTSTART;VALUE=DATE:20240521
DTEND;VALUE=DATE:20240522
DTSTAMP:20260423T192831
CREATED:20230919T203016Z
LAST-MODIFIED:20240521T175344Z
UID:39765-1716249600-1716335999@www.nysmith.com
SUMMARY:Field Day Beg-3rd
DESCRIPTION:
URL:https://www.nysmith.com/event/field-day-beg-3rd-2/
LOCATION:VA
CATEGORIES:1st grade,2nd Grade,3rd Grade,Beginners,Kindergarten,Pre-Kindergarten
END:VEVENT
BEGIN:VEVENT
DTSTART;VALUE=DATE:20240527
DTEND;VALUE=DATE:20240528
DTSTAMP:20260423T192831
CREATED:20230814T155045Z
LAST-MODIFIED:20240527T183245Z
UID:38881-1716768000-1716854399@www.nysmith.com
SUMMARY:Memorial Day - No School
DESCRIPTION:
URL:https://www.nysmith.com/event/memorial-day-no-school-2/
LOCATION:VA
CATEGORIES:1st grade,2nd Grade,3rd Grade,4th Grade,5th Grade,6th Grade,7th Grade,8th Grade,Beginners,Kindergarten,Pre-Kindergarten
END:VEVENT
BEGIN:VEVENT
DTSTART;VALUE=DATE:20240531
DTEND;VALUE=DATE:20240601
DTSTAMP:20260423T192831
CREATED:20240103T182818Z
LAST-MODIFIED:20240531T144754Z
UID:40461-1717113600-1717199999@www.nysmith.com
SUMMARY:Kindergarten Field Trip
DESCRIPTION:
URL:https://www.nysmith.com/event/kindergarten-field-trip-11/
LOCATION:VA
CATEGORIES:Kindergarten
END:VEVENT
BEGIN:VEVENT
DTSTART;VALUE=DATE:20240604
DTEND;VALUE=DATE:20240605
DTSTAMP:20260423T192831
CREATED:20240322T184440Z
LAST-MODIFIED:20240604T144817Z
UID:40905-1717459200-1717545599@www.nysmith.com
SUMMARY:Kindergarten Music Performance 8:45
DESCRIPTION:
URL:https://www.nysmith.com/event/kindergarten-music-performance-845/
LOCATION:VA
CATEGORIES:Kindergarten
END:VEVENT
BEGIN:VEVENT
DTSTART;VALUE=DATE:20240613
DTEND;VALUE=DATE:20240614
DTSTAMP:20260423T192831
CREATED:20230814T155048Z
LAST-MODIFIED:20240613T164107Z
UID:38883-1718236800-1718323199@www.nysmith.com
SUMMARY:Last Day of School
DESCRIPTION:
URL:https://www.nysmith.com/event/last-day-of-school-3/
LOCATION:VA
CATEGORIES:1st grade,2nd Grade,3rd Grade,4th Grade,5th Grade,6th Grade,7th Grade,Beginners,Kindergarten,Pre-Kindergarten
END:VEVENT
BEGIN:VEVENT
DTSTART;VALUE=DATE:20240919
DTEND;VALUE=DATE:20240920
DTSTAMP:20260423T192831
CREATED:20240829T180123Z
LAST-MODIFIED:20240919T161718Z
UID:41508-1726704000-1726790399@www.nysmith.com
SUMMARY:Back to School Night K-3rd 6:30-7:30
DESCRIPTION:
URL:https://www.nysmith.com/event/back-to-school-night-k-3rd-630-730/
LOCATION:13625 EDS Dr\, Herndon\, VA\, United States
CATEGORIES:1st grade,2nd Grade,3rd Grade,Kindergarten
GEO:38.92518;-77.39284
END:VEVENT
BEGIN:VEVENT
DTSTART;VALUE=DATE:20240923
DTEND;VALUE=DATE:20240924
DTSTAMP:20260423T192831
CREATED:20240912T153022Z
LAST-MODIFIED:20240923T143558Z
UID:41597-1727049600-1727135999@www.nysmith.com
SUMMARY:K-8 Morning Fun Run 7:30am
DESCRIPTION:
URL:https://www.nysmith.com/event/k-8-morning-fun-run-730am/
LOCATION:13625 EDS Dr\, Herndon\, VA\, United States
CATEGORIES:1st grade,2nd Grade,3rd Grade,4th Grade,5th Grade,6th Grade,7th Grade,8th Grade,Kindergarten
GEO:38.92518;-77.39284
END:VEVENT
BEGIN:VEVENT
DTSTART;VALUE=DATE:20241003
DTEND;VALUE=DATE:20241004
DTSTAMP:20260423T192831
CREATED:20240905T135519Z
LAST-MODIFIED:20241003T150514Z
UID:41560-1727913600-1727999999@www.nysmith.com
SUMMARY:Lower School Beg-3rd Fall Pictures
DESCRIPTION:
URL:https://www.nysmith.com/event/lower-school-beg-3rd-fall-pictures/
LOCATION:13625 EDS Dr\, Herndon\, VA\, United States
CATEGORIES:1st grade,2nd Grade,3rd Grade,Beginners,Kindergarten,Pre-Kindergarten
GEO:38.92518;-77.39284
END:VEVENT
BEGIN:VEVENT
DTSTART;VALUE=DATE:20241009
DTEND;VALUE=DATE:20241010
DTSTAMP:20260423T192831
CREATED:20240912T153025Z
LAST-MODIFIED:20241009T183229Z
UID:41598-1728432000-1728518399@www.nysmith.com
SUMMARY:K-8 Morning Fun Run 7:30am
DESCRIPTION:
URL:https://www.nysmith.com/event/k-8-morning-fun-run-730am-2/
LOCATION:13625 EDS Dr\, Herndon\, VA\, United States
CATEGORIES:1st grade,2nd Grade,3rd Grade,4th Grade,5th Grade,6th Grade,7th Grade,8th Grade,Kindergarten
GEO:38.92518;-77.39284
END:VEVENT
BEGIN:VEVENT
DTSTART;VALUE=DATE:20241016
DTEND;VALUE=DATE:20241017
DTSTAMP:20260423T192831
CREATED:20240912T191154Z
LAST-MODIFIED:20241016T161754Z
UID:41619-1729036800-1729123199@www.nysmith.com
SUMMARY:Special Olympics
DESCRIPTION:
URL:https://www.nysmith.com/event/special-olympics-3/
LOCATION:13625 EDS Dr\, Herndon\, VA\, United States
CATEGORIES:1st grade,2nd Grade,3rd Grade,4th Grade,5th Grade,6th Grade,7th Grade,8th Grade,Beginners,Kindergarten,Pre-Kindergarten
GEO:38.92518;-77.39284
END:VEVENT
BEGIN:VEVENT
DTSTART;VALUE=DATE:20241022
DTEND;VALUE=DATE:20241023
DTSTAMP:20260423T192831
CREATED:20240916T161629Z
LAST-MODIFIED:20241022T163258Z
UID:41636-1729555200-1729641599@www.nysmith.com
SUMMARY:Kindergarten Field Trip
DESCRIPTION:
URL:https://www.nysmith.com/event/kindergarten-field-trip-12/
LOCATION:13625 EDS Dr\, Herndon\, VA\, United States
CATEGORIES:Kindergarten
GEO:38.92518;-77.39284
END:VEVENT
BEGIN:VEVENT
DTSTART;VALUE=DATE:20241107
DTEND;VALUE=DATE:20241108
DTSTAMP:20260423T192831
CREATED:20240912T153028Z
LAST-MODIFIED:20241107T180230Z
UID:41600-1730937600-1731023999@www.nysmith.com
SUMMARY:K-8 Morning Fun Run 7:30am
DESCRIPTION:
URL:https://www.nysmith.com/event/k-8-morning-fun-run-730am-4/
LOCATION:13625 EDS Dr\, Herndon\, VA\, United States
CATEGORIES:1st grade,2nd Grade,3rd Grade,4th Grade,5th Grade,6th Grade,7th Grade,8th Grade,Kindergarten
GEO:38.92518;-77.39284
END:VEVENT
BEGIN:VEVENT
DTSTART;VALUE=DATE:20241121
DTEND;VALUE=DATE:20241122
DTSTAMP:20260423T192831
CREATED:20240912T153029Z
LAST-MODIFIED:20241121T200232Z
UID:41601-1732147200-1732233599@www.nysmith.com
SUMMARY:K-8 Morning Fun Run 7:30am
DESCRIPTION:
URL:https://www.nysmith.com/event/k-8-morning-fun-run-730am-5/
LOCATION:13625 EDS Dr\, Herndon\, VA\, United States
CATEGORIES:1st grade,2nd Grade,3rd Grade,4th Grade,5th Grade,6th Grade,7th Grade,8th Grade,Kindergarten
GEO:38.92518;-77.39284
END:VEVENT
BEGIN:VEVENT
DTSTART;VALUE=DATE:20241210
DTEND;VALUE=DATE:20241211
DTSTAMP:20260423T192831
CREATED:20241118T195931Z
LAST-MODIFIED:20241210T153725Z
UID:42040-1733788800-1733875199@www.nysmith.com
SUMMARY:K/1st Winter Concert 8:45am
DESCRIPTION:
URL:https://www.nysmith.com/event/k-1st-winter-concert-845am/
LOCATION:13625 EDS Dr\, Herndon\, VA\, United States
CATEGORIES:1st grade,Kindergarten
GEO:38.92518;-77.39284
END:VEVENT
BEGIN:VEVENT
DTSTART;VALUE=DATE:20241213
DTEND;VALUE=DATE:20241214
DTSTAMP:20260423T192831
CREATED:20241112T153306Z
LAST-MODIFIED:20241213T154857Z
UID:41990-1734048000-1734134399@www.nysmith.com
SUMMARY:Kindergarten Field Trip
DESCRIPTION:
URL:https://www.nysmith.com/event/kindergarten-field-trip-13/
LOCATION:13625 EDS Dr\, Herndon\, VA\, United States
CATEGORIES:Kindergarten
GEO:38.92518;-77.39284
END:VEVENT
BEGIN:VEVENT
DTSTART;VALUE=DATE:20250207
DTEND;VALUE=DATE:20250208
DTSTAMP:20260423T192831
CREATED:20241219T191712Z
LAST-MODIFIED:20250207T160240Z
UID:42199-1738886400-1738972799@www.nysmith.com
SUMMARY:Kindergarten Field Trip
DESCRIPTION:
URL:https://www.nysmith.com/event/kindergarten-field-trip-14/
LOCATION:13625 EDS Dr\, Herndon\, VA\, United States
CATEGORIES:Kindergarten
GEO:38.92518;-77.39284
END:VEVENT
BEGIN:VEVENT
DTSTART;VALUE=DATE:20250327
DTEND;VALUE=DATE:20250328
DTSTAMP:20260423T192831
CREATED:20240912T153031Z
LAST-MODIFIED:20250327T165849Z
UID:41603-1743033600-1743119999@www.nysmith.com
SUMMARY:K-8 Morning Fun Run 7:30am
DESCRIPTION:
URL:https://www.nysmith.com/event/k-8-morning-fun-run-730am-7/
LOCATION:13625 EDS Dr\, Herndon\, VA\, United States
CATEGORIES:1st grade,2nd Grade,3rd Grade,4th Grade,5th Grade,6th Grade,7th Grade,8th Grade,Kindergarten
GEO:38.92518;-77.39284
END:VEVENT
BEGIN:VEVENT
DTSTART;VALUE=DATE:20250409
DTEND;VALUE=DATE:20250410
DTSTAMP:20260423T192831
CREATED:20240912T153031Z
LAST-MODIFIED:20250409T173932Z
UID:41604-1744156800-1744243199@www.nysmith.com
SUMMARY:K-8 Morning Fun Run 7:30am
DESCRIPTION:
URL:https://www.nysmith.com/event/k-8-morning-fun-run-730am-8/
LOCATION:13625 EDS Dr\, Herndon\, VA\, United States
CATEGORIES:1st grade,2nd Grade,3rd Grade,4th Grade,5th Grade,6th Grade,7th Grade,8th Grade,Kindergarten
GEO:38.92518;-77.39284
END:VEVENT
BEGIN:VEVENT
DTSTART;VALUE=DATE:20250423
DTEND;VALUE=DATE:20250424
DTSTAMP:20260423T192831
CREATED:20240912T153032Z
LAST-MODIFIED:20250423T173226Z
UID:41605-1745366400-1745452799@www.nysmith.com
SUMMARY:K-8 Morning Fun Run 7:30am
DESCRIPTION:
URL:https://www.nysmith.com/event/k-8-morning-fun-run-730am-9/
LOCATION:13625 EDS Dr\, Herndon\, VA\, United States
CATEGORIES:1st grade,2nd Grade,3rd Grade,4th Grade,5th Grade,6th Grade,7th Grade,8th Grade,Kindergarten
GEO:38.92518;-77.39284
END:VEVENT
BEGIN:VEVENT
DTSTART;VALUE=DATE:20250427
DTEND;VALUE=DATE:20250428
DTSTAMP:20260423T192831
CREATED:20250325T135052Z
LAST-MODIFIED:20250427T174734Z
UID:42653-1745712000-1745798399@www.nysmith.com
SUMMARY:Kindergarten Class Meet Up 1pm-3pm
DESCRIPTION:
URL:https://www.nysmith.com/event/kindergarten-class-meet-up-2pm-4pm/
LOCATION:13625 EDS Dr\, Herndon\, VA\, United States
CATEGORIES:Kindergarten
GEO:38.92518;-77.39284
END:VEVENT
BEGIN:VEVENT
DTSTART;VALUE=DATE:20250428
DTEND;VALUE=DATE:20250429
DTSTAMP:20260423T192831
CREATED:20250325T182143Z
LAST-MODIFIED:20250428T180253Z
UID:42658-1745798400-1745884799@www.nysmith.com
SUMMARY:Kindergarten Field Trip
DESCRIPTION:
URL:https://www.nysmith.com/event/kindergarten-field-trip-15/
LOCATION:13625 EDS Dr\, Herndon\, VA\, United States
CATEGORIES:Kindergarten
GEO:38.92518;-77.39284
END:VEVENT
BEGIN:VEVENT
DTSTART;VALUE=DATE:20250430
DTEND;VALUE=DATE:20250501
DTSTAMP:20260423T192831
CREATED:20240905T135523Z
LAST-MODIFIED:20250430T143404Z
UID:41563-1745971200-1746057599@www.nysmith.com
SUMMARY:Lower School Beg-3rd Spring Pictures
DESCRIPTION:
URL:https://www.nysmith.com/event/lower-school-beg-3rd-spring-pictures/
LOCATION:13625 EDS Dr\, Herndon\, VA\, United States
CATEGORIES:1st grade,2nd Grade,3rd Grade,Beginners,Kindergarten,Pre-Kindergarten
GEO:38.92518;-77.39284
END:VEVENT
BEGIN:VEVENT
DTSTART;VALUE=DATE:20250505
DTEND;VALUE=DATE:20250506
DTSTAMP:20260423T192831
CREATED:20240912T153033Z
LAST-MODIFIED:20250505T150231Z
UID:41606-1746403200-1746489599@www.nysmith.com
SUMMARY:K-8 Morning Fun Run 7:30am
DESCRIPTION:
URL:https://www.nysmith.com/event/k-8-morning-fun-run-730am-10/
LOCATION:13625 EDS Dr\, Herndon\, VA\, United States
CATEGORIES:1st grade,2nd Grade,3rd Grade,4th Grade,5th Grade,6th Grade,7th Grade,8th Grade,Kindergarten
GEO:38.92518;-77.39284
END:VEVENT
BEGIN:VEVENT
DTSTART;VALUE=DATE:20250519
DTEND;VALUE=DATE:20250520
DTSTAMP:20260423T192831
CREATED:20240912T153033Z
LAST-MODIFIED:20250519T174736Z
UID:41607-1747612800-1747699199@www.nysmith.com
SUMMARY:K-8 Morning Fun Run 7:30am
DESCRIPTION:
URL:https://www.nysmith.com/event/k-8-morning-fun-run-730am-11/
LOCATION:13625 EDS Dr\, Herndon\, VA\, United States
CATEGORIES:1st grade,2nd Grade,3rd Grade,4th Grade,5th Grade,6th Grade,7th Grade,8th Grade,Kindergarten
GEO:38.92518;-77.39284
END:VEVENT
BEGIN:VEVENT
DTSTART;VALUE=DATE:20250520
DTEND;VALUE=DATE:20250521
DTSTAMP:20260423T192831
CREATED:20250218T190031Z
LAST-MODIFIED:20250520T173943Z
UID:42371-1747699200-1747785599@www.nysmith.com
SUMMARY:Field Day Beg-3rd grade
DESCRIPTION:
URL:https://www.nysmith.com/event/field-day-beg-3rd-grade/
LOCATION:VA
CATEGORIES:1st grade,2nd Grade,3rd Grade,Beginners,Kindergarten,Pre-Kindergarten
END:VEVENT
BEGIN:VEVENT
DTSTART;VALUE=DATE:20250603
DTEND;VALUE=DATE:20250604
DTSTAMP:20260423T192831
CREATED:20250409T173932Z
LAST-MODIFIED:20250603T183455Z
UID:43050-1748908800-1748995199@www.nysmith.com
SUMMARY:Kindergarten Concert. 8:45am
DESCRIPTION:
URL:https://www.nysmith.com/event/kindergarten-concert-845am/
LOCATION:13625 EDS Dr\, Herndon\, VA\, United States
CATEGORIES:Kindergarten
GEO:38.92518;-77.39284
END:VEVENT
END:VCALENDAR