BEGIN:VCALENDAR
VERSION:2.0
PRODID:-//Nysmith School - ECPv6.9.0//NONSGML v1.0//EN
CALSCALE:GREGORIAN
METHOD:PUBLISH
X-ORIGINAL-URL:https://www.nysmith.com
X-WR-CALDESC:Events for Nysmith School
REFRESH-INTERVAL;VALUE=DURATION:PT1H
X-Robots-Tag:noindex
X-PUBLISHED-TTL:PT1H
BEGIN:VTIMEZONE
TZID:America/New_York
BEGIN:DAYLIGHT
TZOFFSETFROM:-0500
TZOFFSETTO:-0400
TZNAME:EDT
DTSTART:20220313T070000
END:DAYLIGHT
BEGIN:STANDARD
TZOFFSETFROM:-0400
TZOFFSETTO:-0500
TZNAME:EST
DTSTART:20221106T060000
END:STANDARD
END:VTIMEZONE
BEGIN:VEVENT
DTSTART;VALUE=DATE:20221007
DTEND;VALUE=DATE:20221008
DTSTAMP:20260422T190744
CREATED:20220926T172653Z
LAST-MODIFIED:20221007T150726Z
UID:35829-1665100800-1665187199@www.nysmith.com
SUMMARY:Socktober Sock Collection
DESCRIPTION:
URL:https://www.nysmith.com/event/socktober-sock-collection-5/
CATEGORIES:1st grade,2nd Grade,3rd Grade,4th Grade,5th Grade,6th Grade,7th Grade,8th Grade,Beginners,Kindergarten,Pre-Kindergarten
END:VEVENT
BEGIN:VEVENT
DTSTART;VALUE=DATE:20221006
DTEND;VALUE=DATE:20221007
DTSTAMP:20260422T190744
CREATED:20220926T172653Z
LAST-MODIFIED:20221006T150240Z
UID:35828-1665014400-1665100799@www.nysmith.com
SUMMARY:Socktober Sock Collection
DESCRIPTION:
URL:https://www.nysmith.com/event/socktober-sock-collection-4/
CATEGORIES:1st grade,2nd Grade,3rd Grade,4th Grade,5th Grade,6th Grade,7th Grade,8th Grade,Beginners,Kindergarten,Pre-Kindergarten
END:VEVENT
BEGIN:VEVENT
DTSTART;VALUE=DATE:20221005
DTEND;VALUE=DATE:20221006
DTSTAMP:20260422T190744
CREATED:20220926T172652Z
LAST-MODIFIED:20221005T180603Z
UID:35827-1664928000-1665014399@www.nysmith.com
SUMMARY:Socktober Sock Collection
DESCRIPTION:
URL:https://www.nysmith.com/event/socktober-sock-collection-3/
CATEGORIES:1st grade,2nd Grade,3rd Grade,4th Grade,5th Grade,6th Grade,7th Grade,8th Grade,Beginners,Kindergarten,Pre-Kindergarten
END:VEVENT
BEGIN:VEVENT
DTSTART;VALUE=DATE:20221005
DTEND;VALUE=DATE:20221006
DTSTAMP:20260422T190744
CREATED:20220926T172652Z
LAST-MODIFIED:20221005T180603Z
UID:35824-1664928000-1665014399@www.nysmith.com
SUMMARY:Fall Picture Day (4th-8th)
DESCRIPTION:
URL:https://www.nysmith.com/event/fall-picture-day-4th-8th/
CATEGORIES:4th Grade,5th Grade,6th Grade,7th Grade,8th Grade
END:VEVENT
BEGIN:VEVENT
DTSTART;VALUE=DATE:20221004
DTEND;VALUE=DATE:20221005
DTSTAMP:20260422T190744
CREATED:20220926T172652Z
LAST-MODIFIED:20221004T180537Z
UID:35825-1664841600-1664927999@www.nysmith.com
SUMMARY:Socktober Sock Collection
DESCRIPTION:
URL:https://www.nysmith.com/event/socktober-sock-collection-2/
CATEGORIES:1st grade,2nd Grade,3rd Grade,4th Grade,5th Grade,6th Grade,7th Grade,8th Grade,Beginners,Kindergarten,Pre-Kindergarten
END:VEVENT
BEGIN:VEVENT
DTSTART;VALUE=DATE:20221003
DTEND;VALUE=DATE:20221004
DTSTAMP:20260422T190744
CREATED:20220926T172651Z
LAST-MODIFIED:20221003T180629Z
UID:35823-1664755200-1664841599@www.nysmith.com
SUMMARY:Socktober Sock Collection
DESCRIPTION:
URL:https://www.nysmith.com/event/socktober-sock-collection/
CATEGORIES:1st grade,2nd Grade,3rd Grade,4th Grade,5th Grade,6th Grade,7th Grade,8th Grade,Beginners,Kindergarten,Pre-Kindergarten
END:VEVENT
BEGIN:VEVENT
DTSTART;VALUE=DATE:20220909
DTEND;VALUE=DATE:20220910
DTSTAMP:20260422T190744
CREATED:20220826T001757Z
LAST-MODIFIED:20220908T143613Z
UID:35687-1662681600-1662767999@www.nysmith.com
SUMMARY:Spirit Day!
DESCRIPTION:
URL:https://www.nysmith.com/event/spirit-day/
CATEGORIES:1st grade,2nd Grade,3rd Grade,4th Grade,5th Grade,6th Grade,7th Grade,8th Grade,Beginners,Kindergarten,Pre-Kindergarten
END:VEVENT
BEGIN:VEVENT
DTSTART;VALUE=DATE:20220909
DTEND;VALUE=DATE:20220910
DTSTAMP:20260422T190744
CREATED:20220811T230704Z
LAST-MODIFIED:20220908T143515Z
UID:35637-1662681600-1662767999@www.nysmith.com
SUMMARY:Movie Night
DESCRIPTION:
URL:https://www.nysmith.com/event/movie-night-2/
CATEGORIES:1st grade,2nd Grade,3rd Grade,4th Grade,5th Grade,6th Grade,7th Grade,8th Grade,Beginners,Kindergarten,Pre-Kindergarten
END:VEVENT
BEGIN:VEVENT
DTSTART;VALUE=DATE:20220905
DTEND;VALUE=DATE:20220906
DTSTAMP:20260422T190744
CREATED:20220504T144706Z
LAST-MODIFIED:20220905T004622Z
UID:35049-1662336000-1662422399@www.nysmith.com
SUMMARY:Labor Day - No School
DESCRIPTION:
URL:https://www.nysmith.com/event/labor-day-no-school/
CATEGORIES:1st grade,2nd Grade,3rd Grade,4th Grade,5th Grade,6th Grade,7th Grade,8th Grade,Beginners,Kindergarten,Pre-Kindergarten
END:VEVENT
BEGIN:VEVENT
DTSTART;VALUE=DATE:20220831
DTEND;VALUE=DATE:20220901
DTSTAMP:20260422T190744
CREATED:20220504T144704Z
LAST-MODIFIED:20220831T003126Z
UID:35048-1661904000-1661990399@www.nysmith.com
SUMMARY:First Day of School
DESCRIPTION:
URL:https://www.nysmith.com/event/first-day-of-school/
CATEGORIES:1st grade,2nd Grade,3rd Grade,4th Grade,5th Grade,6th Grade,7th Grade,8th Grade,Beginners,Kindergarten,Pre-Kindergarten
END:VEVENT
BEGIN:VEVENT
DTSTART;VALUE=DATE:20220830
DTEND;VALUE=DATE:20220831
DTSTAMP:20260422T190744
CREATED:20220826T001754Z
LAST-MODIFIED:20220908T143433Z
UID:35686-1661817600-1661903999@www.nysmith.com
SUMMARY:Meet the Teachers / Student Orientation
DESCRIPTION:
URL:https://www.nysmith.com/event/meet-the-teachers-student-orientation/
CATEGORIES:1st grade,2nd Grade,3rd Grade,4th Grade,5th Grade,6th Grade,7th Grade,8th Grade,Beginners,Kindergarten,Pre-Kindergarten
END:VEVENT
BEGIN:VEVENT
DTSTART;VALUE=DATE:20220610
DTEND;VALUE=DATE:20220611
DTSTAMP:20260422T190744
CREATED:20220301T001829Z
LAST-MODIFIED:20220610T174716Z
UID:34912-1654819200-1654905599@www.nysmith.com
SUMMARY:Last Day of School
DESCRIPTION:
URL:https://www.nysmith.com/event/last-day-of-school/
CATEGORIES:1st grade,2nd Grade,3rd Grade,4th Grade,5th Grade,6th Grade,7th Grade,8th Grade,Beginners,Kindergarten,Pre-Kindergarten
END:VEVENT
BEGIN:VEVENT
DTSTART;VALUE=DATE:20220603
DTEND;VALUE=DATE:20220604
DTSTAMP:20260422T190744
CREATED:20220503T144815Z
LAST-MODIFIED:20220603T170203Z
UID:35036-1654214400-1654300799@www.nysmith.com
SUMMARY:Math Finals grades 4\, 5\, 6\, 7
DESCRIPTION:
URL:https://www.nysmith.com/event/4th-5th-6th-7th-grades-math-finals-2/
CATEGORIES:4th Grade,5th Grade,6th Grade,7th Grade
END:VEVENT
BEGIN:VEVENT
DTSTART;VALUE=DATE:20220602
DTEND;VALUE=DATE:20220603
DTSTAMP:20260422T190744
CREATED:20220503T144816Z
LAST-MODIFIED:20220602T170223Z
UID:35037-1654128000-1654214399@www.nysmith.com
SUMMARY:Math Finals grades 4\, 5\, 6\, 7
DESCRIPTION:
URL:https://www.nysmith.com/event/4th-5th-6th-7th-grades-math-finals-3/
CATEGORIES:4th Grade,5th Grade,6th Grade,7th Grade
END:VEVENT
BEGIN:VEVENT
DTSTART;VALUE=DATE:20220601
DTEND;VALUE=DATE:20220602
DTSTAMP:20260422T190744
CREATED:20220503T144814Z
LAST-MODIFIED:20220601T170404Z
UID:35035-1654041600-1654127999@www.nysmith.com
SUMMARY:Math Finals grades 4\, 5\, 6\, 7
DESCRIPTION:
URL:https://www.nysmith.com/event/4th-5th-6th-7th-grades-math-finals/
CATEGORIES:4th Grade,5th Grade,6th Grade,7th Grade
END:VEVENT
BEGIN:VEVENT
DTSTART;VALUE=DATE:20220530
DTEND;VALUE=DATE:20220531
DTSTAMP:20260422T190744
CREATED:20220301T001828Z
LAST-MODIFIED:20220529T164928Z
UID:33966-1653868800-1653955199@www.nysmith.com
SUMMARY:Memorial Day Holiday
DESCRIPTION:
URL:https://www.nysmith.com/event/memorial-day-holiday/
CATEGORIES:1st grade,2nd Grade,3rd Grade,4th Grade,5th Grade,6th Grade,7th Grade,8th Grade,Beginners,Kindergarten,Pre-Kindergarten
END:VEVENT
BEGIN:VEVENT
DTSTART;VALUE=DATE:20220525
DTEND;VALUE=DATE:20220526
DTSTAMP:20260422T190744
CREATED:20220301T001828Z
LAST-MODIFIED:20220525T163310Z
UID:34910-1653436800-1653523199@www.nysmith.com
SUMMARY:Field Day 4th-8th
DESCRIPTION:
URL:https://www.nysmith.com/event/field-day-4th-8th/
CATEGORIES:4th Grade,5th Grade,6th Grade,7th Grade,8th Grade
END:VEVENT
BEGIN:VEVENT
DTSTART;VALUE=DATE:20220519
DTEND;VALUE=DATE:20220520
DTSTAMP:20260422T190744
CREATED:20220328T132519Z
LAST-MODIFIED:20220519T160154Z
UID:34022-1652918400-1653004799@www.nysmith.com
SUMMARY:4th grade Field Trip
DESCRIPTION:
URL:https://www.nysmith.com/event/4th-grade-field-trip/
CATEGORIES:4th Grade
END:VEVENT
BEGIN:VEVENT
DTSTART;VALUE=DATE:20220513
DTEND;VALUE=DATE:20220514
DTSTAMP:20260422T190744
CREATED:20220421T141554Z
LAST-MODIFIED:20220512T153215Z
UID:34996-1652400000-1652486399@www.nysmith.com
SUMMARY:Movie Night
DESCRIPTION:
URL:https://www.nysmith.com/event/movie-night/
CATEGORIES:1st grade,2nd Grade,3rd Grade,4th Grade,5th Grade,6th Grade,7th Grade,8th Grade,Beginners,Kindergarten,Pre-Kindergarten
END:VEVENT
BEGIN:VEVENT
DTSTART;VALUE=DATE:20220504
DTEND;VALUE=DATE:20220505
DTSTAMP:20260422T190744
CREATED:20220301T001827Z
LAST-MODIFIED:20220504T144659Z
UID:33961-1651622400-1651708799@www.nysmith.com
SUMMARY:Spring Picture Day 4th-8th
DESCRIPTION:
URL:https://www.nysmith.com/event/spring-picture-day-4th-8th/
CATEGORIES:4th Grade,5th Grade,6th Grade,7th Grade,8th Grade
END:VEVENT
BEGIN:VEVENT
DTSTART;VALUE=DATE:20220429
DTEND;VALUE=DATE:20220430
DTSTAMP:20260422T190744
CREATED:20220411T134846Z
LAST-MODIFIED:20220429T141752Z
UID:34049-1651190400-1651276799@www.nysmith.com
SUMMARY:Spring Book Fair
DESCRIPTION:
URL:https://www.nysmith.com/event/spring-book-fair-5/
CATEGORIES:1st grade,2nd Grade,3rd Grade,4th Grade,5th Grade,6th Grade,7th Grade,8th Grade,Beginners,Kindergarten,Pre-Kindergarten
END:VEVENT
BEGIN:VEVENT
DTSTART;VALUE=DATE:20220428
DTEND;VALUE=DATE:20220429
DTSTAMP:20260422T190744
CREATED:20220411T134846Z
LAST-MODIFIED:20220428T141738Z
UID:34047-1651104000-1651190399@www.nysmith.com
SUMMARY:Spring Book Fair
DESCRIPTION:
URL:https://www.nysmith.com/event/spring-book-fair-4/
CATEGORIES:1st grade,2nd Grade,3rd Grade,4th Grade,5th Grade,6th Grade,7th Grade,8th Grade,Beginners,Kindergarten,Pre-Kindergarten
END:VEVENT
BEGIN:VEVENT
DTSTART;VALUE=DATE:20220428
DTEND;VALUE=DATE:20220429
DTSTAMP:20260422T190744
CREATED:20220411T134846Z
LAST-MODIFIED:20220428T141738Z
UID:34048-1651104000-1651190399@www.nysmith.com
SUMMARY:4th and 6th IOWA Testing
DESCRIPTION:
URL:https://www.nysmith.com/event/4th-and-6th-iowa-testing-6/
CATEGORIES:4th Grade,6th Grade
END:VEVENT
BEGIN:VEVENT
DTSTART;VALUE=DATE:20220427
DTEND;VALUE=DATE:20220428
DTSTAMP:20260422T190744
CREATED:20220411T134845Z
LAST-MODIFIED:20220427T141611Z
UID:34045-1651017600-1651103999@www.nysmith.com
SUMMARY:4th and 6th IOWA Testing
DESCRIPTION:
URL:https://www.nysmith.com/event/4th-and-6th-iowa-testing-5/
CATEGORIES:4th Grade,6th Grade
END:VEVENT
BEGIN:VEVENT
DTSTART;VALUE=DATE:20220427
DTEND;VALUE=DATE:20220428
DTSTAMP:20260422T190744
CREATED:20220411T134844Z
LAST-MODIFIED:20220427T141611Z
UID:34044-1651017600-1651103999@www.nysmith.com
SUMMARY:Spring Book Fair
DESCRIPTION:
URL:https://www.nysmith.com/event/spring-book-fair-2/
CATEGORIES:1st grade,2nd Grade,3rd Grade,4th Grade,5th Grade,6th Grade,7th Grade,8th Grade,Beginners,Kindergarten,Pre-Kindergarten
END:VEVENT
BEGIN:VEVENT
DTSTART;VALUE=DATE:20220426
DTEND;VALUE=DATE:20220427
DTSTAMP:20260422T190744
CREATED:20220411T134846Z
LAST-MODIFIED:20220426T141616Z
UID:34046-1650931200-1651017599@www.nysmith.com
SUMMARY:Spring Book Fair
DESCRIPTION:
URL:https://www.nysmith.com/event/spring-book-fair-3/
CATEGORIES:1st grade,2nd Grade,3rd Grade,4th Grade,5th Grade,6th Grade,7th Grade,8th Grade,Beginners,Kindergarten,Pre-Kindergarten
END:VEVENT
BEGIN:VEVENT
DTSTART;VALUE=DATE:20220426
DTEND;VALUE=DATE:20220427
DTSTAMP:20260422T190744
CREATED:20220301T001826Z
LAST-MODIFIED:20220426T141615Z
UID:34909-1650931200-1651017599@www.nysmith.com
SUMMARY:4th and 6th IOWA Testing
DESCRIPTION:
URL:https://www.nysmith.com/event/4th-and-6th-iowa-testing-2/
CATEGORIES:4th Grade,6th Grade
END:VEVENT
BEGIN:VEVENT
DTSTART;VALUE=DATE:20220425
DTEND;VALUE=DATE:20220426
DTSTAMP:20260422T190744
CREATED:20220301T001826Z
LAST-MODIFIED:20220425T141614Z
UID:33960-1650844800-1650931199@www.nysmith.com
SUMMARY:Spring Book Fair
DESCRIPTION:
URL:https://www.nysmith.com/event/spring-book-fair/
CATEGORIES:1st grade,2nd Grade,3rd Grade,4th Grade,5th Grade,6th Grade,7th Grade,8th Grade,Beginners,Kindergarten,Pre-Kindergarten
END:VEVENT
BEGIN:VEVENT
DTSTART;VALUE=DATE:20220422
DTEND;VALUE=DATE:20220423
DTSTAMP:20260422T190744
CREATED:20220301T001826Z
LAST-MODIFIED:20220422T141715Z
UID:33958-1650585600-1650671999@www.nysmith.com
SUMMARY:International Day
DESCRIPTION:
URL:https://www.nysmith.com/event/international-day/
CATEGORIES:1st grade,2nd Grade,3rd Grade,4th Grade,5th Grade,6th Grade,7th Grade,8th Grade,Beginners,Kindergarten,Pre-Kindergarten
END:VEVENT
BEGIN:VEVENT
DTSTART;VALUE=DATE:20220421
DTEND;VALUE=DATE:20220422
DTSTAMP:20260422T190744
CREATED:20220411T134841Z
LAST-MODIFIED:20220421T141553Z
UID:34042-1650499200-1650585599@www.nysmith.com
SUMMARY:4th and 6th IOWA Testing
DESCRIPTION:
URL:https://www.nysmith.com/event/4th-and-6th-iowa-testing-3/
CATEGORIES:4th Grade,6th Grade
END:VEVENT
BEGIN:VEVENT
DTSTART;VALUE=DATE:20220420
DTEND;VALUE=DATE:20220421
DTSTAMP:20260422T190744
CREATED:20220411T134842Z
LAST-MODIFIED:20220420T141738Z
UID:34043-1650412800-1650499199@www.nysmith.com
SUMMARY:4th and 6th IOWA Testing
DESCRIPTION:
URL:https://www.nysmith.com/event/4th-and-6th-iowa-testing-4/
CATEGORIES:4th Grade,6th Grade
END:VEVENT
BEGIN:VEVENT
DTSTART;VALUE=DATE:20220419
DTEND;VALUE=DATE:20220420
DTSTAMP:20260422T190744
CREATED:20220301T001824Z
LAST-MODIFIED:20220419T141753Z
UID:33957-1650326400-1650412799@www.nysmith.com
SUMMARY:4th and 6th IOWA Testing
DESCRIPTION:
URL:https://www.nysmith.com/event/4th-and-6th-iowa-testing/
CATEGORIES:4th Grade,6th Grade
END:VEVENT
BEGIN:VEVENT
DTSTART;VALUE=DATE:20220415
DTEND;VALUE=DATE:20220416
DTSTAMP:20260422T190744
CREATED:20220301T001821Z
LAST-MODIFIED:20220415T140218Z
UID:33955-1649980800-1650067199@www.nysmith.com
SUMMARY:School Holiday
DESCRIPTION:
URL:https://www.nysmith.com/event/school-holiday/
CATEGORIES:1st grade,2nd Grade,3rd Grade,4th Grade,5th Grade,6th Grade,7th Grade,8th Grade,Beginners,Kindergarten,Pre-Kindergarten
END:VEVENT
BEGIN:VEVENT
DTSTART;VALUE=DATE:20220413
DTEND;VALUE=DATE:20220414
DTSTAMP:20260422T190744
CREATED:20220301T001819Z
LAST-MODIFIED:20220413T135625Z
UID:33954-1649808000-1649894399@www.nysmith.com
SUMMARY:Special Olympics
DESCRIPTION:
URL:https://www.nysmith.com/event/special-olympics/
CATEGORIES:1st grade,2nd Grade,3rd Grade,4th Grade,5th Grade,6th Grade,7th Grade,8th Grade,Beginners,Kindergarten,Pre-Kindergarten
END:VEVENT
BEGIN:VEVENT
DTSTART;VALUE=DATE:20220404
DTEND;VALUE=DATE:20220409
DTSTAMP:20260422T190744
CREATED:20220224T001836Z
LAST-MODIFIED:20220224T001836Z
UID:33946-1649030400-1649462399@www.nysmith.com
SUMMARY:Spring Break
DESCRIPTION:
URL:https://www.nysmith.com/event/spring-break/
CATEGORIES:1st grade,2nd Grade,3rd Grade,4th Grade,5th Grade,6th Grade,7th Grade,8th Grade,Beginners,Kindergarten,Pre-Kindergarten
END:VEVENT
BEGIN:VEVENT
DTSTART;VALUE=DATE:20220324
DTEND;VALUE=DATE:20220325
DTSTAMP:20260422T190744
CREATED:20220212T144428Z
LAST-MODIFIED:20220212T144428Z
UID:33927-1648080000-1648166399@www.nysmith.com
SUMMARY:4th Quarter Begins
DESCRIPTION:
URL:https://www.nysmith.com/event/4th-quarter-begins/
CATEGORIES:1st grade,2nd Grade,3rd Grade,4th Grade,5th Grade,6th Grade,7th Grade,8th Grade,Beginners,Kindergarten,Pre-Kindergarten
END:VEVENT
BEGIN:VEVENT
DTSTART;VALUE=DATE:20220318
DTEND;VALUE=DATE:20220319
DTSTAMP:20260422T190744
CREATED:20220212T144427Z
LAST-MODIFIED:20220212T144427Z
UID:34907-1647561600-1647647999@www.nysmith.com
SUMMARY:Teacher Workday - school closed
DESCRIPTION:
URL:https://www.nysmith.com/event/teacher-workday-school-closed/
CATEGORIES:1st grade,2nd Grade,3rd Grade,4th Grade,5th Grade,6th Grade,7th Grade,8th Grade,Beginners,Kindergarten,Pre-Kindergarten
END:VEVENT
BEGIN:VEVENT
DTSTART;VALUE=DATE:20220315
DTEND;VALUE=DATE:20220318
DTSTAMP:20260422T190744
CREATED:20220218T001800Z
LAST-MODIFIED:20220218T001800Z
UID:33937-1647302400-1647561599@www.nysmith.com
SUMMARY:International Bazaar
DESCRIPTION:
URL:https://www.nysmith.com/event/international-bazaar/
CATEGORIES:1st grade,2nd Grade,3rd Grade,4th Grade,5th Grade,6th Grade,7th Grade,8th Grade,Beginners,Kindergarten,Pre-Kindergarten
END:VEVENT
BEGIN:VEVENT
DTSTART;VALUE=DATE:20220302
DTEND;VALUE=DATE:20220303
DTSTAMP:20260422T190744
CREATED:20220218T001758Z
LAST-MODIFIED:20220218T001758Z
UID:33936-1646179200-1646265599@www.nysmith.com
SUMMARY:National Read Across America Day 9:30 Drop Everything And Read
DESCRIPTION:
URL:https://www.nysmith.com/event/national-read-across-america-day/
CATEGORIES:1st grade,2nd Grade,3rd Grade,4th Grade,5th Grade,6th Grade,7th Grade,8th Grade,Beginners,Kindergarten,Pre-Kindergarten
END:VEVENT
BEGIN:VEVENT
DTSTART;VALUE=DATE:20220221
DTEND;VALUE=DATE:20220222
DTSTAMP:20260422T190744
CREATED:20220211T141354Z
LAST-MODIFIED:20220211T141354Z
UID:33917-1645401600-1645487999@www.nysmith.com
SUMMARY:Presidents' Day Holiday
DESCRIPTION:
URL:https://www.nysmith.com/event/presidents-day-holiday-2/
CATEGORIES:1st grade,2nd Grade,3rd Grade,4th Grade,5th Grade,6th Grade,7th Grade,8th Grade,Beginners,Kindergarten,Pre-Kindergarten
END:VEVENT
BEGIN:VEVENT
DTSTART;VALUE=DATE:20220221
DTEND;VALUE=DATE:20220222
DTSTAMP:20260422T190744
CREATED:20220211T141353Z
LAST-MODIFIED:20220211T141353Z
UID:34905-1645401600-1645487999@www.nysmith.com
SUMMARY:Presidents' Day Holiday
DESCRIPTION:
URL:https://www.nysmith.com/event/presidents-day-holiday/
CATEGORIES:1st grade,2nd Grade,3rd Grade,4th Grade,5th Grade,6th Grade,7th Grade,8th Grade,Beginners,Kindergarten,Pre-Kindergarten
END:VEVENT
END:VCALENDAR