BEGIN:VCALENDAR
VERSION:2.0
PRODID:-//Nysmith School - ECPv6.9.0//NONSGML v1.0//EN
CALSCALE:GREGORIAN
METHOD:PUBLISH
X-ORIGINAL-URL:https://www.nysmith.com
X-WR-CALDESC:Events for Nysmith School
REFRESH-INTERVAL;VALUE=DURATION:PT1H
X-Robots-Tag:noindex
X-PUBLISHED-TTL:PT1H
BEGIN:VTIMEZONE
TZID:America/New_York
BEGIN:DAYLIGHT
TZOFFSETFROM:-0500
TZOFFSETTO:-0400
TZNAME:EDT
DTSTART:20230312T070000
END:DAYLIGHT
BEGIN:STANDARD
TZOFFSETFROM:-0400
TZOFFSETTO:-0500
TZNAME:EST
DTSTART:20231105T060000
END:STANDARD
END:VTIMEZONE
BEGIN:VEVENT
DTSTART;VALUE=DATE:20230118
DTEND;VALUE=DATE:20230119
DTSTAMP:20260423T013522
CREATED:20230106T143137Z
LAST-MODIFIED:20230118T142103Z
UID:36441-1674000000-1674086399@www.nysmith.com
SUMMARY:AMC 8 (Course 3 & above\, during math)
DESCRIPTION:
URL:https://www.nysmith.com/event/amc-8-course-3-above-during-math/
LOCATION:VA
CATEGORIES:4th Grade,5th Grade,6th Grade,7th Grade,8th Grade
END:VEVENT
END:VCALENDAR