BEGIN:VCALENDAR
VERSION:2.0
PRODID:-//Nysmith School - ECPv6.9.0//NONSGML v1.0//EN
CALSCALE:GREGORIAN
METHOD:PUBLISH
X-ORIGINAL-URL:https://www.nysmith.com
X-WR-CALDESC:Events for Nysmith School
REFRESH-INTERVAL;VALUE=DURATION:PT1H
X-Robots-Tag:noindex
X-PUBLISHED-TTL:PT1H
BEGIN:VTIMEZONE
TZID:America/New_York
BEGIN:DAYLIGHT
TZOFFSETFROM:-0500
TZOFFSETTO:-0400
TZNAME:EDT
DTSTART:20220313T070000
END:DAYLIGHT
BEGIN:STANDARD
TZOFFSETFROM:-0400
TZOFFSETTO:-0500
TZNAME:EST
DTSTART:20221106T060000
END:STANDARD
END:VTIMEZONE
BEGIN:VEVENT
DTSTART;VALUE=DATE:20221201
DTEND;VALUE=DATE:20221202
DTSTAMP:20260425T144046
CREATED:20221003T180634Z
LAST-MODIFIED:20221201T161536Z
UID:36089-1669852800-1669939199@www.nysmith.com
SUMMARY:Toys for Tots
DESCRIPTION:
URL:https://www.nysmith.com/event/toys-for-tots-2/
LOCATION:VA
CATEGORIES:1st grade,2nd Grade,3rd Grade,4th Grade,5th Grade,6th Grade,7th Grade,8th Grade,Beginners,Kindergarten,Pre-Kindergarten
END:VEVENT
END:VCALENDAR