BEGIN:VCALENDAR
VERSION:2.0
PRODID:-//Nysmith School - ECPv6.9.0//NONSGML v1.0//EN
CALSCALE:GREGORIAN
METHOD:PUBLISH
X-WR-CALNAME:Nysmith School
X-ORIGINAL-URL:https://www.nysmith.com
X-WR-CALDESC:Events for Nysmith School
REFRESH-INTERVAL;VALUE=DURATION:PT1H
X-Robots-Tag:noindex
X-PUBLISHED-TTL:PT1H
BEGIN:VTIMEZONE
TZID:America/New_York
BEGIN:DAYLIGHT
TZOFFSETFROM:-0500
TZOFFSETTO:-0400
TZNAME:EDT
DTSTART:20230312T070000
END:DAYLIGHT
BEGIN:STANDARD
TZOFFSETFROM:-0400
TZOFFSETTO:-0500
TZNAME:EST
DTSTART:20231105T060000
END:STANDARD
END:VTIMEZONE
BEGIN:VEVENT
DTSTART;VALUE=DATE:20231205
DTEND;VALUE=DATE:20231206
DTSTAMP:20260423T011723
CREATED:20231101T165953Z
LAST-MODIFIED:20231205T173535Z
UID:40081-1701734400-1701820799@www.nysmith.com
SUMMARY:2nd-3rd and Adv. Chorus Concert 10:00am
DESCRIPTION:
URL:https://www.nysmith.com/event/2nd-3rd-and-adv-chorus-concert-1000am/
LOCATION:VA
CATEGORIES:2nd Grade,3rd Grade,4th Grade,5th Grade,6th Grade,7th Grade,8th Grade
END:VEVENT
BEGIN:VEVENT
DTSTART;VALUE=DATE:20231207
DTEND;VALUE=DATE:20231208
DTSTAMP:20260423T011723
CREATED:20231101T165955Z
LAST-MODIFIED:20231207T174757Z
UID:40082-1701907200-1701993599@www.nysmith.com
SUMMARY:4th-5th and Bands Concert 8:45am
DESCRIPTION:
URL:https://www.nysmith.com/event/4th-5th-and-bands-concert-845am/
LOCATION:VA
CATEGORIES:3rd Grade,4th Grade,5th Grade,6th Grade,7th Grade,8th Grade
END:VEVENT
BEGIN:VEVENT
DTSTART;VALUE=DATE:20231207
DTEND;VALUE=DATE:20231208
DTSTAMP:20260423T011723
CREATED:20231101T165957Z
LAST-MODIFIED:20231207T174758Z
UID:40083-1701907200-1701993599@www.nysmith.com
SUMMARY:6th and Strings Concert 10:00am
DESCRIPTION:
URL:https://www.nysmith.com/event/6th-and-strings-concert-1000am/
LOCATION:VA
CATEGORIES:2nd Grade,3rd Grade,4th Grade,5th Grade,6th Grade,7th Grade,8th Grade
END:VEVENT
BEGIN:VEVENT
DTSTART;VALUE=DATE:20231215
DTEND;VALUE=DATE:20231216
DTSTAMP:20260423T011723
CREATED:20230919T200454Z
LAST-MODIFIED:20231215T151814Z
UID:39739-1702598400-1702684799@www.nysmith.com
SUMMARY:Holiday Parties K-8 1:45-2:45
DESCRIPTION:
URL:https://www.nysmith.com/event/holiday-parties-k-8-145-245/
LOCATION:VA
CATEGORIES:1st grade,2nd Grade,3rd Grade,4th Grade,5th Grade,6th Grade,7th Grade,8th Grade,Kindergarten
END:VEVENT
BEGIN:VEVENT
DTSTART;VALUE=DATE:20231218
DTEND;VALUE=DATE:20231219
DTSTAMP:20260423T011723
CREATED:20230814T155025Z
LAST-MODIFIED:20231218T153249Z
UID:38859-1702857600-1702943999@www.nysmith.com
SUMMARY:Winter Break - No School
DESCRIPTION:
URL:https://www.nysmith.com/event/winter-break-no-school/
LOCATION:VA
CATEGORIES:1st grade,2nd Grade,3rd Grade,4th Grade,5th Grade,6th Grade,7th Grade,8th Grade,Beginners,Kindergarten,Pre-Kindergarten
END:VEVENT
BEGIN:VEVENT
DTSTART;VALUE=DATE:20231219
DTEND;VALUE=DATE:20231220
DTSTAMP:20260423T011723
CREATED:20230814T155025Z
LAST-MODIFIED:20231219T153227Z
UID:38860-1702944000-1703030399@www.nysmith.com
SUMMARY:Winter Break - No School
DESCRIPTION:
URL:https://www.nysmith.com/event/winter-break-no-school-2/
LOCATION:VA
CATEGORIES:1st grade,2nd Grade,3rd Grade,4th Grade,5th Grade,6th Grade,7th Grade,8th Grade,Beginners,Kindergarten,Pre-Kindergarten
END:VEVENT
BEGIN:VEVENT
DTSTART;VALUE=DATE:20231220
DTEND;VALUE=DATE:20231221
DTSTAMP:20260423T011723
CREATED:20230814T155027Z
LAST-MODIFIED:20231220T153255Z
UID:38861-1703030400-1703116799@www.nysmith.com
SUMMARY:Winter Break - No School
DESCRIPTION:
URL:https://www.nysmith.com/event/winter-break-no-school-3/
LOCATION:VA
CATEGORIES:1st grade,2nd Grade,3rd Grade,4th Grade,5th Grade,6th Grade,7th Grade,8th Grade,Beginners,Kindergarten,Pre-Kindergarten
END:VEVENT
BEGIN:VEVENT
DTSTART;VALUE=DATE:20231221
DTEND;VALUE=DATE:20231222
DTSTAMP:20260423T011723
CREATED:20230814T155028Z
LAST-MODIFIED:20231221T153244Z
UID:38862-1703116800-1703203199@www.nysmith.com
SUMMARY:Winter Break - No School
DESCRIPTION:
URL:https://www.nysmith.com/event/winter-break-no-school-4/
LOCATION:VA
CATEGORIES:1st grade,2nd Grade,3rd Grade,4th Grade,5th Grade,6th Grade,7th Grade,8th Grade,Beginners,Kindergarten,Pre-Kindergarten
END:VEVENT
BEGIN:VEVENT
DTSTART;VALUE=DATE:20231222
DTEND;VALUE=DATE:20231223
DTSTAMP:20260423T011723
CREATED:20230814T155028Z
LAST-MODIFIED:20231222T153307Z
UID:38863-1703203200-1703289599@www.nysmith.com
SUMMARY:Winter Break - No School
DESCRIPTION:
URL:https://www.nysmith.com/event/winter-break-no-school-5/
LOCATION:VA
CATEGORIES:1st grade,2nd Grade,3rd Grade,4th Grade,5th Grade,6th Grade,7th Grade,8th Grade,Beginners,Kindergarten,Pre-Kindergarten
END:VEVENT
BEGIN:VEVENT
DTSTART;VALUE=DATE:20231225
DTEND;VALUE=DATE:20231226
DTSTAMP:20260423T011723
CREATED:20230814T155030Z
LAST-MODIFIED:20231225T153345Z
UID:38864-1703462400-1703548799@www.nysmith.com
SUMMARY:Winter Break - No School
DESCRIPTION:
URL:https://www.nysmith.com/event/winter-break-no-school-6/
LOCATION:VA
CATEGORIES:1st grade,2nd Grade,3rd Grade,4th Grade,5th Grade,6th Grade,7th Grade,8th Grade,Beginners,Kindergarten,Pre-Kindergarten
END:VEVENT
BEGIN:VEVENT
DTSTART;VALUE=DATE:20231226
DTEND;VALUE=DATE:20231227
DTSTAMP:20260423T011723
CREATED:20230814T155033Z
LAST-MODIFIED:20231226T153242Z
UID:38867-1703548800-1703635199@www.nysmith.com
SUMMARY:Winter Break - No School
DESCRIPTION:
URL:https://www.nysmith.com/event/winter-break-no-school-9/
LOCATION:VA
CATEGORIES:1st grade,2nd Grade,3rd Grade,4th Grade,5th Grade,6th Grade,7th Grade,8th Grade,Beginners,Kindergarten,Pre-Kindergarten
END:VEVENT
BEGIN:VEVENT
DTSTART;VALUE=DATE:20231227
DTEND;VALUE=DATE:20231228
DTSTAMP:20260423T011723
CREATED:20230814T155031Z
LAST-MODIFIED:20231227T154723Z
UID:38866-1703635200-1703721599@www.nysmith.com
SUMMARY:Winter Break - No School
DESCRIPTION:
URL:https://www.nysmith.com/event/winter-break-no-school-8/
LOCATION:VA
CATEGORIES:1st grade,2nd Grade,3rd Grade,4th Grade,5th Grade,6th Grade,7th Grade,8th Grade,Beginners,Kindergarten,Pre-Kindergarten
END:VEVENT
BEGIN:VEVENT
DTSTART;VALUE=DATE:20231228
DTEND;VALUE=DATE:20231229
DTSTAMP:20260423T011723
CREATED:20230814T155031Z
LAST-MODIFIED:20231228T154729Z
UID:38865-1703721600-1703807999@www.nysmith.com
SUMMARY:Winter Break - No School
DESCRIPTION:
URL:https://www.nysmith.com/event/winter-break-no-school-7/
LOCATION:VA
CATEGORIES:1st grade,2nd Grade,3rd Grade,4th Grade,5th Grade,6th Grade,7th Grade,8th Grade,Beginners,Kindergarten,Pre-Kindergarten
END:VEVENT
BEGIN:VEVENT
DTSTART;VALUE=DATE:20231229
DTEND;VALUE=DATE:20231230
DTSTAMP:20260423T011723
CREATED:20230814T155033Z
LAST-MODIFIED:20231229T154733Z
UID:38868-1703808000-1703894399@www.nysmith.com
SUMMARY:Winter Break - No School
DESCRIPTION:
URL:https://www.nysmith.com/event/winter-break-no-school-10/
LOCATION:VA
CATEGORIES:1st grade,2nd Grade,3rd Grade,4th Grade,5th Grade,6th Grade,7th Grade,8th Grade,Beginners,Kindergarten,Pre-Kindergarten
END:VEVENT
END:VCALENDAR