BEGIN:VCALENDAR
VERSION:2.0
PRODID:-//Nysmith School - ECPv6.9.0//NONSGML v1.0//EN
CALSCALE:GREGORIAN
METHOD:PUBLISH
X-WR-CALNAME:Nysmith School
X-ORIGINAL-URL:https://www.nysmith.com
X-WR-CALDESC:Events for Nysmith School
REFRESH-INTERVAL;VALUE=DURATION:PT1H
X-Robots-Tag:noindex
X-PUBLISHED-TTL:PT1H
BEGIN:VTIMEZONE
TZID:America/New_York
BEGIN:DAYLIGHT
TZOFFSETFROM:-0500
TZOFFSETTO:-0400
TZNAME:EDT
DTSTART:20230312T070000
END:DAYLIGHT
BEGIN:STANDARD
TZOFFSETFROM:-0400
TZOFFSETTO:-0500
TZNAME:EST
DTSTART:20231105T060000
END:STANDARD
END:VTIMEZONE
BEGIN:VEVENT
DTSTART;VALUE=DATE:20231103
DTEND;VALUE=DATE:20231104
DTSTAMP:20260422T233705
CREATED:20230814T155019Z
LAST-MODIFIED:20231103T200009Z
UID:38852-1698969600-1699055999@www.nysmith.com
SUMMARY:Teacher Work Day - Childcare Available
DESCRIPTION:
URL:https://www.nysmith.com/event/teacher-work-day-childcare-available/
LOCATION:VA
CATEGORIES:1st grade,2nd Grade,3rd Grade,4th Grade,5th Grade,6th Grade,7th Grade,8th Grade,Beginners,Kindergarten,Pre-Kindergarten
END:VEVENT
BEGIN:VEVENT
DTSTART;VALUE=DATE:20231110
DTEND;VALUE=DATE:20231111
DTSTAMP:20260422T233705
CREATED:20230814T155020Z
LAST-MODIFIED:20231110T153431Z
UID:38853-1699574400-1699660799@www.nysmith.com
SUMMARY:Veterans Day - No School
DESCRIPTION:
URL:https://www.nysmith.com/event/veterans-day-no-school-2/
LOCATION:VA
CATEGORIES:1st grade,2nd Grade,3rd Grade,4th Grade,5th Grade,6th Grade,7th Grade,8th Grade,Beginners,Kindergarten,Pre-Kindergarten
END:VEVENT
BEGIN:VEVENT
DTSTART;VALUE=DATE:20231113
DTEND;VALUE=DATE:20231114
DTSTAMP:20260422T233705
CREATED:20230814T155020Z
LAST-MODIFIED:20231113T154733Z
UID:38854-1699833600-1699919999@www.nysmith.com
SUMMARY:Parent Teacher Conferences - Childcare Available
DESCRIPTION:
URL:https://www.nysmith.com/event/parent-teacher-conferences-childcare-available/
LOCATION:VA
CATEGORIES:1st grade,2nd Grade,3rd Grade,4th Grade,5th Grade,6th Grade,7th Grade,8th Grade,Beginners,Kindergarten,Pre-Kindergarten
END:VEVENT
BEGIN:VEVENT
DTSTART;VALUE=DATE:20231114
DTEND;VALUE=DATE:20231115
DTSTAMP:20260422T233705
CREATED:20230814T155022Z
LAST-MODIFIED:20231114T200051Z
UID:38855-1699920000-1700006399@www.nysmith.com
SUMMARY:Parent Teacher Conferences - Childcare Available
DESCRIPTION:
URL:https://www.nysmith.com/event/parent-teacher-conferences-childcare-available-2/
LOCATION:VA
CATEGORIES:1st grade,2nd Grade,3rd Grade,4th Grade,5th Grade,6th Grade,7th Grade,8th Grade,Beginners,Kindergarten,Pre-Kindergarten
END:VEVENT
BEGIN:VEVENT
DTSTART;VALUE=DATE:20231117
DTEND;VALUE=DATE:20231118
DTSTAMP:20260422T233705
CREATED:20230905T151803Z
LAST-MODIFIED:20231117T140309Z
UID:39425-1700179200-1700265599@www.nysmith.com
SUMMARY:Fall Picture Retakes
DESCRIPTION:
URL:https://www.nysmith.com/event/fall-picture-retakes/
LOCATION:VA
CATEGORIES:1st grade,2nd Grade,3rd Grade,4th Grade,5th Grade,6th Grade,7th Grade,8th Grade,Beginners,Kindergarten,Pre-Kindergarten
END:VEVENT
BEGIN:VEVENT
DTSTART;VALUE=DATE:20231122
DTEND;VALUE=DATE:20231123
DTSTAMP:20260422T233705
CREATED:20230814T155025Z
LAST-MODIFIED:20231122T141800Z
UID:38858-1700611200-1700697599@www.nysmith.com
SUMMARY:Thanksgiving Break - No School
DESCRIPTION:
URL:https://www.nysmith.com/event/thanksgiving-break-no-school-3/
LOCATION:VA
CATEGORIES:1st grade,2nd Grade,3rd Grade,4th Grade,5th Grade,6th Grade,7th Grade,8th Grade,Beginners,Kindergarten,Pre-Kindergarten
END:VEVENT
BEGIN:VEVENT
DTSTART;VALUE=DATE:20231123
DTEND;VALUE=DATE:20231124
DTSTAMP:20260422T233705
CREATED:20230814T155023Z
LAST-MODIFIED:20231123T141829Z
UID:38857-1700697600-1700783999@www.nysmith.com
SUMMARY:Thanksgiving Break - No School
DESCRIPTION:
URL:https://www.nysmith.com/event/thanksgiving-break-no-school-2/
LOCATION:VA
CATEGORIES:1st grade,2nd Grade,3rd Grade,4th Grade,5th Grade,6th Grade,7th Grade,8th Grade,Beginners,Kindergarten,Pre-Kindergarten
END:VEVENT
BEGIN:VEVENT
DTSTART;VALUE=DATE:20231124
DTEND;VALUE=DATE:20231125
DTSTAMP:20260422T233705
CREATED:20230814T155023Z
LAST-MODIFIED:20231124T143245Z
UID:38856-1700784000-1700870399@www.nysmith.com
SUMMARY:Thanksgiving Break - No School
DESCRIPTION:
URL:https://www.nysmith.com/event/thanksgiving-break-no-school/
LOCATION:VA
CATEGORIES:1st grade,2nd Grade,3rd Grade,4th Grade,5th Grade,6th Grade,7th Grade,8th Grade,Beginners,Kindergarten,Pre-Kindergarten
END:VEVENT
END:VCALENDAR