BEGIN:VCALENDAR
VERSION:2.0
PRODID:-//Nysmith School - ECPv6.9.0//NONSGML v1.0//EN
CALSCALE:GREGORIAN
METHOD:PUBLISH
X-WR-CALNAME:Nysmith School
X-ORIGINAL-URL:https://www.nysmith.com
X-WR-CALDESC:Events for Nysmith School
REFRESH-INTERVAL;VALUE=DURATION:PT1H
X-Robots-Tag:noindex
X-PUBLISHED-TTL:PT1H
BEGIN:VTIMEZONE
TZID:America/New_York
BEGIN:DAYLIGHT
TZOFFSETFROM:-0500
TZOFFSETTO:-0400
TZNAME:EDT
DTSTART:20230312T070000
END:DAYLIGHT
BEGIN:STANDARD
TZOFFSETFROM:-0400
TZOFFSETTO:-0500
TZNAME:EST
DTSTART:20231105T060000
END:STANDARD
END:VTIMEZONE
BEGIN:VEVENT
DTSTART;VALUE=DATE:20230501
DTEND;VALUE=DATE:20230502
DTSTAMP:20260422T160828
CREATED:20230208T155639Z
LAST-MODIFIED:20230501T122100Z
UID:36895-1682899200-1682985599@www.nysmith.com
SUMMARY:4th gr Field Trip
DESCRIPTION:
URL:https://www.nysmith.com/event/4th-gr-field-trip-3/
LOCATION:VA
CATEGORIES:4th Grade
END:VEVENT
BEGIN:VEVENT
DTSTART;VALUE=DATE:20230503
DTEND;VALUE=DATE:20230504
DTSTAMP:20260422T160828
CREATED:20230411T190518Z
LAST-MODIFIED:20230503T125207Z
UID:37145-1683072000-1683158399@www.nysmith.com
SUMMARY:Spring Picture Day 4th -8th grade
DESCRIPTION:
URL:https://www.nysmith.com/event/spring-picture-day-4th-8th-grade/
LOCATION:VA
CATEGORIES:4th Grade,5th Grade,6th Grade,7th Grade,8th Grade
END:VEVENT
BEGIN:VEVENT
DTSTART;VALUE=DATE:20230505
DTEND;VALUE=DATE:20230506
DTSTAMP:20260422T160828
CREATED:20220926T172727Z
LAST-MODIFIED:20230505T130640Z
UID:35918-1683244800-1683331199@www.nysmith.com
SUMMARY:Band/Chorus Busch Gardens/Hershey Park
DESCRIPTION:
URL:https://www.nysmith.com/event/band-chorus-busch-gardens/
LOCATION:VA
CATEGORIES:3rd Grade,4th Grade,5th Grade,6th Grade,7th Grade,8th Grade
END:VEVENT
BEGIN:VEVENT
DTSTART;VALUE=DATE:20230515
DTEND;VALUE=DATE:20230516
DTSTAMP:20260422T160828
CREATED:20220926T172729Z
LAST-MODIFIED:20230515T202146Z
UID:35927-1684108800-1684195199@www.nysmith.com
SUMMARY:4th gr Overnight Field Trip
DESCRIPTION:
URL:https://www.nysmith.com/event/4th-gr-gettysburg-2/
LOCATION:VA
CATEGORIES:4th Grade
END:VEVENT
BEGIN:VEVENT
DTSTART;VALUE=DATE:20230516
DTEND;VALUE=DATE:20230517
DTSTAMP:20260422T160828
CREATED:20220926T172729Z
LAST-MODIFIED:20230516T203543Z
UID:35926-1684195200-1684281599@www.nysmith.com
SUMMARY:4th gr Overnight Field Trip
DESCRIPTION:
URL:https://www.nysmith.com/event/4th-gr-gettysburg/
LOCATION:VA
CATEGORIES:4th Grade
END:VEVENT
BEGIN:VEVENT
DTSTART;VALUE=DATE:20230517
DTEND;VALUE=DATE:20230518
DTSTAMP:20260422T160828
CREATED:20230323T141015Z
LAST-MODIFIED:20230517T203648Z
UID:37084-1684281600-1684367999@www.nysmith.com
SUMMARY:Spring Concert Rehearsal 2-3pm
DESCRIPTION:
URL:https://www.nysmith.com/event/spring-concert-rehearsal-2-3pm/
LOCATION:VA
CATEGORIES:3rd Grade,4th Grade,5th Grade,6th Grade,7th Grade,8th Grade
END:VEVENT
BEGIN:VEVENT
DTSTART;VALUE=DATE:20230518
DTEND;VALUE=DATE:20230519
DTSTAMP:20260422T160828
CREATED:20230106T150535Z
LAST-MODIFIED:20230518T203549Z
UID:36444-1684368000-1684454399@www.nysmith.com
SUMMARY:Spring Concert
DESCRIPTION:
URL:https://www.nysmith.com/event/spring-concert/
LOCATION:VA
CATEGORIES:3rd Grade,4th Grade,5th Grade,6th Grade,7th Grade,8th Grade
END:VEVENT
BEGIN:VEVENT
DTSTART;VALUE=DATE:20230523
DTEND;VALUE=DATE:20230524
DTSTAMP:20260422T160828
CREATED:20220926T172731Z
LAST-MODIFIED:20230523T200425Z
UID:35932-1684800000-1684886399@www.nysmith.com
SUMMARY:Field Day (Beg-3rd)
DESCRIPTION:
URL:https://www.nysmith.com/event/field-day/
LOCATION:VA
CATEGORIES:1st grade,2nd Grade,3rd Grade,4th Grade,5th Grade,6th Grade,7th Grade,8th Grade,Beginners,Kindergarten,Pre-Kindergarten
END:VEVENT
BEGIN:VEVENT
DTSTART;VALUE=DATE:20230524
DTEND;VALUE=DATE:20230525
DTSTAMP:20260422T160828
CREATED:20220926T172731Z
LAST-MODIFIED:20230524T202037Z
UID:35933-1684886400-1684972799@www.nysmith.com
SUMMARY:Field Day (4th-8th)
DESCRIPTION:
URL:https://www.nysmith.com/event/field-day-raindate/
LOCATION:VA
CATEGORIES:1st grade,2nd Grade,3rd Grade,4th Grade,5th Grade,6th Grade,7th Grade,8th Grade,Beginners,Kindergarten,Pre-Kindergarten
END:VEVENT
BEGIN:VEVENT
DTSTART;VALUE=DATE:20230525
DTEND;VALUE=DATE:20230526
DTSTAMP:20260422T160828
CREATED:20230209T184739Z
LAST-MODIFIED:20230525T202057Z
UID:36906-1684972800-1685059199@www.nysmith.com
SUMMARY:Nysmith Dance & Theater Clubs Showcase 4:00
DESCRIPTION:
URL:https://www.nysmith.com/event/nysmith-theater-dance-clubs-showcase-400/
LOCATION:VA
CATEGORIES:1st grade,2nd Grade,3rd Grade,4th Grade,Kindergarten
END:VEVENT
BEGIN:VEVENT
DTSTART;VALUE=DATE:20230529
DTEND;VALUE=DATE:20230530
DTSTAMP:20260422T160828
CREATED:20220504T144716Z
LAST-MODIFIED:20230529T205116Z
UID:35079-1685318400-1685404799@www.nysmith.com
SUMMARY:Memorial Day - No School
DESCRIPTION:
URL:https://www.nysmith.com/event/memorial-day-no-school/
LOCATION:VA
CATEGORIES:1st grade,2nd Grade,3rd Grade,4th Grade,5th Grade,6th Grade,7th Grade,8th Grade,Beginners,Kindergarten,Pre-Kindergarten
END:VEVENT
END:VCALENDAR