BEGIN:VCALENDAR
VERSION:2.0
PRODID:-//Nysmith School - ECPv6.9.0//NONSGML v1.0//EN
CALSCALE:GREGORIAN
METHOD:PUBLISH
X-ORIGINAL-URL:https://www.nysmith.com
X-WR-CALDESC:Events for Nysmith School
REFRESH-INTERVAL;VALUE=DURATION:PT1H
X-Robots-Tag:noindex
X-PUBLISHED-TTL:PT1H
BEGIN:VTIMEZONE
TZID:America/New_York
BEGIN:DAYLIGHT
TZOFFSETFROM:-0500
TZOFFSETTO:-0400
TZNAME:EDT
DTSTART:20230312T070000
END:DAYLIGHT
BEGIN:STANDARD
TZOFFSETFROM:-0400
TZOFFSETTO:-0500
TZNAME:EST
DTSTART:20231105T060000
END:STANDARD
END:VTIMEZONE
BEGIN:VEVENT
DTSTART;VALUE=DATE:20230403
DTEND;VALUE=DATE:20230404
DTSTAMP:20260422T181033
CREATED:20220504T144714Z
LAST-MODIFIED:20230403T133619Z
UID:35074-1680480000-1680566399@www.nysmith.com
SUMMARY:Spring Break
DESCRIPTION:
URL:https://www.nysmith.com/event/spring-break-3/
LOCATION:VA
CATEGORIES:1st grade,2nd Grade,3rd Grade,4th Grade,5th Grade,6th Grade,7th Grade,8th Grade,Beginners,Kindergarten,Pre-Kindergarten
END:VEVENT
BEGIN:VEVENT
DTSTART;VALUE=DATE:20230404
DTEND;VALUE=DATE:20230405
DTSTAMP:20260422T181033
CREATED:20220504T144714Z
LAST-MODIFIED:20230404T135036Z
UID:35073-1680566400-1680652799@www.nysmith.com
SUMMARY:Spring Break
DESCRIPTION:
URL:https://www.nysmith.com/event/spring-break-2/
LOCATION:VA
CATEGORIES:1st grade,2nd Grade,3rd Grade,4th Grade,5th Grade,6th Grade,7th Grade,8th Grade,Beginners,Kindergarten,Pre-Kindergarten
END:VEVENT
BEGIN:VEVENT
DTSTART;VALUE=DATE:20230405
DTEND;VALUE=DATE:20230406
DTSTAMP:20260422T181033
CREATED:20220504T144714Z
LAST-MODIFIED:20230405T135034Z
UID:35075-1680652800-1680739199@www.nysmith.com
SUMMARY:Spring Break
DESCRIPTION:
URL:https://www.nysmith.com/event/spring-break-4/
LOCATION:VA
CATEGORIES:1st grade,2nd Grade,3rd Grade,4th Grade,5th Grade,6th Grade,7th Grade,8th Grade,Beginners,Kindergarten,Pre-Kindergarten
END:VEVENT
BEGIN:VEVENT
DTSTART;VALUE=DATE:20230406
DTEND;VALUE=DATE:20230407
DTSTAMP:20260422T181033
CREATED:20220504T144715Z
LAST-MODIFIED:20230406T140717Z
UID:35076-1680739200-1680825599@www.nysmith.com
SUMMARY:Spring Break
DESCRIPTION:
URL:https://www.nysmith.com/event/spring-break-5/
LOCATION:VA
CATEGORIES:1st grade,2nd Grade,3rd Grade,4th Grade,5th Grade,6th Grade,7th Grade,8th Grade,Beginners,Kindergarten,Pre-Kindergarten
END:VEVENT
BEGIN:VEVENT
DTSTART;VALUE=DATE:20230407
DTEND;VALUE=DATE:20230408
DTSTAMP:20260422T181033
CREATED:20220504T144715Z
LAST-MODIFIED:20230407T142100Z
UID:35077-1680825600-1680911999@www.nysmith.com
SUMMARY:Spring Break
DESCRIPTION:
URL:https://www.nysmith.com/event/spring-break-6/
LOCATION:VA
CATEGORIES:1st grade,2nd Grade,3rd Grade,4th Grade,5th Grade,6th Grade,7th Grade,8th Grade,Beginners,Kindergarten,Pre-Kindergarten
END:VEVENT
BEGIN:VEVENT
DTSTART;VALUE=DATE:20230410
DTEND;VALUE=DATE:20230411
DTSTAMP:20260422T181033
CREATED:20220504T144715Z
LAST-MODIFIED:20230410T142046Z
UID:35078-1681084800-1681171199@www.nysmith.com
SUMMARY:Spring Break
DESCRIPTION:
URL:https://www.nysmith.com/event/spring-break-7/
LOCATION:VA
CATEGORIES:1st grade,2nd Grade,3rd Grade,4th Grade,5th Grade,6th Grade,7th Grade,8th Grade,Beginners,Kindergarten,Pre-Kindergarten
END:VEVENT
BEGIN:VEVENT
DTSTART;VALUE=DATE:20230411
DTEND;VALUE=DATE:20230412
DTSTAMP:20260422T181033
CREATED:20230329T190419Z
LAST-MODIFIED:20230411T190534Z
UID:37103-1681171200-1681257599@www.nysmith.com
SUMMARY:Book Drive
DESCRIPTION:
URL:https://www.nysmith.com/event/book-drive-2/
LOCATION:VA
CATEGORIES:1st grade,2nd Grade,3rd Grade,4th Grade,5th Grade,6th Grade,7th Grade,8th Grade,Beginners,Kindergarten,Pre-Kindergarten
END:VEVENT
BEGIN:VEVENT
DTSTART;VALUE=DATE:20230412
DTEND;VALUE=DATE:20230413
DTSTAMP:20260422T181033
CREATED:20230329T190415Z
LAST-MODIFIED:20230412T193538Z
UID:37102-1681257600-1681343999@www.nysmith.com
SUMMARY:Book Drive
DESCRIPTION:
URL:https://www.nysmith.com/event/book-drive/
LOCATION:VA
CATEGORIES:1st grade,2nd Grade,3rd Grade,4th Grade,5th Grade,6th Grade,7th Grade,8th Grade,Beginners,Kindergarten,Pre-Kindergarten
END:VEVENT
BEGIN:VEVENT
DTSTART;VALUE=DATE:20230413
DTEND;VALUE=DATE:20230414
DTSTAMP:20260422T181033
CREATED:20230329T190422Z
LAST-MODIFIED:20230413T193531Z
UID:37104-1681344000-1681430399@www.nysmith.com
SUMMARY:Book Drive
DESCRIPTION:
URL:https://www.nysmith.com/event/book-drive-3/
LOCATION:VA
CATEGORIES:1st grade,2nd Grade,3rd Grade,4th Grade,5th Grade,6th Grade,7th Grade,8th Grade,Beginners,Kindergarten,Pre-Kindergarten
END:VEVENT
BEGIN:VEVENT
DTSTART;VALUE=DATE:20230414
DTEND;VALUE=DATE:20230415
DTSTAMP:20260422T181033
CREATED:20230329T190424Z
LAST-MODIFIED:20230414T193540Z
UID:37105-1681430400-1681516799@www.nysmith.com
SUMMARY:Book Drive
DESCRIPTION:
URL:https://www.nysmith.com/event/book-drive-4/
LOCATION:VA
CATEGORIES:1st grade,2nd Grade,3rd Grade,4th Grade,5th Grade,6th Grade,7th Grade,8th Grade,Beginners,Kindergarten,Pre-Kindergarten
END:VEVENT
BEGIN:VEVENT
DTSTART;VALUE=DATE:20230417
DTEND;VALUE=DATE:20230418
DTSTAMP:20260422T181033
CREATED:20230329T190424Z
LAST-MODIFIED:20230417T193532Z
UID:37106-1681689600-1681775999@www.nysmith.com
SUMMARY:Book Drive
DESCRIPTION:
URL:https://www.nysmith.com/event/book-drive-5/
LOCATION:VA
CATEGORIES:1st grade,2nd Grade,3rd Grade,4th Grade,5th Grade,6th Grade,7th Grade,8th Grade,Beginners,Kindergarten,Pre-Kindergarten
END:VEVENT
BEGIN:VEVENT
DTSTART;VALUE=DATE:20230418
DTEND;VALUE=DATE:20230419
DTSTAMP:20260422T181033
CREATED:20230329T190425Z
LAST-MODIFIED:20230418T193539Z
UID:37107-1681776000-1681862399@www.nysmith.com
SUMMARY:Book Drive
DESCRIPTION:
URL:https://www.nysmith.com/event/book-drive-6/
LOCATION:VA
CATEGORIES:1st grade,2nd Grade,3rd Grade,4th Grade,5th Grade,6th Grade,7th Grade,8th Grade,Beginners,Kindergarten,Pre-Kindergarten
END:VEVENT
BEGIN:VEVENT
DTSTART;VALUE=DATE:20230421
DTEND;VALUE=DATE:20230422
DTSTAMP:20260422T181033
CREATED:20220926T172719Z
LAST-MODIFIED:20230421T190544Z
UID:35898-1682035200-1682121599@www.nysmith.com
SUMMARY:Grandparents Day
DESCRIPTION:
URL:https://www.nysmith.com/event/grandparents-day/
LOCATION:VA
CATEGORIES:1st grade,2nd Grade,3rd Grade,4th Grade,5th Grade,6th Grade,7th Grade,8th Grade,Beginners,Kindergarten,Pre-Kindergarten
END:VEVENT
BEGIN:VEVENT
DTSTART;VALUE=DATE:20230421
DTEND;VALUE=DATE:20230422
DTSTAMP:20260422T181033
CREATED:20230120T142044Z
LAST-MODIFIED:20230421T190544Z
UID:36784-1682035200-1682121599@www.nysmith.com
SUMMARY:Spring Book Fair
DESCRIPTION:
URL:https://www.nysmith.com/event/spring-book-fair-11/
LOCATION:VA
CATEGORIES:1st grade,2nd Grade,3rd Grade,4th Grade,5th Grade,6th Grade,7th Grade,8th Grade,Beginners,Kindergarten,Pre-Kindergarten
END:VEVENT
BEGIN:VEVENT
DTSTART;VALUE=DATE:20230424
DTEND;VALUE=DATE:20230425
DTSTAMP:20260422T181033
CREATED:20220926T172723Z
LAST-MODIFIED:20230424T192044Z
UID:35907-1682294400-1682380799@www.nysmith.com
SUMMARY:Spring Book Fair
DESCRIPTION:
URL:https://www.nysmith.com/event/spring-book-fair-6/
LOCATION:VA
CATEGORIES:1st grade,2nd Grade,3rd Grade,4th Grade,5th Grade,6th Grade,7th Grade,8th Grade,Beginners,Kindergarten,Pre-Kindergarten
END:VEVENT
BEGIN:VEVENT
DTSTART;VALUE=DATE:20230425
DTEND;VALUE=DATE:20230426
DTSTAMP:20260422T181033
CREATED:20220926T172724Z
LAST-MODIFIED:20230425T192034Z
UID:35912-1682380800-1682467199@www.nysmith.com
SUMMARY:Spring Book Fair
DESCRIPTION:
URL:https://www.nysmith.com/event/spring-book-fair-9/
LOCATION:VA
CATEGORIES:1st grade,2nd Grade,3rd Grade,4th Grade,5th Grade,6th Grade,7th Grade,8th Grade,Beginners,Kindergarten,Pre-Kindergarten
END:VEVENT
BEGIN:VEVENT
DTSTART;VALUE=DATE:20230426
DTEND;VALUE=DATE:20230427
DTSTAMP:20260422T181033
CREATED:20220926T172723Z
LAST-MODIFIED:20230426T200736Z
UID:35908-1682467200-1682553599@www.nysmith.com
SUMMARY:Spring Book Fair
DESCRIPTION:
URL:https://www.nysmith.com/event/spring-book-fair-7/
LOCATION:VA
CATEGORIES:1st grade,2nd Grade,3rd Grade,4th Grade,5th Grade,6th Grade,7th Grade,8th Grade,Beginners,Kindergarten,Pre-Kindergarten
END:VEVENT
BEGIN:VEVENT
DTSTART;VALUE=DATE:20230427
DTEND;VALUE=DATE:20230428
DTSTAMP:20260422T181033
CREATED:20220926T172724Z
LAST-MODIFIED:20230427T122034Z
UID:35910-1682553600-1682639999@www.nysmith.com
SUMMARY:Spring Book Fair
DESCRIPTION:
URL:https://www.nysmith.com/event/spring-book-fair-8/
LOCATION:VA
CATEGORIES:1st grade,2nd Grade,3rd Grade,4th Grade,5th Grade,6th Grade,7th Grade,8th Grade,Beginners,Kindergarten,Pre-Kindergarten
END:VEVENT
BEGIN:VEVENT
DTSTART;VALUE=DATE:20230428
DTEND;VALUE=DATE:20230429
DTSTAMP:20260422T181033
CREATED:20220926T172725Z
LAST-MODIFIED:20230428T122045Z
UID:35915-1682640000-1682726399@www.nysmith.com
SUMMARY:Spring Book Fair
DESCRIPTION:
URL:https://www.nysmith.com/event/spring-book-fair-10/
LOCATION:VA
CATEGORIES:1st grade,2nd Grade,3rd Grade,4th Grade,5th Grade,6th Grade,7th Grade,8th Grade,Beginners,Kindergarten,Pre-Kindergarten
END:VEVENT
END:VCALENDAR