BEGIN:VCALENDAR
VERSION:2.0
PRODID:-//Nysmith School - ECPv6.9.0//NONSGML v1.0//EN
CALSCALE:GREGORIAN
METHOD:PUBLISH
X-ORIGINAL-URL:https://www.nysmith.com
X-WR-CALDESC:Events for Nysmith School
REFRESH-INTERVAL;VALUE=DURATION:PT1H
X-Robots-Tag:noindex
X-PUBLISHED-TTL:PT1H
BEGIN:VTIMEZONE
TZID:America/New_York
BEGIN:DAYLIGHT
TZOFFSETFROM:-0500
TZOFFSETTO:-0400
TZNAME:EDT
DTSTART:20230312T070000
END:DAYLIGHT
BEGIN:STANDARD
TZOFFSETFROM:-0400
TZOFFSETTO:-0500
TZNAME:EST
DTSTART:20231105T060000
END:STANDARD
END:VTIMEZONE
BEGIN:VEVENT
DTSTART;VALUE=DATE:20230302
DTEND;VALUE=DATE:20230303
DTSTAMP:20260422T194936
CREATED:20230216T130657Z
LAST-MODIFIED:20230302T213547Z
UID:36931-1677715200-1677801599@www.nysmith.com
SUMMARY:Read Across America Day - Drop Everything And Read 9:30-9:45
DESCRIPTION:
URL:https://www.nysmith.com/event/read-across-america-day-drop-everything-and-read-930-945/
LOCATION:VA
CATEGORIES:1st grade,2nd Grade,3rd Grade,4th Grade,5th Grade,6th Grade,7th Grade,8th Grade,Beginners,Kindergarten,Pre-Kindergarten
END:VEVENT
BEGIN:VEVENT
DTSTART;VALUE=DATE:20230306
DTEND;VALUE=DATE:20230307
DTSTAMP:20260422T194936
CREATED:20220926T172716Z
LAST-MODIFIED:20230306T175747Z
UID:35888-1678060800-1678147199@www.nysmith.com
SUMMARY:International Week
DESCRIPTION:
URL:https://www.nysmith.com/event/international-week/
LOCATION:VA
CATEGORIES:1st grade,2nd Grade,3rd Grade,4th Grade,5th Grade,6th Grade,7th Grade,8th Grade,Beginners,Kindergarten,Pre-Kindergarten
END:VEVENT
BEGIN:VEVENT
DTSTART;VALUE=DATE:20230307
DTEND;VALUE=DATE:20230308
DTSTAMP:20260422T194936
CREATED:20220926T172716Z
LAST-MODIFIED:20230307T180532Z
UID:35889-1678147200-1678233599@www.nysmith.com
SUMMARY:International Week
DESCRIPTION:
URL:https://www.nysmith.com/event/international-week-2/
LOCATION:VA
CATEGORIES:1st grade,2nd Grade,3rd Grade,4th Grade,5th Grade,6th Grade,7th Grade,8th Grade,Beginners,Kindergarten,Pre-Kindergarten
END:VEVENT
BEGIN:VEVENT
DTSTART;VALUE=DATE:20230307
DTEND;VALUE=DATE:20230308
DTSTAMP:20260422T194936
CREATED:20230301T212107Z
LAST-MODIFIED:20230307T180532Z
UID:37014-1678147200-1678233599@www.nysmith.com
SUMMARY:International Day Parade 8:30-9:00
DESCRIPTION:
URL:https://www.nysmith.com/event/international-day-parade-830-900/
LOCATION:VA
CATEGORIES:1st grade,2nd Grade,3rd Grade,4th Grade,5th Grade,6th Grade,7th Grade,8th Grade,Beginners,Kindergarten,Pre-Kindergarten
END:VEVENT
BEGIN:VEVENT
DTSTART;VALUE=DATE:20230308
DTEND;VALUE=DATE:20230309
DTSTAMP:20260422T194936
CREATED:20220926T172717Z
LAST-MODIFIED:20230308T182056Z
UID:35894-1678233600-1678319999@www.nysmith.com
SUMMARY:International Week
DESCRIPTION:
URL:https://www.nysmith.com/event/international-week-4/
LOCATION:VA
CATEGORIES:1st grade,2nd Grade,3rd Grade,4th Grade,5th Grade,6th Grade,7th Grade,8th Grade,Beginners,Kindergarten,Pre-Kindergarten
END:VEVENT
BEGIN:VEVENT
DTSTART;VALUE=DATE:20230309
DTEND;VALUE=DATE:20230310
DTSTAMP:20260422T194936
CREATED:20220926T172717Z
LAST-MODIFIED:20230309T182041Z
UID:35893-1678320000-1678406399@www.nysmith.com
SUMMARY:International Week
DESCRIPTION:
URL:https://www.nysmith.com/event/international-week-3/
LOCATION:VA
CATEGORIES:1st grade,2nd Grade,3rd Grade,4th Grade,5th Grade,6th Grade,7th Grade,8th Grade,Beginners,Kindergarten,Pre-Kindergarten
END:VEVENT
BEGIN:VEVENT
DTSTART;VALUE=DATE:20230310
DTEND;VALUE=DATE:20230311
DTSTAMP:20260422T194936
CREATED:20220926T172718Z
LAST-MODIFIED:20230310T182039Z
UID:35895-1678406400-1678492799@www.nysmith.com
SUMMARY:International Week
DESCRIPTION:
URL:https://www.nysmith.com/event/international-week-5/
LOCATION:VA
CATEGORIES:1st grade,2nd Grade,3rd Grade,4th Grade,5th Grade,6th Grade,7th Grade,8th Grade,Beginners,Kindergarten,Pre-Kindergarten
END:VEVENT
BEGIN:VEVENT
DTSTART;VALUE=DATE:20230313
DTEND;VALUE=DATE:20230314
DTSTAMP:20260422T194936
CREATED:20230306T143818Z
LAST-MODIFIED:20230313T192048Z
UID:37032-1678665600-1678751999@www.nysmith.com
SUMMARY:March Madness Dress Down Day
DESCRIPTION:
URL:https://www.nysmith.com/event/march-madness-dress-down-day/
LOCATION:VA
CATEGORIES:1st grade,2nd Grade,3rd Grade,4th Grade,5th Grade,6th Grade,7th Grade,8th Grade,Beginners,Kindergarten,Pre-Kindergarten
END:VEVENT
BEGIN:VEVENT
DTSTART;VALUE=DATE:20230315
DTEND;VALUE=DATE:20230316
DTSTAMP:20260422T194936
CREATED:20220926T172718Z
LAST-MODIFIED:20230315T193055Z
UID:35896-1678838400-1678924799@www.nysmith.com
SUMMARY:International Bazaar
DESCRIPTION:
URL:https://www.nysmith.com/event/international-bazaar-2/
LOCATION:VA
CATEGORIES:1st grade,2nd Grade,3rd Grade,4th Grade,5th Grade,6th Grade,7th Grade,8th Grade,Beginners,Kindergarten,Pre-Kindergarten
END:VEVENT
BEGIN:VEVENT
DTSTART;VALUE=DATE:20230317
DTEND;VALUE=DATE:20230318
DTSTAMP:20260422T194936
CREATED:20230131T191301Z
LAST-MODIFIED:20230317T195031Z
UID:36850-1679011200-1679097599@www.nysmith.com
SUMMARY:4th gr Field Trip
DESCRIPTION:
URL:https://www.nysmith.com/event/4th-gr-field-trip-2/
LOCATION:VA
CATEGORIES:4th Grade
END:VEVENT
BEGIN:VEVENT
DTSTART;VALUE=DATE:20230317
DTEND;VALUE=DATE:20230318
DTSTAMP:20260422T194936
CREATED:20230306T143820Z
LAST-MODIFIED:20230317T195032Z
UID:37033-1679011200-1679097599@www.nysmith.com
SUMMARY:St. Patricks Theme Dress Down Day
DESCRIPTION:
URL:https://www.nysmith.com/event/st-patricks-theme-dress-down-day/
LOCATION:VA
CATEGORIES:1st grade,2nd Grade,3rd Grade,4th Grade,5th Grade,6th Grade,7th Grade,8th Grade,Beginners,Kindergarten,Pre-Kindergarten
END:VEVENT
BEGIN:VEVENT
DTSTART;VALUE=DATE:20230322
DTEND;VALUE=DATE:20230323
DTSTAMP:20260422T194936
CREATED:20220926T172713Z
LAST-MODIFIED:20230322T173538Z
UID:35879-1679443200-1679529599@www.nysmith.com
SUMMARY:Career Day
DESCRIPTION:
URL:https://www.nysmith.com/event/career-day-2/
LOCATION:VA
CATEGORIES:1st grade,2nd Grade,3rd Grade,4th Grade,5th Grade,6th Grade,7th Grade,8th Grade,Beginners,Kindergarten,Pre-Kindergarten
END:VEVENT
BEGIN:VEVENT
DTSTART;VALUE=DATE:20230323
DTEND;VALUE=DATE:20230324
DTSTAMP:20260422T194936
CREATED:20220511T151826Z
LAST-MODIFIED:20230323T141001Z
UID:35131-1679529600-1679615999@www.nysmith.com
SUMMARY:Quarter 3 Ends
DESCRIPTION:
URL:https://www.nysmith.com/event/q3-ends/
LOCATION:VA
CATEGORIES:1st grade,2nd Grade,3rd Grade,4th Grade,5th Grade,6th Grade,7th Grade,8th Grade,Beginners,Kindergarten,Pre-Kindergarten
END:VEVENT
BEGIN:VEVENT
DTSTART;VALUE=DATE:20230324
DTEND;VALUE=DATE:20230325
DTSTAMP:20260422T194936
CREATED:20220504T144714Z
LAST-MODIFIED:20230324T142041Z
UID:35072-1679616000-1679702399@www.nysmith.com
SUMMARY:Teacher Work Day - Child Care Available
DESCRIPTION:
URL:https://www.nysmith.com/event/teacher-work-day-child-care-available-3/
LOCATION:VA
CATEGORIES:1st grade,2nd Grade,3rd Grade,4th Grade,5th Grade,6th Grade,7th Grade,8th Grade,Beginners,Kindergarten,Pre-Kindergarten
END:VEVENT
END:VCALENDAR