BEGIN:VCALENDAR
VERSION:2.0
PRODID:-//Nysmith School - ECPv6.9.0//NONSGML v1.0//EN
CALSCALE:GREGORIAN
METHOD:PUBLISH
X-ORIGINAL-URL:https://www.nysmith.com
X-WR-CALDESC:Events for Nysmith School
REFRESH-INTERVAL;VALUE=DURATION:PT1H
X-Robots-Tag:noindex
X-PUBLISHED-TTL:PT1H
BEGIN:VTIMEZONE
TZID:America/New_York
BEGIN:DAYLIGHT
TZOFFSETFROM:-0500
TZOFFSETTO:-0400
TZNAME:EDT
DTSTART:20220313T070000
END:DAYLIGHT
BEGIN:STANDARD
TZOFFSETFROM:-0400
TZOFFSETTO:-0500
TZNAME:EST
DTSTART:20221106T060000
END:STANDARD
END:VTIMEZONE
BEGIN:VEVENT
DTSTART;VALUE=DATE:20221003
DTEND;VALUE=DATE:20221004
DTSTAMP:20260425T162739
CREATED:20220926T172651Z
LAST-MODIFIED:20221003T180629Z
UID:35823-1664755200-1664841599@www.nysmith.com
SUMMARY:Socktober Sock Collection
DESCRIPTION:
URL:https://www.nysmith.com/event/socktober-sock-collection/
LOCATION:VA
CATEGORIES:1st grade,2nd Grade,3rd Grade,4th Grade,5th Grade,6th Grade,7th Grade,8th Grade,Beginners,Kindergarten,Pre-Kindergarten
END:VEVENT
BEGIN:VEVENT
DTSTART;VALUE=DATE:20221004
DTEND;VALUE=DATE:20221005
DTSTAMP:20260425T162739
CREATED:20220926T172652Z
LAST-MODIFIED:20221004T180537Z
UID:35825-1664841600-1664927999@www.nysmith.com
SUMMARY:Socktober Sock Collection
DESCRIPTION:
URL:https://www.nysmith.com/event/socktober-sock-collection-2/
LOCATION:VA
CATEGORIES:1st grade,2nd Grade,3rd Grade,4th Grade,5th Grade,6th Grade,7th Grade,8th Grade,Beginners,Kindergarten,Pre-Kindergarten
END:VEVENT
BEGIN:VEVENT
DTSTART;VALUE=DATE:20221005
DTEND;VALUE=DATE:20221006
DTSTAMP:20260425T162739
CREATED:20220926T172652Z
LAST-MODIFIED:20221005T180603Z
UID:35824-1664928000-1665014399@www.nysmith.com
SUMMARY:Fall Picture Day (4th-8th)
DESCRIPTION:
URL:https://www.nysmith.com/event/fall-picture-day-4th-8th/
LOCATION:VA
CATEGORIES:4th Grade,5th Grade,6th Grade,7th Grade,8th Grade
END:VEVENT
BEGIN:VEVENT
DTSTART;VALUE=DATE:20221005
DTEND;VALUE=DATE:20221006
DTSTAMP:20260425T162739
CREATED:20220926T172652Z
LAST-MODIFIED:20221005T180603Z
UID:35827-1664928000-1665014399@www.nysmith.com
SUMMARY:Socktober Sock Collection
DESCRIPTION:
URL:https://www.nysmith.com/event/socktober-sock-collection-3/
LOCATION:VA
CATEGORIES:1st grade,2nd Grade,3rd Grade,4th Grade,5th Grade,6th Grade,7th Grade,8th Grade,Beginners,Kindergarten,Pre-Kindergarten
END:VEVENT
BEGIN:VEVENT
DTSTART;VALUE=DATE:20221006
DTEND;VALUE=DATE:20221007
DTSTAMP:20260425T162739
CREATED:20220926T172653Z
LAST-MODIFIED:20221006T150240Z
UID:35828-1665014400-1665100799@www.nysmith.com
SUMMARY:Socktober Sock Collection
DESCRIPTION:
URL:https://www.nysmith.com/event/socktober-sock-collection-4/
LOCATION:VA
CATEGORIES:1st grade,2nd Grade,3rd Grade,4th Grade,5th Grade,6th Grade,7th Grade,8th Grade,Beginners,Kindergarten,Pre-Kindergarten
END:VEVENT
BEGIN:VEVENT
DTSTART;VALUE=DATE:20221007
DTEND;VALUE=DATE:20221008
DTSTAMP:20260425T162739
CREATED:20220926T172653Z
LAST-MODIFIED:20221007T150726Z
UID:35829-1665100800-1665187199@www.nysmith.com
SUMMARY:Socktober Sock Collection
DESCRIPTION:
URL:https://www.nysmith.com/event/socktober-sock-collection-5/
LOCATION:VA
CATEGORIES:1st grade,2nd Grade,3rd Grade,4th Grade,5th Grade,6th Grade,7th Grade,8th Grade,Beginners,Kindergarten,Pre-Kindergarten
END:VEVENT
BEGIN:VEVENT
DTSTART;VALUE=DATE:20221007
DTEND;VALUE=DATE:20221008
DTSTAMP:20260425T162739
CREATED:20221005T180601Z
LAST-MODIFIED:20221007T150725Z
UID:36138-1665100800-1665187199@www.nysmith.com
SUMMARY:National Smile Day - Wear What Makes You Smile
DESCRIPTION:
URL:https://www.nysmith.com/event/national-smile-day-wear-what-makes-you-smile/
LOCATION:VA
CATEGORIES:1st grade,2nd Grade,3rd Grade,4th Grade,5th Grade,6th Grade,7th Grade,8th Grade,Beginners,Kindergarten,Pre-Kindergarten
END:VEVENT
BEGIN:VEVENT
DTSTART;VALUE=DATE:20221010
DTEND;VALUE=DATE:20221011
DTSTAMP:20260425T162739
CREATED:20220504T144708Z
LAST-MODIFIED:20221010T150626Z
UID:35050-1665360000-1665446399@www.nysmith.com
SUMMARY:Indigenous People's Day - No School
DESCRIPTION:
URL:https://www.nysmith.com/event/indigenous-peoples-day-no-school/
LOCATION:VA
CATEGORIES:1st grade,2nd Grade,3rd Grade,4th Grade,5th Grade,6th Grade,7th Grade,8th Grade,Beginners,Kindergarten,Pre-Kindergarten
END:VEVENT
BEGIN:VEVENT
DTSTART;VALUE=DATE:20221011
DTEND;VALUE=DATE:20221012
DTSTAMP:20260425T162739
CREATED:20220926T172653Z
LAST-MODIFIED:20221011T150531Z
UID:35830-1665446400-1665532799@www.nysmith.com
SUMMARY:Socktober Sock Collection
DESCRIPTION:
URL:https://www.nysmith.com/event/socktober-sock-collection-6/
LOCATION:VA
CATEGORIES:1st grade,2nd Grade,3rd Grade,4th Grade,5th Grade,6th Grade,7th Grade,8th Grade,Beginners,Kindergarten,Pre-Kindergarten
END:VEVENT
BEGIN:VEVENT
DTSTART;VALUE=DATE:20221012
DTEND;VALUE=DATE:20221013
DTSTAMP:20260425T162739
CREATED:20220926T172654Z
LAST-MODIFIED:20221012T150650Z
UID:35832-1665532800-1665619199@www.nysmith.com
SUMMARY:Socktober Sock Collection
DESCRIPTION:
URL:https://www.nysmith.com/event/socktober-sock-collection-7/
LOCATION:VA
CATEGORIES:1st grade,2nd Grade,3rd Grade,4th Grade,5th Grade,6th Grade,7th Grade,8th Grade,Beginners,Kindergarten,Pre-Kindergarten
END:VEVENT
BEGIN:VEVENT
DTSTART;VALUE=DATE:20221012
DTEND;VALUE=DATE:20221013
DTSTAMP:20260425T162739
CREATED:20220926T172655Z
LAST-MODIFIED:20221012T150649Z
UID:35834-1665532800-1665619199@www.nysmith.com
SUMMARY:Special Olympics
DESCRIPTION:
URL:https://www.nysmith.com/event/special-olympics-2/
LOCATION:VA
CATEGORIES:1st grade,2nd Grade,3rd Grade,4th Grade,5th Grade,6th Grade,7th Grade,8th Grade,Beginners,Kindergarten,Pre-Kindergarten
END:VEVENT
BEGIN:VEVENT
DTSTART;VALUE=DATE:20221013
DTEND;VALUE=DATE:20221014
DTSTAMP:20260425T162739
CREATED:20220926T172654Z
LAST-MODIFIED:20221013T150758Z
UID:35833-1665619200-1665705599@www.nysmith.com
SUMMARY:Socktober Sock Collection
DESCRIPTION:
URL:https://www.nysmith.com/event/socktober-sock-collection-8/
LOCATION:VA
CATEGORIES:1st grade,2nd Grade,3rd Grade,4th Grade,5th Grade,6th Grade,7th Grade,8th Grade,Beginners,Kindergarten,Pre-Kindergarten
END:VEVENT
BEGIN:VEVENT
DTSTART;VALUE=DATE:20221013
DTEND;VALUE=DATE:20221014
DTSTAMP:20260425T162739
CREATED:20220926T172655Z
LAST-MODIFIED:20221013T150758Z
UID:35836-1665619200-1665705599@www.nysmith.com
SUMMARY:Special Olympics (raindate)
DESCRIPTION:
URL:https://www.nysmith.com/event/special-olympics-raindate/
LOCATION:VA
CATEGORIES:1st grade,2nd Grade,3rd Grade,4th Grade,5th Grade,6th Grade,7th Grade,8th Grade,Beginners,Kindergarten,Pre-Kindergarten
END:VEVENT
BEGIN:VEVENT
DTSTART;VALUE=DATE:20221014
DTEND;VALUE=DATE:20221015
DTSTAMP:20260425T162739
CREATED:20220926T172655Z
LAST-MODIFIED:20221014T150734Z
UID:35835-1665705600-1665791999@www.nysmith.com
SUMMARY:Socktober Sock Collection
DESCRIPTION:
URL:https://www.nysmith.com/event/socktober-sock-collection-9/
LOCATION:VA
CATEGORIES:1st grade,2nd Grade,3rd Grade,4th Grade,5th Grade,6th Grade,7th Grade,8th Grade,Beginners,Kindergarten,Pre-Kindergarten
END:VEVENT
BEGIN:VEVENT
DTSTART;VALUE=DATE:20221017
DTEND;VALUE=DATE:20221018
DTSTAMP:20260425T162739
CREATED:20220926T172656Z
LAST-MODIFIED:20221017T150655Z
UID:35838-1665964800-1666051199@www.nysmith.com
SUMMARY:Socktober Sock Collection
DESCRIPTION:
URL:https://www.nysmith.com/event/socktober-sock-collection-10/
LOCATION:VA
CATEGORIES:1st grade,2nd Grade,3rd Grade,4th Grade,5th Grade,6th Grade,7th Grade,8th Grade,Beginners,Kindergarten,Pre-Kindergarten
END:VEVENT
BEGIN:VEVENT
DTSTART;VALUE=DATE:20221017
DTEND;VALUE=DATE:20221018
DTSTAMP:20260425T162739
CREATED:20220926T172656Z
LAST-MODIFIED:20221017T150655Z
UID:35839-1665964800-1666051199@www.nysmith.com
SUMMARY:Fall Book Fair
DESCRIPTION:
URL:https://www.nysmith.com/event/fall-book-fair/
LOCATION:VA
CATEGORIES:1st grade,2nd Grade,3rd Grade,4th Grade,5th Grade,6th Grade,7th Grade,8th Grade,Beginners,Kindergarten,Pre-Kindergarten
END:VEVENT
BEGIN:VEVENT
DTSTART;VALUE=DATE:20221018
DTEND;VALUE=DATE:20221019
DTSTAMP:20260425T162739
CREATED:20220926T172656Z
LAST-MODIFIED:20221018T152037Z
UID:35841-1666051200-1666137599@www.nysmith.com
SUMMARY:Socktober Sock Collection
DESCRIPTION:
URL:https://www.nysmith.com/event/socktober-sock-collection-11/
LOCATION:VA
CATEGORIES:1st grade,2nd Grade,3rd Grade,4th Grade,5th Grade,6th Grade,7th Grade,8th Grade,Beginners,Kindergarten,Pre-Kindergarten
END:VEVENT
BEGIN:VEVENT
DTSTART;VALUE=DATE:20221018
DTEND;VALUE=DATE:20221019
DTSTAMP:20260425T162739
CREATED:20220926T172657Z
LAST-MODIFIED:20221018T152037Z
UID:35845-1666051200-1666137599@www.nysmith.com
SUMMARY:Fall Book Fair
DESCRIPTION:
URL:https://www.nysmith.com/event/fall-book-fair-4/
LOCATION:VA
CATEGORIES:1st grade,2nd Grade,3rd Grade,4th Grade,5th Grade,6th Grade,7th Grade,8th Grade,Beginners,Kindergarten,Pre-Kindergarten
END:VEVENT
BEGIN:VEVENT
DTSTART;VALUE=DATE:20221019
DTEND;VALUE=DATE:20221020
DTSTAMP:20260425T162739
CREATED:20220926T172656Z
LAST-MODIFIED:20221019T152239Z
UID:35840-1666137600-1666223999@www.nysmith.com
SUMMARY:Fall Book Fair
DESCRIPTION:
URL:https://www.nysmith.com/event/fall-book-fair-2/
LOCATION:VA
CATEGORIES:1st grade,2nd Grade,3rd Grade,4th Grade,5th Grade,6th Grade,7th Grade,8th Grade,Beginners,Kindergarten,Pre-Kindergarten
END:VEVENT
BEGIN:VEVENT
DTSTART;VALUE=DATE:20221019
DTEND;VALUE=DATE:20221020
DTSTAMP:20260425T162739
CREATED:20220926T172657Z
LAST-MODIFIED:20221019T152239Z
UID:35844-1666137600-1666223999@www.nysmith.com
SUMMARY:Socktober Sock Collection
DESCRIPTION:
URL:https://www.nysmith.com/event/socktober-sock-collection-13/
LOCATION:VA
CATEGORIES:1st grade,2nd Grade,3rd Grade,4th Grade,5th Grade,6th Grade,7th Grade,8th Grade,Beginners,Kindergarten,Pre-Kindergarten
END:VEVENT
BEGIN:VEVENT
DTSTART;VALUE=DATE:20221020
DTEND;VALUE=DATE:20221021
DTSTAMP:20260425T162739
CREATED:20220926T172657Z
LAST-MODIFIED:20221020T153603Z
UID:35843-1666224000-1666310399@www.nysmith.com
SUMMARY:Fall Book Fair
DESCRIPTION:
URL:https://www.nysmith.com/event/fall-book-fair-3/
LOCATION:VA
CATEGORIES:1st grade,2nd Grade,3rd Grade,4th Grade,5th Grade,6th Grade,7th Grade,8th Grade,Beginners,Kindergarten,Pre-Kindergarten
END:VEVENT
BEGIN:VEVENT
DTSTART;VALUE=DATE:20221020
DTEND;VALUE=DATE:20221021
DTSTAMP:20260425T162739
CREATED:20220926T172658Z
LAST-MODIFIED:20221020T153604Z
UID:35847-1666224000-1666310399@www.nysmith.com
SUMMARY:Socktober Sock Collection
DESCRIPTION:
URL:https://www.nysmith.com/event/socktober-sock-collection-14/
LOCATION:VA
CATEGORIES:1st grade,2nd Grade,3rd Grade,4th Grade,5th Grade,6th Grade,7th Grade,8th Grade,Beginners,Kindergarten,Pre-Kindergarten
END:VEVENT
BEGIN:VEVENT
DTSTART;VALUE=DATE:20221021
DTEND;VALUE=DATE:20221022
DTSTAMP:20260425T162739
CREATED:20220926T172657Z
LAST-MODIFIED:20221021T153558Z
UID:35842-1666310400-1666396799@www.nysmith.com
SUMMARY:Socktober Sock Collection
DESCRIPTION:
URL:https://www.nysmith.com/event/socktober-sock-collection-12/
LOCATION:VA
CATEGORIES:1st grade,2nd Grade,3rd Grade,4th Grade,5th Grade,6th Grade,7th Grade,8th Grade,Beginners,Kindergarten,Pre-Kindergarten
END:VEVENT
BEGIN:VEVENT
DTSTART;VALUE=DATE:20221021
DTEND;VALUE=DATE:20221022
DTSTAMP:20260425T162739
CREATED:20220926T172658Z
LAST-MODIFIED:20221021T153558Z
UID:35846-1666310400-1666396799@www.nysmith.com
SUMMARY:Fall Book Fair
DESCRIPTION:
URL:https://www.nysmith.com/event/fall-book-fair-5/
LOCATION:VA
CATEGORIES:1st grade,2nd Grade,3rd Grade,4th Grade,5th Grade,6th Grade,7th Grade,8th Grade,Beginners,Kindergarten,Pre-Kindergarten
END:VEVENT
BEGIN:VEVENT
DTSTART;VALUE=DATE:20221024
DTEND;VALUE=DATE:20221025
DTSTAMP:20260425T162739
CREATED:20220926T172658Z
LAST-MODIFIED:20221024T155149Z
UID:35849-1666569600-1666655999@www.nysmith.com
SUMMARY:Socktober Sock Collection
DESCRIPTION:
URL:https://www.nysmith.com/event/socktober-sock-collection-16/
LOCATION:VA
CATEGORIES:1st grade,2nd Grade,3rd Grade,4th Grade,5th Grade,6th Grade,7th Grade,8th Grade,Beginners,Kindergarten,Pre-Kindergarten
END:VEVENT
BEGIN:VEVENT
DTSTART;VALUE=DATE:20221025
DTEND;VALUE=DATE:20221026
DTSTAMP:20260425T162739
CREATED:20220926T172658Z
LAST-MODIFIED:20221025T155251Z
UID:35848-1666656000-1666742399@www.nysmith.com
SUMMARY:Socktober Sock Collection
DESCRIPTION:
URL:https://www.nysmith.com/event/socktober-sock-collection-15/
LOCATION:VA
CATEGORIES:1st grade,2nd Grade,3rd Grade,4th Grade,5th Grade,6th Grade,7th Grade,8th Grade,Beginners,Kindergarten,Pre-Kindergarten
END:VEVENT
BEGIN:VEVENT
DTSTART;VALUE=DATE:20221026
DTEND;VALUE=DATE:20221027
DTSTAMP:20260425T162739
CREATED:20220926T172659Z
LAST-MODIFIED:20221026T155042Z
UID:35850-1666742400-1666828799@www.nysmith.com
SUMMARY:Socktober Sock Collection
DESCRIPTION:
URL:https://www.nysmith.com/event/socktober-sock-collection-17/
LOCATION:VA
CATEGORIES:1st grade,2nd Grade,3rd Grade,4th Grade,5th Grade,6th Grade,7th Grade,8th Grade,Beginners,Kindergarten,Pre-Kindergarten
END:VEVENT
BEGIN:VEVENT
DTSTART;VALUE=DATE:20221027
DTEND;VALUE=DATE:20221028
DTSTAMP:20260425T162739
CREATED:20220926T172700Z
LAST-MODIFIED:20221027T155141Z
UID:35854-1666828800-1666915199@www.nysmith.com
SUMMARY:Socktober Sock Collection
DESCRIPTION:
URL:https://www.nysmith.com/event/socktober-sock-collection-18/
LOCATION:VA
CATEGORIES:1st grade,2nd Grade,3rd Grade,4th Grade,5th Grade,6th Grade,7th Grade,8th Grade,Beginners,Kindergarten,Pre-Kindergarten
END:VEVENT
BEGIN:VEVENT
DTSTART;VALUE=DATE:20221028
DTEND;VALUE=DATE:20221029
DTSTAMP:20260425T162739
CREATED:20220511T151821Z
LAST-MODIFIED:20221028T155143Z
UID:35129-1666915200-1667001599@www.nysmith.com
SUMMARY:Quarter 1 Ends
DESCRIPTION:
URL:https://www.nysmith.com/event/quarter-1-ends/
LOCATION:VA
CATEGORIES:1st grade,2nd Grade,3rd Grade,4th Grade,5th Grade,6th Grade,7th Grade,8th Grade,Beginners,Kindergarten,Pre-Kindergarten
END:VEVENT
BEGIN:VEVENT
DTSTART;VALUE=DATE:20221028
DTEND;VALUE=DATE:20221029
DTSTAMP:20260425T162739
CREATED:20220926T172659Z
LAST-MODIFIED:20221028T155142Z
UID:35853-1666915200-1667001599@www.nysmith.com
SUMMARY:Halloween Party K-8 1:45-2:45
DESCRIPTION:
URL:https://www.nysmith.com/event/halloween-party-k-8-145-245/
LOCATION:VA
CATEGORIES:1st grade,2nd Grade,3rd Grade,4th Grade,5th Grade,6th Grade,7th Grade,8th Grade,Kindergarten
END:VEVENT
BEGIN:VEVENT
DTSTART;VALUE=DATE:20221028
DTEND;VALUE=DATE:20221029
DTSTAMP:20260425T162739
CREATED:20220926T172700Z
LAST-MODIFIED:20221028T155143Z
UID:35855-1666915200-1667001599@www.nysmith.com
SUMMARY:Socktober Sock Collection
DESCRIPTION:
URL:https://www.nysmith.com/event/socktober-sock-collection-19/
LOCATION:VA
CATEGORIES:1st grade,2nd Grade,3rd Grade,4th Grade,5th Grade,6th Grade,7th Grade,8th Grade,Beginners,Kindergarten,Pre-Kindergarten
END:VEVENT
BEGIN:VEVENT
DTSTART;VALUE=DATE:20221031
DTEND;VALUE=DATE:20221101
DTSTAMP:20260425T162739
CREATED:20221018T152039Z
LAST-MODIFIED:20221031T181112Z
UID:36197-1667174400-1667260799@www.nysmith.com
SUMMARY:Food Drive
DESCRIPTION:
URL:https://www.nysmith.com/event/food-drive/
LOCATION:VA
CATEGORIES:1st grade,2nd Grade,3rd Grade,4th Grade,5th Grade,6th Grade,7th Grade,8th Grade,Beginners,Kindergarten,Pre-Kindergarten
END:VEVENT
END:VCALENDAR