BEGIN:VCALENDAR
VERSION:2.0
PRODID:-//Nysmith School - ECPv6.9.0//NONSGML v1.0//EN
CALSCALE:GREGORIAN
METHOD:PUBLISH
X-WR-CALNAME:Nysmith School
X-ORIGINAL-URL:https://www.nysmith.com
X-WR-CALDESC:Events for Nysmith School
REFRESH-INTERVAL;VALUE=DURATION:PT1H
X-Robots-Tag:noindex
X-PUBLISHED-TTL:PT1H
BEGIN:VTIMEZONE
TZID:America/New_York
BEGIN:DAYLIGHT
TZOFFSETFROM:-0500
TZOFFSETTO:-0400
TZNAME:EDT
DTSTART:20240310T070000
END:DAYLIGHT
BEGIN:STANDARD
TZOFFSETFROM:-0400
TZOFFSETTO:-0500
TZNAME:EST
DTSTART:20241103T060000
END:STANDARD
END:VTIMEZONE
BEGIN:VEVENT
DTSTART;VALUE=DATE:20241003
DTEND;VALUE=DATE:20241004
DTSTAMP:20260422T183442
CREATED:20240905T135519Z
LAST-MODIFIED:20241003T150514Z
UID:41560-1727913600-1727999999@www.nysmith.com
SUMMARY:Lower School Beg-3rd Fall Pictures
DESCRIPTION:
URL:https://www.nysmith.com/event/lower-school-beg-3rd-fall-pictures/
LOCATION:13625 EDS Dr\, Herndon\, VA\, United States
CATEGORIES:1st grade,2nd Grade,3rd Grade,Beginners,Kindergarten,Pre-Kindergarten
GEO:38.92518;-77.39284
END:VEVENT
BEGIN:VEVENT
DTSTART;VALUE=DATE:20241009
DTEND;VALUE=DATE:20241010
DTSTAMP:20260422T183442
CREATED:20240912T153025Z
LAST-MODIFIED:20241009T183229Z
UID:41598-1728432000-1728518399@www.nysmith.com
SUMMARY:K-8 Morning Fun Run 7:30am
DESCRIPTION:
URL:https://www.nysmith.com/event/k-8-morning-fun-run-730am-2/
LOCATION:13625 EDS Dr\, Herndon\, VA\, United States
CATEGORIES:1st grade,2nd Grade,3rd Grade,4th Grade,5th Grade,6th Grade,7th Grade,8th Grade,Kindergarten
GEO:38.92518;-77.39284
END:VEVENT
BEGIN:VEVENT
DTSTART;VALUE=DATE:20241016
DTEND;VALUE=DATE:20241017
DTSTAMP:20260422T183442
CREATED:20240912T191154Z
LAST-MODIFIED:20241016T161754Z
UID:41619-1729036800-1729123199@www.nysmith.com
SUMMARY:Special Olympics
DESCRIPTION:
URL:https://www.nysmith.com/event/special-olympics-3/
LOCATION:13625 EDS Dr\, Herndon\, VA\, United States
CATEGORIES:1st grade,2nd Grade,3rd Grade,4th Grade,5th Grade,6th Grade,7th Grade,8th Grade,Beginners,Kindergarten,Pre-Kindergarten
GEO:38.92518;-77.39284
END:VEVENT
BEGIN:VEVENT
DTSTART;VALUE=DATE:20241019
DTEND;VALUE=DATE:20241020
DTSTAMP:20260422T183442
CREATED:20240927T173545Z
LAST-MODIFIED:20241019T163232Z
UID:41747-1729296000-1729382399@www.nysmith.com
SUMMARY:1st gr Meet Up 11:30am - 1:30pm
DESCRIPTION:
URL:https://www.nysmith.com/event/1st-gr-meet-up-1130am-130pm/
LOCATION:13625 EDS Dr\, Herndon\, VA\, United States
CATEGORIES:1st grade
GEO:38.92518;-77.39284
END:VEVENT
END:VCALENDAR