BEGIN:VCALENDAR
VERSION:2.0
PRODID:-//Nysmith School - ECPv6.9.0//NONSGML v1.0//EN
CALSCALE:GREGORIAN
METHOD:PUBLISH
X-WR-CALNAME:Nysmith School
X-ORIGINAL-URL:https://www.nysmith.com
X-WR-CALDESC:Events for Nysmith School
REFRESH-INTERVAL;VALUE=DURATION:PT1H
X-Robots-Tag:noindex
X-PUBLISHED-TTL:PT1H
BEGIN:VTIMEZONE
TZID:America/New_York
BEGIN:DAYLIGHT
TZOFFSETFROM:-0500
TZOFFSETTO:-0400
TZNAME:EDT
DTSTART:20240310T070000
END:DAYLIGHT
BEGIN:STANDARD
TZOFFSETFROM:-0400
TZOFFSETTO:-0500
TZNAME:EST
DTSTART:20241103T060000
END:STANDARD
END:VTIMEZONE
BEGIN:VEVENT
DTSTART;VALUE=DATE:20240603
DTEND;VALUE=DATE:20240604
DTSTAMP:20260423T013048
CREATED:20240506T184309Z
LAST-MODIFIED:20240603T145003Z
UID:40985-1717372800-1717459199@www.nysmith.com
SUMMARY:1A and 1D Field Trip
DESCRIPTION:
URL:https://www.nysmith.com/event/1a-and-1d-field-trip/
LOCATION:Nysmith School\, 13625 EDS Dr\, Herndon\, VA 20171\, USA
CATEGORIES:1st grade
END:VEVENT
BEGIN:VEVENT
DTSTART;VALUE=DATE:20240604
DTEND;VALUE=DATE:20240605
DTSTAMP:20260423T013048
CREATED:20240506T184310Z
LAST-MODIFIED:20240604T144817Z
UID:40986-1717459200-1717545599@www.nysmith.com
SUMMARY:1B and 1C Field Trip
DESCRIPTION:
URL:https://www.nysmith.com/event/1b-and-1c-field-trip/
LOCATION:Nysmith School\, 13625 EDS Dr\, Herndon\, VA 20171\, USA
CATEGORIES:1st grade
END:VEVENT
BEGIN:VEVENT
DTSTART;VALUE=DATE:20240613
DTEND;VALUE=DATE:20240614
DTSTAMP:20260423T013048
CREATED:20230814T155048Z
LAST-MODIFIED:20240613T164107Z
UID:38883-1718236800-1718323199@www.nysmith.com
SUMMARY:Last Day of School
DESCRIPTION:
URL:https://www.nysmith.com/event/last-day-of-school-3/
LOCATION:VA
CATEGORIES:1st grade,2nd Grade,3rd Grade,4th Grade,5th Grade,6th Grade,7th Grade,Beginners,Kindergarten,Pre-Kindergarten
END:VEVENT
END:VCALENDAR