BEGIN:VCALENDAR
VERSION:2.0
PRODID:-//Nysmith School - ECPv6.9.0//NONSGML v1.0//EN
CALSCALE:GREGORIAN
METHOD:PUBLISH
X-WR-CALNAME:Nysmith School
X-ORIGINAL-URL:https://www.nysmith.com
X-WR-CALDESC:Events for Nysmith School
REFRESH-INTERVAL;VALUE=DURATION:PT1H
X-Robots-Tag:noindex
X-PUBLISHED-TTL:PT1H
BEGIN:VTIMEZONE
TZID:America/New_York
BEGIN:DAYLIGHT
TZOFFSETFROM:-0500
TZOFFSETTO:-0400
TZNAME:EDT
DTSTART:20250309T070000
END:DAYLIGHT
BEGIN:STANDARD
TZOFFSETFROM:-0400
TZOFFSETTO:-0500
TZNAME:EST
DTSTART:20251102T060000
END:STANDARD
END:VTIMEZONE
BEGIN:VEVENT
DTSTART;VALUE=DATE:20250324
DTEND;VALUE=DATE:20250325
DTSTAMP:20260422T184904
CREATED:20241218T172954Z
LAST-MODIFIED:20250324T153223Z
UID:42161-1742774400-1742860799@www.nysmith.com
SUMMARY:8th gr Overnight Field Trip
DESCRIPTION:
URL:https://www.nysmith.com/event/8th-gr-overnight-field-trip/
LOCATION:13625 EDS Dr\, Herndon\, VA\, United States
CATEGORIES:8th Grade
GEO:38.92518;-77.39284
END:VEVENT
BEGIN:VEVENT
DTSTART;VALUE=DATE:20250327
DTEND;VALUE=DATE:20250328
DTSTAMP:20260422T184904
CREATED:20240912T153031Z
LAST-MODIFIED:20250327T165849Z
UID:41603-1743033600-1743119999@www.nysmith.com
SUMMARY:K-8 Morning Fun Run 7:30am
DESCRIPTION:
URL:https://www.nysmith.com/event/k-8-morning-fun-run-730am-7/
LOCATION:13625 EDS Dr\, Herndon\, VA\, United States
CATEGORIES:1st grade,2nd Grade,3rd Grade,4th Grade,5th Grade,6th Grade,7th Grade,8th Grade,Kindergarten
GEO:38.92518;-77.39284
END:VEVENT
BEGIN:VEVENT
DTSTART;VALUE=DATE:20250409
DTEND;VALUE=DATE:20250410
DTSTAMP:20260422T184904
CREATED:20240912T153031Z
LAST-MODIFIED:20250409T173932Z
UID:41604-1744156800-1744243199@www.nysmith.com
SUMMARY:K-8 Morning Fun Run 7:30am
DESCRIPTION:
URL:https://www.nysmith.com/event/k-8-morning-fun-run-730am-8/
LOCATION:13625 EDS Dr\, Herndon\, VA\, United States
CATEGORIES:1st grade,2nd Grade,3rd Grade,4th Grade,5th Grade,6th Grade,7th Grade,8th Grade,Kindergarten
GEO:38.92518;-77.39284
END:VEVENT
BEGIN:VEVENT
DTSTART;VALUE=DATE:20250423
DTEND;VALUE=DATE:20250424
DTSTAMP:20260422T184904
CREATED:20240912T153032Z
LAST-MODIFIED:20250423T173226Z
UID:41605-1745366400-1745452799@www.nysmith.com
SUMMARY:K-8 Morning Fun Run 7:30am
DESCRIPTION:
URL:https://www.nysmith.com/event/k-8-morning-fun-run-730am-9/
LOCATION:13625 EDS Dr\, Herndon\, VA\, United States
CATEGORIES:1st grade,2nd Grade,3rd Grade,4th Grade,5th Grade,6th Grade,7th Grade,8th Grade,Kindergarten
GEO:38.92518;-77.39284
END:VEVENT
BEGIN:VEVENT
DTSTART;VALUE=DATE:20250425
DTEND;VALUE=DATE:20250426
DTSTAMP:20260422T184904
CREATED:20241210T153723Z
LAST-MODIFIED:20250425T174357Z
UID:42135-1745539200-1745625599@www.nysmith.com
SUMMARY:SCA Spring Dance (Grades 6\, 7\, 8) 7-9pm
DESCRIPTION:
URL:https://www.nysmith.com/event/sca-spring-dance-grades-6-7-8-7-9pm/
LOCATION:13625 EDS Dr\, Herndon\, VA\, United States
CATEGORIES:6th Grade,7th Grade,8th Grade
GEO:38.92518;-77.39284
END:VEVENT
BEGIN:VEVENT
DTSTART;VALUE=DATE:20250501
DTEND;VALUE=DATE:20250502
DTSTAMP:20260422T184904
CREATED:20240905T135524Z
LAST-MODIFIED:20250501T143230Z
UID:41564-1746057600-1746143999@www.nysmith.com
SUMMARY:Upper School 4th-8th Spring Pictures
DESCRIPTION:
URL:https://www.nysmith.com/event/upper-school-4th-8th-spring-pictures/
LOCATION:13625 EDS Dr\, Herndon\, VA\, United States
CATEGORIES:4th Grade,5th Grade,6th Grade,7th Grade,8th Grade
GEO:38.92518;-77.39284
END:VEVENT
BEGIN:VEVENT
DTSTART;VALUE=DATE:20250505
DTEND;VALUE=DATE:20250506
DTSTAMP:20260422T184904
CREATED:20240912T153033Z
LAST-MODIFIED:20250505T150231Z
UID:41606-1746403200-1746489599@www.nysmith.com
SUMMARY:K-8 Morning Fun Run 7:30am
DESCRIPTION:
URL:https://www.nysmith.com/event/k-8-morning-fun-run-730am-10/
LOCATION:13625 EDS Dr\, Herndon\, VA\, United States
CATEGORIES:1st grade,2nd Grade,3rd Grade,4th Grade,5th Grade,6th Grade,7th Grade,8th Grade,Kindergarten
GEO:38.92518;-77.39284
END:VEVENT
BEGIN:VEVENT
DTSTART;VALUE=DATE:20250512
DTEND;VALUE=DATE:20250513
DTSTAMP:20260422T184904
CREATED:20250424T180621Z
LAST-MODIFIED:20250512T151844Z
UID:43100-1747008000-1747094399@www.nysmith.com
SUMMARY:Foreign Language Food Trucks 6th 7th 8th
DESCRIPTION:
URL:https://www.nysmith.com/event/foreign-language-food-trucks-6th-7th-8th/
LOCATION:13625 EDS Dr\, Herndon\, VA\, United States
CATEGORIES:6th Grade,7th Grade,8th Grade
GEO:38.92518;-77.39284
END:VEVENT
BEGIN:VEVENT
DTSTART;VALUE=DATE:20250519
DTEND;VALUE=DATE:20250520
DTSTAMP:20260422T184904
CREATED:20240912T153033Z
LAST-MODIFIED:20250519T174736Z
UID:41607-1747612800-1747699199@www.nysmith.com
SUMMARY:K-8 Morning Fun Run 7:30am
DESCRIPTION:
URL:https://www.nysmith.com/event/k-8-morning-fun-run-730am-11/
LOCATION:13625 EDS Dr\, Herndon\, VA\, United States
CATEGORIES:1st grade,2nd Grade,3rd Grade,4th Grade,5th Grade,6th Grade,7th Grade,8th Grade,Kindergarten
GEO:38.92518;-77.39284
END:VEVENT
BEGIN:VEVENT
DTSTART;VALUE=DATE:20250523
DTEND;VALUE=DATE:20250524
DTSTAMP:20260422T184904
CREATED:20250218T190034Z
LAST-MODIFIED:20250523T180244Z
UID:42372-1747958400-1748044799@www.nysmith.com
SUMMARY:Field Day 4th-8th grade
DESCRIPTION:
URL:https://www.nysmith.com/event/field-day-4th-8th-grade/
LOCATION:13625 EDS Dr\, Herndon\, VA\, United States
CATEGORIES:4th Grade,5th Grade,6th Grade,7th Grade,8th Grade
GEO:38.92518;-77.39284
END:VEVENT
BEGIN:VEVENT
DTSTART;VALUE=DATE:20250530
DTEND;VALUE=DATE:20250531
DTSTAMP:20260422T184904
CREATED:20250425T174357Z
LAST-MODIFIED:20250530T181852Z
UID:43113-1748563200-1748649599@www.nysmith.com
SUMMARY:8th gr Field Trip
DESCRIPTION:
URL:https://www.nysmith.com/event/8th-gr-field-trip-3/
LOCATION:13625 EDS Dr\, Herndon\, VA\, United States
CATEGORIES:8th Grade
GEO:38.92518;-77.39284
END:VEVENT
BEGIN:VEVENT
DTSTART;VALUE=DATE:20250604
DTEND;VALUE=DATE:20250605
DTSTAMP:20260422T184904
CREATED:20240905T135524Z
LAST-MODIFIED:20250604T183248Z
UID:41565-1748995200-1749081599@www.nysmith.com
SUMMARY:Graduation Rehearsal and Portraits
DESCRIPTION:
URL:https://www.nysmith.com/event/graduation-rehearsal-and-portraits/
LOCATION:13625 EDS Dr\, Herndon\, VA\, United States
CATEGORIES:8th Grade
GEO:38.92518;-77.39284
END:VEVENT
BEGIN:VEVENT
DTSTART;VALUE=DATE:20250604
DTEND;VALUE=DATE:20250605
DTSTAMP:20260422T184904
CREATED:20250514T193538Z
LAST-MODIFIED:20250604T183248Z
UID:43179-1748995200-1749081599@www.nysmith.com
SUMMARY:Graduation Performances 1:30pm
DESCRIPTION:
URL:https://www.nysmith.com/event/graduation-performances-130pm/
LOCATION:13625 EDS Dr\, Herndon\, VA\, United States
CATEGORIES:8th Grade
GEO:38.92518;-77.39284
END:VEVENT
BEGIN:VEVENT
DTSTART;VALUE=DATE:20250605
DTEND;VALUE=DATE:20250606
DTSTAMP:20260422T184904
CREATED:20240308T154416Z
LAST-MODIFIED:20250605T183252Z
UID:40822-1749081600-1749167999@www.nysmith.com
SUMMARY:8th grade Graduation
DESCRIPTION:
URL:https://www.nysmith.com/event/8th-grade-graduation-4/
LOCATION:VA
CATEGORIES:8th Grade
END:VEVENT
END:VCALENDAR